BEGIN:VCALENDAR
VERSION:2.0
PRODID:-//Loyalist College - ECPv6.15.18//NONSGML v1.0//EN
CALSCALE:GREGORIAN
METHOD:PUBLISH
X-WR-CALNAME:Loyalist College
X-ORIGINAL-URL:https://loyalistcollege.com
X-WR-CALDESC:Events for Loyalist College
REFRESH-INTERVAL;VALUE=DURATION:PT1H
X-Robots-Tag:noindex
X-PUBLISHED-TTL:PT1H
BEGIN:VTIMEZONE
TZID:America/Toronto
BEGIN:DAYLIGHT
TZOFFSETFROM:-0500
TZOFFSETTO:-0400
TZNAME:EDT
DTSTART:20240310T070000
END:DAYLIGHT
BEGIN:STANDARD
TZOFFSETFROM:-0400
TZOFFSETTO:-0500
TZNAME:EST
DTSTART:20241103T060000
END:STANDARD
BEGIN:DAYLIGHT
TZOFFSETFROM:-0500
TZOFFSETTO:-0400
TZNAME:EDT
DTSTART:20250309T070000
END:DAYLIGHT
BEGIN:STANDARD
TZOFFSETFROM:-0400
TZOFFSETTO:-0500
TZNAME:EST
DTSTART:20251102T060000
END:STANDARD
BEGIN:DAYLIGHT
TZOFFSETFROM:-0500
TZOFFSETTO:-0400
TZNAME:EDT
DTSTART:20260308T070000
END:DAYLIGHT
BEGIN:STANDARD
TZOFFSETFROM:-0400
TZOFFSETTO:-0500
TZNAME:EST
DTSTART:20261101T060000
END:STANDARD
END:VTIMEZONE
BEGIN:VEVENT
DTSTART;TZID=America/Toronto:20250522T120000
DTEND;TZID=America/Toronto:20250522T130000
DTSTAMP:20260422T050940
CREATED:20250425T192216Z
LAST-MODIFIED:20250425T192216Z
UID:17967-1747915200-1747918800@loyalistcollege.com
SUMMARY:Country Workout Hour
DESCRIPTION:Saddle up for Country Hour in the Fitness Centre! Get your heart pumping to country hits while you sweat it out with some down-home workout vibes!
URL:https://loyalistcollege.com/event/country-workout-hour-5/
CATEGORIES:Campus rec,Student events
END:VEVENT
BEGIN:VEVENT
DTSTART;TZID=America/Toronto:20250521T180000
DTEND;TZID=America/Toronto:20250521T200000
DTSTAMP:20260422T050940
CREATED:20250212T161819Z
LAST-MODIFIED:20250425T135856Z
UID:16246-1747850400-1747857600@loyalistcollege.com
SUMMARY:OSAP Information Night
DESCRIPTION:In this session\, you will have the opportunity to: \n\nLearn about the Ontario Student Assistance Program (OSAP)\nDiscover the Ontario Stay and Learn Grant for Loyalist approved programs\nLearn how to apply for OSAP\nAsk questions during the Q&A period following the presentation\nExplore Loyalist College with a guided tour of campus\n\nChoose from two session times: 6 PM or 7 PM. \nThe event is open to all students\, whether heading to college or university. \nRegister here for free
URL:https://loyalistcollege.com/event/osap-information-night/
LOCATION:Wilkinson Lecture Hall\, Room 2H12\, Kente Building\, 376 Wallbridge-Loyalist Rd.\, Belleville\, Ontario\, K8N5B9\, Canada
CATEGORIES:Community,General
ATTACH;FMTTYPE=image/png:https://loyalistcollege.com/app/uploads/2025/02/OSAP-Info-Session_Prepped_for_web.png
END:VEVENT
BEGIN:VEVENT
DTSTART;TZID=America/Toronto:20250520T170000
DTEND;TZID=America/Toronto:20250520T190000
DTSTAMP:20260422T050940
CREATED:20250425T192121Z
LAST-MODIFIED:20250425T192121Z
UID:17965-1747760400-1747767600@loyalistcollege.com
SUMMARY:Drop-in Cricket
DESCRIPTION:Whether you’re new to the game or a seasoned pro\, join in for some fun and exercise!
URL:https://loyalistcollege.com/event/drop-in-cricket-4/
LOCATION:Outdoor Sports Court
CATEGORIES:Campus rec,Student events
END:VEVENT
BEGIN:VEVENT
DTSTART;TZID=America/Toronto:20250520T110000
DTEND;TZID=America/Toronto:20250520T130000
DTSTAMP:20260422T050940
CREATED:20250425T191514Z
LAST-MODIFIED:20250425T194636Z
UID:17963-1747738800-1747746000@loyalistcollege.com
SUMMARY:Silent Disco Party
DESCRIPTION:Dance to your own beat at our Silent Disco Party in the Shark Tank Pub — where everyone wears headphones\, and the vibe is unforgettable!
URL:https://loyalistcollege.com/event/silent-disco-party/
LOCATION:Shark Tank Pub\, Kente\, 376 Wallbridge Loyalist Rd.\, Belleville\, Ontario\, K8N 5B9\, Canada
CATEGORIES:Student events
ATTACH;FMTTYPE=image/png:https://loyalistcollege.com/app/uploads/2025/04/Silent-disco_Prepped-for-web.png
END:VEVENT
BEGIN:VEVENT
DTSTART;TZID=America/Toronto:20250518T190000
DTEND;TZID=America/Toronto:20250518T210000
DTSTAMP:20260422T050940
CREATED:20250425T191313Z
LAST-MODIFIED:20250425T191313Z
UID:17961-1747594800-1747602000@loyalistcollege.com
SUMMARY:Social Sunday
DESCRIPTION:Join us for a relaxed\, fun gathering for residents to connect\, unwind\, and enjoy events together.
URL:https://loyalistcollege.com/event/social-sunday-3/
LOCATION:Residence commons
CATEGORIES:Residence programming,Student events
END:VEVENT
BEGIN:VEVENT
DTSTART;TZID=America/Toronto:20250515T120000
DTEND;TZID=America/Toronto:20250515T130000
DTSTAMP:20260422T050940
CREATED:20250425T191146Z
LAST-MODIFIED:20250425T191146Z
UID:17959-1747310400-1747314000@loyalistcollege.com
SUMMARY:Country Workout Hour
DESCRIPTION:Saddle up for Country Hour in the Fitness Centre! Get your heart pumping to country hits while you sweat it out with some down-home workout vibes!
URL:https://loyalistcollege.com/event/country-workout-hour-4/
LOCATION:Fitness Centre (Room 1H5)\, Kente\, 376 Wallbridge Loyalist Rd.\, Belleville\, Ontario\, K8N 5B9\, Canada
CATEGORIES:Campus rec,Student events
END:VEVENT
BEGIN:VEVENT
DTSTART;TZID=America/Toronto:20250514T120000
DTEND;TZID=America/Toronto:20250514T130000
DTSTAMP:20260422T050940
CREATED:20250425T191038Z
LAST-MODIFIED:20250425T191038Z
UID:17957-1747224000-1747227600@loyalistcollege.com
SUMMARY:Drop-in Badminton
DESCRIPTION:Grab a friend and join us for Drop-In Badminton from 12–1 PM—no experience needed and equipment is provided! Open to all skill levels for some fun\, active play!
URL:https://loyalistcollege.com/event/drop-in-badminton-4/
LOCATION:Gym\, Kente\, 376 Wallbridge Loyalist Rd.\, Belleville\, Ontario\, K8N 5B9\, Canada
CATEGORIES:Campus rec,Student events
END:VEVENT
BEGIN:VEVENT
DTSTART;TZID=America/Toronto:20250514T120000
DTEND;TZID=America/Toronto:20250514T130000
DTSTAMP:20260422T050940
CREATED:20250425T190938Z
LAST-MODIFIED:20250425T190938Z
UID:17955-1747224000-1747227600@loyalistcollege.com
SUMMARY:Resume Clinic
DESCRIPTION:Get personalized feedback on your resume and learn how to showcase your skills and experience to stand out in today’s job market.
URL:https://loyalistcollege.com/event/resume-clinic-3/
LOCATION:Room 2H3\, Kente\, 376 Wallbridge Loyalist Rd.\, Belleville\, Ontario\, K8N 5B9\, Canada
CATEGORIES:Career services,Student events
END:VEVENT
BEGIN:VEVENT
DTSTART;TZID=America/Toronto:20250513T170000
DTEND;TZID=America/Toronto:20250513T190000
DTSTAMP:20260422T050940
CREATED:20250425T190818Z
LAST-MODIFIED:20250425T190818Z
UID:17953-1747155600-1747162800@loyalistcollege.com
SUMMARY:Drop-in Cricket
DESCRIPTION:Whether you’re new to the game or a seasoned pro\, join in for some fun and exercise!
URL:https://loyalistcollege.com/event/drop-in-cricket-3/
LOCATION:Outdoor Sports Court
CATEGORIES:Campus rec,Student events
END:VEVENT
BEGIN:VEVENT
DTSTART;TZID=America/Toronto:20250513T110000
DTEND;TZID=America/Toronto:20250513T130000
DTSTAMP:20260422T050940
CREATED:20250423T153317Z
LAST-MODIFIED:20250425T130812Z
UID:17825-1747134000-1747141200@loyalistcollege.com
SUMMARY:Sharkie Social: Bracelet Making
DESCRIPTION:Join us for another Sharkie Social\, Friendship Bracelet Making for an afternoon of creativity and connection! Unleash your creativity as you craft friendship bracelets to share with friends. It’s a great way to express yourself\, make new friends\, and enjoy a fun\, uplifting experience.
URL:https://loyalistcollege.com/event/sharkie-social-bracelet-making/
LOCATION:Shark Tank Pub\, Kente\, 376 Wallbridge Loyalist Rd.\, Belleville\, Ontario\, K8N 5B9\, Canada
CATEGORIES:Student events
ATTACH;FMTTYPE=image/png:https://loyalistcollege.com/app/uploads/2025/04/Bracelet-making_Prepped-for-web.png
END:VEVENT
BEGIN:VEVENT
DTSTART;TZID=America/Toronto:20250512T120000
DTEND;TZID=America/Toronto:20250512T130000
DTSTAMP:20260422T050940
CREATED:20250425T190333Z
LAST-MODIFIED:20250425T190333Z
UID:17951-1747051200-1747054800@loyalistcollege.com
SUMMARY:'90s Hits Workout Hour
DESCRIPTION:Break out the neon and crank up the throwback jams! Join us for a ’90s Workout Hour in the Fitness Centre—retro vibes\, fun moves\, and feel-good energy guaranteed!
URL:https://loyalistcollege.com/event/90s-hits-workout-hour-2/
LOCATION:Fitness Centre (Room 1H5)\, Kente\, 376 Wallbridge Loyalist Rd.\, Belleville\, Ontario\, K8N 5B9\, Canada
CATEGORIES:Campus rec,Student events
END:VEVENT
BEGIN:VEVENT
DTSTART;TZID=America/Toronto:20250511T190000
DTEND;TZID=America/Toronto:20250511T210000
DTSTAMP:20260422T050940
CREATED:20250425T190137Z
LAST-MODIFIED:20250425T190137Z
UID:17949-1746990000-1746997200@loyalistcollege.com
SUMMARY:Social Sunday
DESCRIPTION:Join us for a relaxed\, fun gathering for residents to connect\, unwind\, and enjoy events together.
URL:https://loyalistcollege.com/event/social-sunday-2/
LOCATION:Residence commons
CATEGORIES:Residence programming,Student events
END:VEVENT
BEGIN:VEVENT
DTSTART;TZID=America/Toronto:20250509T190000
DTEND;TZID=America/Toronto:20250509T210000
DTSTAMP:20260422T050940
CREATED:20250425T190000Z
LAST-MODIFIED:20250425T190022Z
UID:17946-1746817200-1746824400@loyalistcollege.com
SUMMARY:Grocery Bingo
DESCRIPTION:Come play bingo and win prizes like air fryers\, blenders\, grocery baskets and more.
URL:https://loyalistcollege.com/event/grocery-bingo/
LOCATION:Residence commons
CATEGORIES:Residence programming,Student events
END:VEVENT
BEGIN:VEVENT
DTSTART;TZID=America/Toronto:20250508T140000
DTEND;TZID=America/Toronto:20250508T170000
DTSTAMP:20260422T050940
CREATED:20250423T153536Z
LAST-MODIFIED:20250502T172903Z
UID:17827-1746712800-1746723600@loyalistcollege.com
SUMMARY:Campfires on Campus
DESCRIPTION:Join us outside at the campfire pits for a cozy and fun afternoon! Enjoy the warmth of the fire\, good company\, and a chance to unwind. Don’t forget to bring your friends and make the most of this outdoor gathering!
URL:https://loyalistcollege.com/event/camp-fires-on-campus/
LOCATION:Outdoor fire pits
CATEGORIES:Student events
ATTACH;FMTTYPE=image/png:https://loyalistcollege.com/app/uploads/2025/04/Campfire-nights_Prepped-for-web.png
END:VEVENT
BEGIN:VEVENT
DTSTART;TZID=America/Toronto:20250508T120000
DTEND;TZID=America/Toronto:20250508T130000
DTSTAMP:20260422T050940
CREATED:20250425T185836Z
LAST-MODIFIED:20250425T185836Z
UID:17944-1746705600-1746709200@loyalistcollege.com
SUMMARY:Country Workout Hour
DESCRIPTION:Saddle up for Country Hour in the Fitness Centre! Get your heart pumping to country hits while you sweat it out with some down-home workout vibes!
URL:https://loyalistcollege.com/event/country-workout-hour-3/
LOCATION:Fitness Centre (Room 1H5)\, Kente\, 376 Wallbridge Loyalist Rd.\, Belleville\, Ontario\, K8N 5B9\, Canada
CATEGORIES:Campus rec,Student events
END:VEVENT
BEGIN:VEVENT
DTSTART;TZID=America/Toronto:20250507T120000
DTEND;TZID=America/Toronto:20250507T130000
DTSTAMP:20260422T050940
CREATED:20250425T185318Z
LAST-MODIFIED:20250425T185318Z
UID:17942-1746619200-1746622800@loyalistcollege.com
SUMMARY:Resume Clinic
DESCRIPTION:Get personalized feedback on your resume and learn how to showcase your skills and experience to stand out in today’s job market.
URL:https://loyalistcollege.com/event/resume-clinic-2/
LOCATION:Room 2H3\, Kente\, 376 Wallbridge Loyalist Rd.\, Belleville\, Ontario\, K8N 5B9\, Canada
CATEGORIES:Career services,Student events
END:VEVENT
BEGIN:VEVENT
DTSTART;TZID=America/Toronto:20250507T120000
DTEND;TZID=America/Toronto:20250507T130000
DTSTAMP:20260422T050940
CREATED:20250425T184915Z
LAST-MODIFIED:20250425T184915Z
UID:17940-1746619200-1746622800@loyalistcollege.com
SUMMARY:Drop-in Badminton
DESCRIPTION:Grab a friend and join us for Drop-In Badminton from 12–1 PM—no experience needed and equipment is provided! Open to all skill levels for some fun\, active play!
URL:https://loyalistcollege.com/event/drop-in-badminton-3/
LOCATION:Gym\, Kente\, 376 Wallbridge Loyalist Rd.\, Belleville\, Ontario\, K8N 5B9\, Canada
CATEGORIES:Campus rec,Student events
END:VEVENT
BEGIN:VEVENT
DTSTART;TZID=America/Toronto:20250507T120000
DTEND;TZID=America/Toronto:20250507T130000
DTSTAMP:20260422T050940
CREATED:20250423T153121Z
LAST-MODIFIED:20250425T131556Z
UID:17823-1746619200-1746622800@loyalistcollege.com
SUMMARY:Therapy Dogs
DESCRIPTION:Take a stress-relieving break at Therapy Dogs Day! Join us at the Shark Tank Pub for an hour of cuddles with loving therapy dogs. Perfect for a mid-day pick-me-up!
URL:https://loyalistcollege.com/event/therapy-dogs-7/
LOCATION:Shark Tank Pub\, Kente\, 376 Wallbridge Loyalist Rd.\, Belleville\, Ontario\, K8N 5B9\, Canada
CATEGORIES:Student events
ATTACH;FMTTYPE=image/png:https://loyalistcollege.com/app/uploads/2025/04/Therapy-dogs_Prepped-for-web.png
END:VEVENT
BEGIN:VEVENT
DTSTART;TZID=America/Toronto:20250506T110000
DTEND;TZID=America/Toronto:20250506T130000
DTSTAMP:20260422T050940
CREATED:20250423T153010Z
LAST-MODIFIED:20250425T131136Z
UID:17821-1746529200-1746536400@loyalistcollege.com
SUMMARY:Sharkie Social: Minute to Win It
DESCRIPTION:Compete in thrilling one-minute challenges for a chance to win amazing prizes! Bring your quick wits and fast fingers and prepare for an afternoon of exhilarating fun and friendly competition.
URL:https://loyalistcollege.com/event/sharkie-social-minute-to-win-it-3/
LOCATION:Shark Tank Pub\, Kente\, 376 Wallbridge Loyalist Rd.\, Belleville\, Ontario\, K8N 5B9\, Canada
CATEGORIES:Orientation,Student events
ATTACH;FMTTYPE=image/png:https://loyalistcollege.com/app/uploads/2025/04/Minute-to-win-it_Prepped-for-web.png
END:VEVENT
BEGIN:VEVENT
DTSTART;TZID=America/Toronto:20250505T120000
DTEND;TZID=America/Toronto:20250505T130000
DTSTAMP:20260422T050940
CREATED:20250425T182934Z
LAST-MODIFIED:20250425T182934Z
UID:17933-1746446400-1746450000@loyalistcollege.com
SUMMARY:'90s Hits Workout Hour
DESCRIPTION:Break out the neon and crank up the throwback jams! Join us for a ’90s Workout Hour in the Fitness Centre—retro vibes\, fun moves\, and feel-good energy guaranteed!
URL:https://loyalistcollege.com/event/90s-hits-workout-hour/
LOCATION:Fitness Centre (Room 1H5)\, Kente\, 376 Wallbridge Loyalist Rd.\, Belleville\, Ontario\, K8N 5B9\, Canada
CATEGORIES:Campus rec,Student events
END:VEVENT
BEGIN:VEVENT
DTSTART;TZID=America/Toronto:20250504T190000
DTEND;TZID=America/Toronto:20250504T210000
DTSTAMP:20260422T050940
CREATED:20250425T182740Z
LAST-MODIFIED:20250425T182740Z
UID:17931-1746385200-1746392400@loyalistcollege.com
SUMMARY:Social Sunday
DESCRIPTION:Join us for a relaxed\, fun gathering for residents to connect\, unwind\, and enjoy events together!
URL:https://loyalistcollege.com/event/social-sunday/
LOCATION:Residence commons
CATEGORIES:Residence programming,Student events
END:VEVENT
BEGIN:VEVENT
DTSTART;TZID=America/Toronto:20250501T150000
DTEND;TZID=America/Toronto:20250501T180000
DTSTAMP:20260422T050940
CREATED:20250425T135753Z
LAST-MODIFIED:20250425T135754Z
UID:17905-1746111600-1746122400@loyalistcollege.com
SUMMARY:Patio Party
DESCRIPTION:Relax and unwind at the Patio Party! It’s a fun way to meet new people and enjoy a laid-back atmosphere with music and good vibes.
URL:https://loyalistcollege.com/event/patio-party/
LOCATION:Shark tank patio\, Kente\, 376 Wallbridge-Loyalist Rd.\, BELLEVILLE\, Ontario\, K8N5B9\, Canada
CATEGORIES:Student events
ATTACH;FMTTYPE=image/png:https://loyalistcollege.com/app/uploads/2025/04/Patio-party_Prepped-for-web.png
END:VEVENT
BEGIN:VEVENT
DTSTART;TZID=America/Toronto:20250429T170000
DTEND;TZID=America/Toronto:20250429T190000
DTSTAMP:20260422T050940
CREATED:20250425T184541Z
LAST-MODIFIED:20250425T184541Z
UID:17937-1745946000-1745953200@loyalistcollege.com
SUMMARY:Drop-in Cricket
DESCRIPTION:Whether you’re new to the game or a seasoned pro\, join in for some fun and exercise!
URL:https://loyalistcollege.com/event/drop-in-cricket-2/
LOCATION:Outdoor Sports Court
CATEGORIES:Campus rec,Student events
END:VEVENT
BEGIN:VEVENT
DTSTART;TZID=America/Toronto:20250428T090000
DTEND;TZID=America/Toronto:20250428T123000
DTSTAMP:20260422T050940
CREATED:20250425T134027Z
LAST-MODIFIED:20250425T135833Z
UID:17901-1745830800-1745843400@loyalistcollege.com
SUMMARY:Spring Orientation Day
DESCRIPTION:Orientation day is your chance to meet your classmates for the first time\, get to know campus and have some fun! \n\n9 am – 10 am: Pancake breakfast (Shark Tank Pub)\n9 am – 10 am: Hoodie distribution (Billiard room in the Shark Tank Pub)\n10 am – 10:30 am: Official Welcome (Shark Tank Pub)\n10:30 am – 12:30 pm: Academic orientation (Assigned rooms)
URL:https://loyalistcollege.com/event/spring-orientation-day/
CATEGORIES:Orientation,Student events
ATTACH;FMTTYPE=image/png:https://loyalistcollege.com/app/uploads/2025/04/Orientation-day_Prepped-for-web.png
END:VEVENT
BEGIN:VEVENT
DTSTART;TZID=America/Toronto:20250411T080000
DTEND;TZID=America/Toronto:20250411T100000
DTSTAMP:20260422T050940
CREATED:20250320T182957Z
LAST-MODIFIED:20250320T182957Z
UID:17244-1744358400-1744365600@loyalistcollege.com
SUMMARY:Free Breakfast
DESCRIPTION:Start your day off right with a complimentary breakfast! Join us for a delicious meal and fuel up for a productive day ahead.
URL:https://loyalistcollege.com/event/free-breakfast-5/
LOCATION:Parrott Centre Entrance\, 376 Wallbridge-Loyalist Road\, Belleville\, Ontario\, K8N 5B9\, Canada
CATEGORIES:Student events
END:VEVENT
BEGIN:VEVENT
DTSTART;TZID=America/Toronto:20250410T080000
DTEND;TZID=America/Toronto:20250410T100000
DTSTAMP:20260422T050940
CREATED:20250320T182921Z
LAST-MODIFIED:20250320T182921Z
UID:17242-1744272000-1744279200@loyalistcollege.com
SUMMARY:Free Breakfast
DESCRIPTION:Start your day off right with a complimentary breakfast! Join us for a delicious meal and fuel up for a productive day ahead.
URL:https://loyalistcollege.com/event/free-breakfast-4/
LOCATION:Parrott Centre Entrance\, 376 Wallbridge-Loyalist Road\, Belleville\, Ontario\, K8N 5B9\, Canada
CATEGORIES:Student events
END:VEVENT
BEGIN:VEVENT
DTSTART;TZID=America/Toronto:20250409T210000
DTEND;TZID=America/Toronto:20250409T220000
DTSTAMP:20260422T050940
CREATED:20250324T140557Z
LAST-MODIFIED:20250324T140557Z
UID:17283-1744232400-1744236000@loyalistcollege.com
SUMMARY:Drop-in Sports
DESCRIPTION:Come play basketball\, badminton\, volleyball\, dodgeball\, or let us know your favorite sport!
URL:https://loyalistcollege.com/event/drop-in-sports-3/
LOCATION:Loyalist College Gymnasium\, 376 Wallbridge-Loyalist Rd.\, Belleville\, Ontario\, K8N5B9\, Canada
CATEGORIES:Campus rec
END:VEVENT
BEGIN:VEVENT
DTSTART;TZID=America/Toronto:20250409T200000
DTEND;TZID=America/Toronto:20250409T210000
DTSTAMP:20260422T050940
CREATED:20250324T140727Z
LAST-MODIFIED:20250324T140740Z
UID:17287-1744228800-1744232400@loyalistcollege.com
SUMMARY:Women’s Only Fitness Hour
DESCRIPTION:Take advantage of a supportive\, women-only workout space with personalized equipment and classes\, designed to help you achieve your fitness goals in a crowd-free environment.
URL:https://loyalistcollege.com/event/womens-only-fitness-hour-2/
LOCATION:Fitness Centre (Room 1H5)\, Kente\, 376 Wallbridge Loyalist Rd.\, Belleville\, Ontario\, K8N 5B9\, Canada
CATEGORIES:Campus rec
END:VEVENT
BEGIN:VEVENT
DTSTART;TZID=America/Toronto:20250402T130000
DTEND;TZID=America/Toronto:20250402T140000
DTSTAMP:20260422T050940
CREATED:20250324T143140Z
LAST-MODIFIED:20250324T143140Z
UID:17290-1743598800-1743602400@loyalistcollege.com
SUMMARY:Country Workout Hour
DESCRIPTION:Saddle up for a high-energy\, country-music-themed workout hour! Break a sweat to the best country hits while lifting\, squatting\, and moving to the rhythm!
URL:https://loyalistcollege.com/event/country-workout-hour-2/
LOCATION:Fitness Centre (Room 1H5)\, Kente\, 376 Wallbridge Loyalist Rd.\, Belleville\, Ontario\, K8N 5B9\, Canada
CATEGORIES:Campus rec,Student events
END:VEVENT
BEGIN:VEVENT
DTSTART;TZID=America/Toronto:20250409T130000
DTEND;TZID=America/Toronto:20250409T140000
DTSTAMP:20260422T050940
CREATED:20250320T161343Z
LAST-MODIFIED:20250404T145320Z
UID:17215-1744203600-1744207200@loyalistcollege.com
SUMMARY:Drop-in Basketball
DESCRIPTION:Need a break from the books? Take a quick mental recharge with a game of basketball and enjoy some physical activity in a relaxed and friendly setting.
URL:https://loyalistcollege.com/event/drop-in-basketball-3/
LOCATION:Loyalist College Gymnasium\, 376 Wallbridge-Loyalist Rd.\, Belleville\, Ontario\, K8N5B9\, Canada
CATEGORIES:Campus rec
ATTACH;FMTTYPE=image/png:https://loyalistcollege.com/app/uploads/2025/03/Drop-in-basketball_Prepped_for_web.png
END:VEVENT
END:VCALENDAR