BEGIN:VCALENDAR
VERSION:2.0
PRODID:-//Loyalist College - ECPv6.15.18//NONSGML v1.0//EN
CALSCALE:GREGORIAN
METHOD:PUBLISH
X-WR-CALNAME:Loyalist College
X-ORIGINAL-URL:https://loyalistcollege.com
X-WR-CALDESC:Events for Loyalist College
REFRESH-INTERVAL;VALUE=DURATION:PT1H
X-Robots-Tag:noindex
X-PUBLISHED-TTL:PT1H
BEGIN:VTIMEZONE
TZID:America/Toronto
BEGIN:DAYLIGHT
TZOFFSETFROM:-0500
TZOFFSETTO:-0400
TZNAME:EDT
DTSTART:20240310T070000
END:DAYLIGHT
BEGIN:STANDARD
TZOFFSETFROM:-0400
TZOFFSETTO:-0500
TZNAME:EST
DTSTART:20241103T060000
END:STANDARD
BEGIN:DAYLIGHT
TZOFFSETFROM:-0500
TZOFFSETTO:-0400
TZNAME:EDT
DTSTART:20250309T070000
END:DAYLIGHT
BEGIN:STANDARD
TZOFFSETFROM:-0400
TZOFFSETTO:-0500
TZNAME:EST
DTSTART:20251102T060000
END:STANDARD
BEGIN:DAYLIGHT
TZOFFSETFROM:-0500
TZOFFSETTO:-0400
TZNAME:EDT
DTSTART:20260308T070000
END:DAYLIGHT
BEGIN:STANDARD
TZOFFSETFROM:-0400
TZOFFSETTO:-0500
TZNAME:EST
DTSTART:20261101T060000
END:STANDARD
END:VTIMEZONE
BEGIN:VEVENT
DTSTART;TZID=America/Toronto:20251202T110000
DTEND;TZID=America/Toronto:20251202T130000
DTSTAMP:20260421T210647
CREATED:20251118T152918Z
LAST-MODIFIED:20251118T152918Z
UID:21645-1764673200-1764680400@loyalistcollege.com
SUMMARY:Gingerbread Cookie Decorating
DESCRIPTION:We’ll provide gingerbread cookies\, icing\, sprinkles and toppings – you bring the creativity.
URL:https://loyalistcollege.com/event/gingerbread-cookie-decorating/
LOCATION:Shark Tank Pub\, Kente\, 376 Wallbridge Loyalist Rd.\, Belleville\, Ontario\, K8N 5B9\, Canada
CATEGORIES:Creative workshops,Student events
ATTACH;FMTTYPE=image/png:https://loyalistcollege.com/app/uploads/2025/11/LC-Cookie-decorating-Event_IMG_001.png
END:VEVENT
BEGIN:VEVENT
DTSTART;TZID=America/Toronto:20251202T100000
DTEND;TZID=America/Toronto:20251202T110000
DTSTAMP:20260421T210647
CREATED:20251118T154446Z
LAST-MODIFIED:20251118T154446Z
UID:21655-1764669600-1764673200@loyalistcollege.com
SUMMARY:Monthly Medicine Fire
DESCRIPTION:Come out\, drop your tobacco\, and set your intention.
URL:https://loyalistcollege.com/event/monthly-medicine-fire/
LOCATION:A’nó:wara Learning Circle\, 376 Wallbridge-Loyalist Rd.\, BELLEVILLE\, Ontario\, K8N5B9\, Canada
CATEGORIES:Indigenous initiatives
END:VEVENT
BEGIN:VEVENT
DTSTART;TZID=America/Toronto:20251201T130000
DTEND;TZID=America/Toronto:20251201T170000
DTSTAMP:20260421T210647
CREATED:20251118T152737Z
LAST-MODIFIED:20251118T152738Z
UID:21642-1764594000-1764608400@loyalistcollege.com
SUMMARY:DIY Beaded Lanyards
DESCRIPTION:All are welcome to come to Tsi Titewayataro:roks (1H6) and participate in a DIY Beaded Lanyard experience. Event supplies are limited and available on a first come first served basis.
URL:https://loyalistcollege.com/event/diy-beaded-lanyards/
LOCATION:Tsi Titewaya’taró:roks Centre (Room 1H6)\, Kente\, 376 Wallbridge Loyalist Rd.\, Belleville\, Ontario\, K8N 5B9\, Canada
CATEGORIES:Indigenous initiatives,Student events
ATTACH;FMTTYPE=image/png:https://loyalistcollege.com/app/uploads/2025/11/LC-Lanyard-beading-Event_IMG_001.png
END:VEVENT
BEGIN:VEVENT
DTSTART;TZID=America/Toronto:20251129T150000
DTEND;TZID=America/Toronto:20251129T190000
DTSTAMP:20260421T210647
CREATED:20250814T185606Z
LAST-MODIFIED:20251020T161425Z
UID:20163-1764428400-1764442800@loyalistcollege.com
SUMMARY:Loyalist Lancers Basketball
DESCRIPTION:Big Saturday on the court. 🏀 \nNov. 29\, the Lancers host the George Brown Huskies—women tip at 3 PM\, men at 5 PM. Free admission—don’t miss it!
URL:https://loyalistcollege.com/event/loyalist-lancers-basketball-3/
LOCATION:Loyalist College Gymnasium\, 376 Wallbridge-Loyalist Rd.\, Belleville\, Ontario\, K8N5B9\, Canada
CATEGORIES:Loyalist Lancers,Student events
END:VEVENT
BEGIN:VEVENT
DTSTART;TZID=America/Toronto:20251127T190000
DTEND;TZID=America/Toronto:20251127T220000
DTSTAMP:20260421T210647
CREATED:20251020T155843Z
LAST-MODIFIED:20251020T173616Z
UID:21142-1764270000-1764280800@loyalistcollege.com
SUMMARY:Wreath Making with Alexis Rose
DESCRIPTION:Get into the holiday spirit and craft your own beautiful seasonal wreath with guidance from florist Alexis Rose! Perfect for decorating your space or gifting to someone special — all materials provided. ✨
URL:https://loyalistcollege.com/event/wreath-making-with-alexis-rose-2/
LOCATION:Shark Tank Pub\, Kente\, 376 Wallbridge Loyalist Rd.\, Belleville\, Ontario\, K8N 5B9\, Canada
CATEGORIES:Creative workshops,Student events
ATTACH;FMTTYPE=image/png:https://loyalistcollege.com/app/uploads/2025/10/LC-Wreath-making-Event_IMG_001.png
END:VEVENT
BEGIN:VEVENT
DTSTART;TZID=America/Toronto:20251126T174500
DTEND;TZID=America/Toronto:20251126T220000
DTSTAMP:20260421T210647
CREATED:20251020T155613Z
LAST-MODIFIED:20251020T155613Z
UID:21138-1764179100-1764194400@loyalistcollege.com
SUMMARY:Rock Climbing at the Boiler Room
DESCRIPTION:Jump on a bus and head to the Boiler Room for indoor climbing.
URL:https://loyalistcollege.com/event/rock-climbing-at-the-boiler-room/
LOCATION:Ontario
CATEGORIES:Campus rec,Student events
END:VEVENT
BEGIN:VEVENT
DTSTART;TZID=America/Toronto:20251126T133000
DTEND;TZID=America/Toronto:20251126T160000
DTSTAMP:20260421T210647
CREATED:20251020T155723Z
LAST-MODIFIED:20251020T155723Z
UID:21140-1764163800-1764172800@loyalistcollege.com
SUMMARY:Ornament Making
DESCRIPTION:Get creative and add a personal touch to your holiday season! Join us to decorate\, craft\, and design your own festive ornaments — perfect for gifting or keeping as a special memory. All supplies provided\, just bring your holiday spirit! 🎄
URL:https://loyalistcollege.com/event/ornament-making/
LOCATION:Shark Tank Pub\, Kente\, 376 Wallbridge Loyalist Rd.\, Belleville\, Ontario\, K8N 5B9\, Canada
CATEGORIES:Creative workshops,Student events
END:VEVENT
BEGIN:VEVENT
DTSTART;TZID=America/Toronto:20251125T110000
DTEND;TZID=America/Toronto:20251125T130000
DTSTAMP:20260421T210647
CREATED:20251020T155428Z
LAST-MODIFIED:20251020T173645Z
UID:21135-1764068400-1764075600@loyalistcollege.com
SUMMARY:Self Care Station
DESCRIPTION:Recharge with fresh fruits & veggies\, herbal teas\, facemasks\, colouring\, and guided meditations. Take a moment for you — you deserve it! 💛
URL:https://loyalistcollege.com/event/self-care-station/
LOCATION:Shark Tank Pub\, Kente\, 376 Wallbridge Loyalist Rd.\, Belleville\, Ontario\, K8N 5B9\, Canada
CATEGORIES:Student events
ATTACH;FMTTYPE=image/png:https://loyalistcollege.com/app/uploads/2025/10/LC-Self-care-Event_IMG_001.png
END:VEVENT
BEGIN:VEVENT
DTSTART;TZID=America/Toronto:20251123T130000
DTEND;TZID=America/Toronto:20251123T170000
DTSTAMP:20260421T210647
CREATED:20250814T185023Z
LAST-MODIFIED:20251020T161359Z
UID:20161-1763902800-1763917200@loyalistcollege.com
SUMMARY:Loyalist Lancers Volleyball
DESCRIPTION:Sunday showdown on the court. 🏐 \nNov. 23\, the Lancers host the Canadore Panthers—women play at 1 PM\, men at 3 PM. Finish your weekend with Lancer volleyball!
URL:https://loyalistcollege.com/event/loyalist-lancers-volleyball-4/
LOCATION:Loyalist College Gymnasium\, 376 Wallbridge-Loyalist Rd.\, Belleville\, Ontario\, K8N5B9\, Canada
CATEGORIES:Loyalist Lancers,Student events
END:VEVENT
BEGIN:VEVENT
DTSTART;TZID=America/Toronto:20251122T130000
DTEND;TZID=America/Toronto:20251122T170000
DTSTAMP:20260421T210647
CREATED:20250814T184848Z
LAST-MODIFIED:20251020T161333Z
UID:20159-1763816400-1763830800@loyalistcollege.com
SUMMARY:Loyalist Lancers Volleyball
DESCRIPTION:Clear your Saturday—Lancer volleyball is taking over. 🏐 \nNov. 22\, the women face Seneca at 1 PM\, followed by the men at 3 PM. Free for Loyalist students—come watch back-to-back action on our home court.
URL:https://loyalistcollege.com/event/loyalist-lancers-volleyball-3/
LOCATION:Loyalist College Gymnasium\, 376 Wallbridge-Loyalist Rd.\, Belleville\, Ontario\, K8N5B9\, Canada
CATEGORIES:Loyalist Lancers,Student events
END:VEVENT
BEGIN:VEVENT
DTSTART;TZID=America/Toronto:20251120T200000
DTEND;TZID=America/Toronto:20251120T230000
DTSTAMP:20260421T210647
CREATED:20251020T155109Z
LAST-MODIFIED:20251020T173243Z
UID:21133-1763668800-1763679600@loyalistcollege.com
SUMMARY:Drag Bingo & Show
DESCRIPTION:Join us in The Shark Tank Pub for a night of laughter\, glamour\, and prizes hosted by the fabulous Rowena Whey! 💅 Enjoy high-energy performances\, cheeky bingo fun\, and all the good vibes. 🌈✨
URL:https://loyalistcollege.com/event/drag-bingo-show/
LOCATION:Shark Tank Pub\, Kente\, 376 Wallbridge Loyalist Rd.\, Belleville\, Ontario\, K8N 5B9\, Canada
CATEGORIES:Student events
ATTACH;FMTTYPE=image/png:https://loyalistcollege.com/app/uploads/2025/10/LC-Drag-bingo-Event_IMG_001.png
END:VEVENT
BEGIN:VEVENT
DTSTART;TZID=America/Toronto:20251119T180000
DTEND;TZID=America/Toronto:20251119T200000
DTSTAMP:20260421T210647
CREATED:20251020T154656Z
LAST-MODIFIED:20251020T154656Z
UID:21131-1763575200-1763582400@loyalistcollege.com
SUMMARY:Tournament of Loyalist Legends
DESCRIPTION:Last day! \nDay 3 – Elementary School Throw Backs
URL:https://loyalistcollege.com/event/tournament-of-loyalist-legends-3/
LOCATION:Gym\, Kente\, 376 Wallbridge Loyalist Rd.\, Belleville\, Ontario\, K8N 5B9\, Canada
CATEGORIES:Campus rec,Student events
END:VEVENT
BEGIN:VEVENT
DTSTART;TZID=America/Toronto:20251119T140000
DTEND;TZID=America/Toronto:20251119T160000
DTSTAMP:20260421T210647
CREATED:20251020T154526Z
LAST-MODIFIED:20251020T154526Z
UID:21129-1763560800-1763568000@loyalistcollege.com
SUMMARY:Cupcake Decorating
DESCRIPTION:Learn how to turn an ordinary cupcake into a beautiful fall flower in this hands-on decorating class! 🌻🍁
URL:https://loyalistcollege.com/event/cupcake-decorating/
LOCATION:Shark Tank Pub\, Kente\, 376 Wallbridge Loyalist Rd.\, Belleville\, Ontario\, K8N 5B9\, Canada
CATEGORIES:Creative workshops,Student events
END:VEVENT
BEGIN:VEVENT
DTSTART;TZID=America/Toronto:20251118T110000
DTEND;TZID=America/Toronto:20251118T130000
DTSTAMP:20260421T210647
CREATED:20251020T153942Z
LAST-MODIFIED:20251020T153942Z
UID:21127-1763463600-1763470800@loyalistcollege.com
SUMMARY:DIY Tote Bags
DESCRIPTION:Design it\, paint it\, patch it — make it yours! Join us for a DIY Tote Bag Workshop where all the supplies are provided: tote bags\, paint\, and patches. All you need to bring is your creativity and a friend to craft with.
URL:https://loyalistcollege.com/event/diy-tote-bags/
LOCATION:Shark Tank Pub\, Kente\, 376 Wallbridge Loyalist Rd.\, Belleville\, Ontario\, K8N 5B9\, Canada
CATEGORIES:Creative workshops,Student events
END:VEVENT
BEGIN:VEVENT
DTSTART;TZID=America/Toronto:20251118T080000
DTEND;TZID=America/Toronto:20251118T170000
DTSTAMP:20260421T210647
CREATED:20250814T184741Z
LAST-MODIFIED:20251020T161300Z
UID:20157-1763452800-1763485200@loyalistcollege.com
SUMMARY:Loyalist Lancers Basketball
DESCRIPTION:Tuesday night basketball is a can’t-miss. 🏀 \nThe Lancers host the St. Lawrence Surge—women tip off at 6 PM\, men at 8 PM. Two big games\, one big night on our home court!
URL:https://loyalistcollege.com/event/loyalist-lancers-basketball-2/
LOCATION:Loyalist College Gymnasium\, 376 Wallbridge-Loyalist Rd.\, Belleville\, Ontario\, K8N5B9\, Canada
CATEGORIES:Loyalist Lancers,Student events
END:VEVENT
BEGIN:VEVENT
DTSTART;TZID=America/Toronto:20251115T090000
DTEND;TZID=America/Toronto:20251115T120000
DTSTAMP:20260421T210647
CREATED:20251016T193107Z
LAST-MODIFIED:20251022T175802Z
UID:21103-1763197200-1763208000@loyalistcollege.com
SUMMARY:Open House
DESCRIPTION:Join us for Open House on Saturday\, Nov. 15\, 2025\, from 9 a.m. – 12 p.m. to learn about our programs\, student services\, funding options and much more. There’s nothing like checking out campus in person to see if it’s right for you! \nAt Open House\, you’ll be able to: \n\nMeet and speak with faculty and students.\nExplore full-time\, in-class programs as well as hundreds of online and distance courses.\nTour campus\, including residence.\nCheck out program-specific labs and innovative student spaces.\nFind out about our full range of student services.\nDiscover university and college pathways.\nLearn about funding options and financial assistance.\nGet a taste of student life.\nAnd much more!
URL:https://loyalistcollege.com/event/open-house-4/
LOCATION:Loyalist College\, 376 Wallbridge Loyalist Rd.\, Belleville\, Ontario\, Canada
CATEGORIES:General
ATTACH;FMTTYPE=image/png:https://loyalistcollege.com/app/uploads/2025/09/LC-Open-house-Event_IMG_001.png
END:VEVENT
BEGIN:VEVENT
DTSTART;TZID=America/Toronto:20251113T200000
DTEND;TZID=America/Toronto:20251113T230000
DTSTAMP:20260421T210647
CREATED:20251020T153232Z
LAST-MODIFIED:20251020T173754Z
UID:21122-1763064000-1763074800@loyalistcollege.com
SUMMARY:Open Mic Night/Karaoke
DESCRIPTION:Sing and join your classmates on stage for a fun night of Karaoke.
URL:https://loyalistcollege.com/event/open-mic-night-karaoke/
LOCATION:Shark Tank Pub\, Kente\, 376 Wallbridge Loyalist Rd.\, Belleville\, Ontario\, K8N 5B9\, Canada
CATEGORIES:Student events
ATTACH;FMTTYPE=image/png:https://loyalistcollege.com/app/uploads/2025/10/LC-Open-mic-Event_IMG_001-1.png
END:VEVENT
BEGIN:VEVENT
DTSTART;TZID=America/Toronto:20251113T093000
DTEND;TZID=America/Toronto:20251113T150000
DTSTAMP:20260421T210647
CREATED:20251020T153635Z
LAST-MODIFIED:20251020T153635Z
UID:21124-1763026200-1763046000@loyalistcollege.com
SUMMARY:World Kindness Day
DESCRIPTION:Celebrate World Kindness Day with Behind the Mask — a fun kindness and candy activity! Drop by during any of the following times in room 3H22: \n\n\n9:30–10 a.m. \n\n\n10:30–11 a.m. \n\n\n1:30–2 p.m. \n\n\n2:30–3 p.m. \n\n\nSpread a little kindness — and grab a treat while you’re at it!
URL:https://loyalistcollege.com/event/world-kindness-day/
LOCATION:Room 3H22
CATEGORIES:Student events
END:VEVENT
BEGIN:VEVENT
DTSTART;TZID=America/Toronto:20251112T180000
DTEND;TZID=America/Toronto:20251112T200000
DTSTAMP:20260421T210647
CREATED:20251020T153035Z
LAST-MODIFIED:20251020T153035Z
UID:21119-1762970400-1762977600@loyalistcollege.com
SUMMARY:Tournament of Loyalist Legends
DESCRIPTION:3 days\, 3 competitions. \nDay 2 (Nov. 12) – Target Games
URL:https://loyalistcollege.com/event/tournament-of-loyalist-legends-2/
LOCATION:Gym\, Kente\, 376 Wallbridge Loyalist Rd.\, Belleville\, Ontario\, K8N 5B9\, Canada
CATEGORIES:Campus rec,Student events
END:VEVENT
BEGIN:VEVENT
DTSTART;TZID=America/Toronto:20251112T140000
DTEND;TZID=America/Toronto:20251112T160000
DTSTAMP:20260421T210647
CREATED:20251020T152817Z
LAST-MODIFIED:20251020T152817Z
UID:21117-1762956000-1762963200@loyalistcollege.com
SUMMARY:Grocery Bingo
DESCRIPTION:Play bingo for a chance to win groceries\, gift cards\, and kitchen appliances — perfect for student life! 🛒
URL:https://loyalistcollege.com/event/grocery-bingo-4/
LOCATION:Shark Tank Pub\, Kente\, 376 Wallbridge Loyalist Rd.\, Belleville\, Ontario\, K8N 5B9\, Canada
CATEGORIES:Student events
END:VEVENT
BEGIN:VEVENT
DTSTART;TZID=America/Toronto:20251108T130000
DTEND;TZID=America/Toronto:20251108T170000
DTSTAMP:20260421T210647
CREATED:20250814T184644Z
LAST-MODIFIED:20251020T161223Z
UID:20155-1762606800-1762621200@loyalistcollege.com
SUMMARY:Loyalist Lancers Basketball
DESCRIPTION:Two games. One afternoon. All Lancers. 🏀🔥 \nSaturday\, Nov. 8—women at 1 PM\, men at 3 PM vs. the Algonquin Wolves. Be there and bring the noise for the first basketball doubleheader of the season!
URL:https://loyalistcollege.com/event/loyalist-lancers-basketball/
LOCATION:Loyalist College Gymnasium\, 376 Wallbridge-Loyalist Rd.\, Belleville\, Ontario\, K8N5B9\, Canada
CATEGORIES:Loyalist Lancers,Student events
END:VEVENT
BEGIN:VEVENT
DTSTART;TZID=America/Toronto:20251107T190000
DTEND;TZID=America/Toronto:20251107T210000
DTSTAMP:20260421T210647
CREATED:20250814T184521Z
LAST-MODIFIED:20251020T160541Z
UID:20153-1762542000-1762549200@loyalistcollege.com
SUMMARY:Men's Basketball
DESCRIPTION:Friday night. Home opener. Let’s pack the gym. 🏀🔥 \nNov. 7 at 7 PM\, the Lancers men’s basketball team tips off their first home league game of the season against the La Cité Coyotes. Free for Loyalist students—bring the energy. First 50 people get a free rally towel!
URL:https://loyalistcollege.com/event/mens-basketball/
LOCATION:Loyalist College Gymnasium\, 376 Wallbridge-Loyalist Rd.\, Belleville\, Ontario\, K8N5B9\, Canada
CATEGORIES:Loyalist Lancers,Student events
END:VEVENT
BEGIN:VEVENT
DTSTART;TZID=America/Toronto:20251106T210000
DTEND;TZID=America/Toronto:20251106T235900
DTSTAMP:20260421T210647
CREATED:20251020T152352Z
LAST-MODIFIED:20251020T152910Z
UID:21113-1762462800-1762473540@loyalistcollege.com
SUMMARY:Full Moon Party Pub Night
DESCRIPTION:Get ready to light up the night at our Full Moon Party! Wear your brightest or all-white outfit and dance under the glow of the neon lights. ✨
URL:https://loyalistcollege.com/event/full-moon-party-pub-night/
LOCATION:Shark Tank Pub\, Kente\, 376 Wallbridge Loyalist Rd.\, Belleville\, Ontario\, K8N 5B9\, Canada
CATEGORIES:Student events
END:VEVENT
BEGIN:VEVENT
DTSTART;TZID=America/Toronto:20251105T180000
DTEND;TZID=America/Toronto:20251105T200000
DTSTAMP:20260421T210647
CREATED:20251020T152547Z
LAST-MODIFIED:20251020T152547Z
UID:21115-1762365600-1762372800@loyalistcollege.com
SUMMARY:Tournament of Loyalist Legends
DESCRIPTION:3 Days\, 3 competitions. \nDay 1 (Nov. 5) – Racquet Sports
URL:https://loyalistcollege.com/event/tournament-of-loyalist-legends/
LOCATION:Gym\, Kente\, 376 Wallbridge Loyalist Rd.\, Belleville\, Ontario\, K8N 5B9\, Canada
CATEGORIES:Campus rec,Student events
END:VEVENT
BEGIN:VEVENT
DTSTART;TZID=America/Toronto:20251105T140000
DTEND;TZID=America/Toronto:20251105T160000
DTSTAMP:20260421T210647
CREATED:20251020T152116Z
LAST-MODIFIED:20251020T173522Z
UID:21111-1762351200-1762358400@loyalistcollege.com
SUMMARY:DIY Beaded Poppies
DESCRIPTION:Learn the art of beading and create your own meaningful poppy to commemorate and honour the contributions of Indigenous veterans. No experience needed — all materials will be provided.
URL:https://loyalistcollege.com/event/diy-beaded-poppies/
LOCATION:Shark Tank Pub\, Kente\, 376 Wallbridge Loyalist Rd.\, Belleville\, Ontario\, K8N 5B9\, Canada
CATEGORIES:Creative workshops,Student events
ATTACH;FMTTYPE=image/png:https://loyalistcollege.com/app/uploads/2025/10/LC-Poppy-beading-Event_IMG_001.png
END:VEVENT
BEGIN:VEVENT
DTSTART;TZID=America/Toronto:20251104T110000
DTEND;TZID=America/Toronto:20251104T130000
DTSTAMP:20260421T210647
CREATED:20251020T151852Z
LAST-MODIFIED:20251020T173132Z
UID:21109-1762254000-1762261200@loyalistcollege.com
SUMMARY:Build Your Own Bouquet
DESCRIPTION:Add a little colour to your day at our Build Your Own Bouquet Workshop! 🌷✨ Create your own beautiful floral arrangement to take home — perfect for brightening up your space or gifting to a friend. All supplies are provided\, and no experience is needed!
URL:https://loyalistcollege.com/event/build-your-own-bouquet/
LOCATION:Shark Tank Pub\, Kente\, 376 Wallbridge Loyalist Rd.\, Belleville\, Ontario\, K8N 5B9\, Canada
CATEGORIES:Creative workshops,Student events
ATTACH;FMTTYPE=image/png:https://loyalistcollege.com/app/uploads/2025/10/LC-Bouquet-making-Event_IMG_001.png
END:VEVENT
BEGIN:VEVENT
DTSTART;TZID=America/Toronto:20251101T130000
DTEND;TZID=America/Toronto:20251101T170000
DTSTAMP:20260421T210647
CREATED:20250814T184412Z
LAST-MODIFIED:20251020T160658Z
UID:20151-1762002000-1762016400@loyalistcollege.com
SUMMARY:Loyalist Lancers Volleyball
DESCRIPTION:Two games. One afternoon. All Lancers. \nSaturday\, Nov. 1—women at 1 PM\, men at 3 PM vs. Centennial. Be there and bring the noise for the first volleyball doubleheader of the season!
URL:https://loyalistcollege.com/event/loyalist-lancers-volleyball-2/
LOCATION:Loyalist College Gymnasium\, 376 Wallbridge-Loyalist Rd.\, Belleville\, Ontario\, K8N5B9\, Canada
CATEGORIES:Loyalist Lancers,Student events
END:VEVENT
BEGIN:VEVENT
DTSTART;TZID=America/Toronto:20251030T210000
DTEND;TZID=America/Toronto:20251030T235900
DTSTAMP:20260421T210647
CREATED:20250919T201746Z
LAST-MODIFIED:20250919T201834Z
UID:20896-1761858000-1761868740@loyalistcollege.com
SUMMARY:Halloween Pub Night
DESCRIPTION:Halloween takes over the Shark Tank Pub! Join us for a spooktacular night featuring a DJ dance party\, free Halloween candy\, and a costume competition with prizes. Bring your best look\, hit the dance floor\, and celebrate spooky season with us!
URL:https://loyalistcollege.com/event/halloween-pub-night/
LOCATION:Shark Tank Pub\, Kente\, 376 Wallbridge Loyalist Rd.\, Belleville\, Ontario\, K8N 5B9\, Canada
CATEGORIES:Student events
END:VEVENT
BEGIN:VEVENT
DTSTART;TZID=America/Toronto:20250917T180000
DTEND;TZID=America/Toronto:20250917T220000
DTSTAMP:20260421T210647
CREATED:20250910T132551Z
LAST-MODIFIED:20250910T132551Z
UID:20728-1758132000-1758146400@loyalistcollege.com
SUMMARY:Intramural Soccer League
DESCRIPTION:
URL:https://loyalistcollege.com/event/intramural-soccer-league/
LOCATION:Loyalist College Soccer Feild\, 376 Wallbridge Loyalist Rd\, Belleville\, ON\, K8N 5B9\, Canada
CATEGORIES:Campus rec,Student events
END:VEVENT
BEGIN:VEVENT
DTSTART;TZID=America/Toronto:20251029T180000
DTEND;TZID=America/Toronto:20251029T220000
DTSTAMP:20260421T210647
CREATED:20250814T184223Z
LAST-MODIFIED:20250826T183242Z
UID:20149-1761760800-1761775200@loyalistcollege.com
SUMMARY:Loyalist Lancers Volleyball
DESCRIPTION:Women’s Volleyball vs St. Lawrence Surge – 6:00 pm \nMen’s Volleyball vs St. Lawrence Surge – 8:00 pm
URL:https://loyalistcollege.com/event/loyalist-lancers-volleyball/
LOCATION:Loyalist College Gymnasium\, 376 Wallbridge-Loyalist Rd.\, Belleville\, Ontario\, K8N5B9\, Canada
CATEGORIES:Loyalist Lancers,Student events
END:VEVENT
END:VCALENDAR