BEGIN:VCALENDAR
VERSION:2.0
PRODID:-//Loyalist College - ECPv6.15.18//NONSGML v1.0//EN
CALSCALE:GREGORIAN
METHOD:PUBLISH
X-WR-CALNAME:Loyalist College
X-ORIGINAL-URL:https://loyalistcollege.com
X-WR-CALDESC:Events for Loyalist College
REFRESH-INTERVAL;VALUE=DURATION:PT1H
X-Robots-Tag:noindex
X-PUBLISHED-TTL:PT1H
BEGIN:VTIMEZONE
TZID:America/Toronto
BEGIN:DAYLIGHT
TZOFFSETFROM:-0500
TZOFFSETTO:-0400
TZNAME:EDT
DTSTART:20230312T070000
END:DAYLIGHT
BEGIN:STANDARD
TZOFFSETFROM:-0400
TZOFFSETTO:-0500
TZNAME:EST
DTSTART:20231105T060000
END:STANDARD
BEGIN:DAYLIGHT
TZOFFSETFROM:-0500
TZOFFSETTO:-0400
TZNAME:EDT
DTSTART:20240310T070000
END:DAYLIGHT
BEGIN:STANDARD
TZOFFSETFROM:-0400
TZOFFSETTO:-0500
TZNAME:EST
DTSTART:20241103T060000
END:STANDARD
BEGIN:DAYLIGHT
TZOFFSETFROM:-0500
TZOFFSETTO:-0400
TZNAME:EDT
DTSTART:20250309T070000
END:DAYLIGHT
BEGIN:STANDARD
TZOFFSETFROM:-0400
TZOFFSETTO:-0500
TZNAME:EST
DTSTART:20251102T060000
END:STANDARD
END:VTIMEZONE
BEGIN:VEVENT
DTSTART;TZID=America/Toronto:20241107T160000
DTEND;TZID=America/Toronto:20241107T180000
DTSTAMP:20260422T182341
CREATED:20241015T154638Z
LAST-MODIFIED:20241015T154638Z
UID:13112-1730995200-1731002400@loyalistcollege.com
SUMMARY:Pickleball
DESCRIPTION:Discover the fast-growing sport of pickleball at Loyalist College! A combination of tennis\, badminton\, and ping-pong\, this exciting game is easy to learn but offers plenty of room for strategy and skill. Whether you’re a beginner or an experienced player\, pickleball is a great way to have fun\, stay active\, and meet new people on campus.
URL:https://loyalistcollege.com/event/pickleball-2/
LOCATION:Sports Dome\, 284 Wallbridge Loyalist Road\, Belleville
CATEGORIES:Campus rec
END:VEVENT
BEGIN:VEVENT
DTSTART;TZID=America/Toronto:20240926T180000
DTEND;TZID=America/Toronto:20240926T200000
DTSTAMP:20260422T182341
CREATED:20240909T145935Z
LAST-MODIFIED:20240909T145935Z
UID:9864-1727373600-1727380800@loyalistcollege.com
SUMMARY:Drop-in gym time
DESCRIPTION:Join us every week for Open Gym time at Port Hope High School (north gym)! Whether you’re looking to shoot some hoops\, get active\, or just have fun with friends\, this is the perfect opportunity. No registration is required\, and it’s completely free of charge! Open to all Loyalist College in Port Hope students\, it’s a great way to stay active\, meet new people\, and unwind. So grab your sneakers and head over—everyone is welcome!
URL:https://loyalistcollege.com/event/drop-in-gym-time/
LOCATION:Port Hope High School (north gym)\, 130 Highland Drive.\, 130 Highland Avenue\, Port Hope\, Ontario\, L1A 2A3\, Canada
CATEGORIES:Campus rec
END:VEVENT
BEGIN:VEVENT
DTSTART;TZID=America/Toronto:20241121T193000
DTEND;TZID=America/Toronto:20241122T010000
DTSTAMP:20260422T182341
CREATED:20241022T130423Z
LAST-MODIFIED:20241122T141956Z
UID:13280-1732217400-1732237200@loyalistcollege.com
SUMMARY:Drag Show & Gay Bar Night
DESCRIPTION:Get ready for an unforgettable night at our Drag Show & Gay Bar Night in the pub! Join us for an evening filled with fabulous performances and incredible talent as drag queens take the stage to entertain and inspire. Dance to upbeat music and celebrate love and acceptance in a fun and welcoming atmosphere.
URL:https://loyalistcollege.com/event/drag-show-gay-bar-night/
LOCATION:Shark Tank Pub\, Kente\, 376 Wallbridge Loyalist Rd.\, Belleville\, Ontario\, K8N 5B9\, Canada
CATEGORIES:Student events
ATTACH;FMTTYPE=image/jpeg:https://loyalistcollege.com/app/uploads/2024/10/Drag-Show-scaled.jpg
END:VEVENT
BEGIN:VEVENT
DTSTART;TZID=America/Toronto:20241110T110000
DTEND;TZID=America/Toronto:20241110T130000
DTSTAMP:20260422T182341
CREATED:20241015T154825Z
LAST-MODIFIED:20241015T154825Z
UID:13115-1731236400-1731243600@loyalistcollege.com
SUMMARY:Drop-in cricket
DESCRIPTION:Join us for drop-in cricket\, where you can experience one of the world’s most popular sports in a welcoming and inclusive environment. Whether you’ve played before or are picking up a bat for the first time\, this is a fantastic opportunity to have some fun\, learn new skills\, and enjoy the game with fellow students. No team required—just show up and play!
URL:https://loyalistcollege.com/event/drop-in-cricket/
LOCATION:Sports Dome\, 284 Wallbridge Loyalist Road\, Belleville
CATEGORIES:Campus rec
END:VEVENT
BEGIN:VEVENT
DTSTART;VALUE=DATE:20241125
DTEND;VALUE=DATE:20241126
DTSTAMP:20260422T182341
CREATED:20241021T155217Z
LAST-MODIFIED:20241021T155217Z
UID:13282-1732492800-1732579199@loyalistcollege.com
SUMMARY:Christmas Movies in the Shark Tank
DESCRIPTION:Celebrate the holiday season with Christmas Movies in the Shark Tank all week long! Join us for cozy screenings of your favourite festive films\, from timeless classics to modern favourites. Grab some popcorn\, settle in with friends\, and get into the holiday spirit as we enjoy the magic of Christmas on the big screen.
URL:https://loyalistcollege.com/event/christmas-movies-in-the-shark-tank/
LOCATION:Shark Tank Pub\, Kente\, 376 Wallbridge Loyalist Rd.\, Belleville\, Ontario\, K8N 5B9\, Canada
CATEGORIES:Student events
END:VEVENT
BEGIN:VEVENT
DTSTART;VALUE=DATE:20241125
DTEND;VALUE=DATE:20241130
DTSTAMP:20260422T182341
CREATED:20241021T155748Z
LAST-MODIFIED:20241021T155748Z
UID:13286-1732492800-1732924799@loyalistcollege.com
SUMMARY:Meet and Greet with Santa
DESCRIPTION:Spot Santa on campus this week! Capture a festive photo with the jolly man himself and get a prize. Don’t miss out on the fun—Santa can’t wait to see you!
URL:https://loyalistcollege.com/event/meet-and-greet-with-santa/
LOCATION:Loyalist College\, 376 Wallbridge Loyalist Rd.\, Belleville\, Ontario\, Canada
CATEGORIES:Student events
END:VEVENT
BEGIN:VEVENT
DTSTART;VALUE=DATE:20241125
DTEND;VALUE=DATE:20241130
DTSTAMP:20260422T182341
CREATED:20241121T181020Z
LAST-MODIFIED:20241121T181020Z
UID:13820-1732492800-1732924799@loyalistcollege.com
SUMMARY:Elf Scavenger Hunt - Port Hope Campus
DESCRIPTION:Keep your eyes peeled for the sneaky elf hiding around campus! Spot it\, email Amanda (aarends@loyalistcollege.com) with the date and location\, and you could snag a daily prize!
URL:https://loyalistcollege.com/event/elf-scavenger-hunt-port-hope-campus/
LOCATION:Loyalist College in Port Hope – Main Hall\, 10 Pine Street\, Port Hope\, Ontario\, Canada
CATEGORIES:Student events
END:VEVENT
BEGIN:VEVENT
DTSTART;TZID=America/Toronto:20241125T100000
DTEND;TZID=America/Toronto:20241125T140000
DTSTAMP:20260422T182341
CREATED:20241122T211619Z
LAST-MODIFIED:20241122T211938Z
UID:13897-1732528800-1732543200@loyalistcollege.com
SUMMARY:Preserving Deer Hide: A Journey into Anishinaabe Traditional Knowledge
DESCRIPTION:Experience the beauty of Anishinaabe Traditional Knowledge through an immersive workshop on preserving a deer hide. This hands-on opportunity\, led by Anishinaabe Knowledge Keeper Helena Neveau\, will guide participants through the sacred and skillful process of transforming a deer hide while learning about its cultural significance. \nThis is a drop-in workshop taking place in the A’nó:wara Learning Circle. \nThe workshop will proceed rain or shine. Please dress appropriately for the weather conditions. All safety equipment and tools will be provided. \nLearn more
URL:https://loyalistcollege.com/event/preserving-deer-hide-a-journey-into-anishinaabe-traditional-knowledge-2/
LOCATION:A’nó:wara Learning Circle\, 376 Wallbridge-Loyalist Rd.\, BELLEVILLE\, Ontario\, K8N5B9\, Canada
CATEGORIES:Indigenous initiatives,Student events
ATTACH;FMTTYPE=image/jpeg:https://loyalistcollege.com/app/uploads/2024/08/LC_Indigenous-Student-Supports_Image_05.jpg
END:VEVENT
BEGIN:VEVENT
DTSTART;TZID=America/Toronto:20241104T210000
DTEND;TZID=America/Toronto:20241104T230000
DTSTAMP:20260422T182341
CREATED:20241015T153906Z
LAST-MODIFIED:20241121T182811Z
UID:13101-1730754000-1730761200@loyalistcollege.com
SUMMARY:Soccer intramurals
DESCRIPTION:Get ready to kick off some excitement with Loyalist’s soccer intramurals! Whether you’re a soccer enthusiast or just want to try something new\, this is the perfect opportunity to showcase your skills and enjoy a little friendly competition. Teams are open to players of all experience levels\, making it easy to join\, have fun\, and connect with your classmates on the field.
URL:https://loyalistcollege.com/event/soccer-intramurals/
LOCATION:Sports Dome\, 284 Wallbridge Loyalist Road\, Belleville
CATEGORIES:Campus rec
END:VEVENT
BEGIN:VEVENT
DTSTART;VALUE=DATE:20241125
DTEND;VALUE=DATE:20241126
DTSTAMP:20260422T182341
CREATED:20241021T155217Z
LAST-MODIFIED:20241021T155217Z
UID:13282-1732492800-1732579199@loyalistcollege.com
SUMMARY:Christmas Movies in the Shark Tank
DESCRIPTION:Celebrate the holiday season with Christmas Movies in the Shark Tank all week long! Join us for cozy screenings of your favourite festive films\, from timeless classics to modern favourites. Grab some popcorn\, settle in with friends\, and get into the holiday spirit as we enjoy the magic of Christmas on the big screen.
URL:https://loyalistcollege.com/event/christmas-movies-in-the-shark-tank/
LOCATION:Shark Tank Pub\, Kente\, 376 Wallbridge Loyalist Rd.\, Belleville\, Ontario\, K8N 5B9\, Canada
CATEGORIES:Student events
END:VEVENT
BEGIN:VEVENT
DTSTART;TZID=America/Toronto:20241126T110000
DTEND;TZID=America/Toronto:20241126T130000
DTSTAMP:20260422T182341
CREATED:20241112T152953Z
LAST-MODIFIED:20241112T152953Z
UID:13610-1732618800-1732626000@loyalistcollege.com
SUMMARY:Loyalist Lancer Apparel Sale
DESCRIPTION:Get ready to rep your Loyalist Lancers spirit! \nCome by the Shark Tank Pub on November 26 from 11 am to 1 PM for a special Lancers clothing sale. We’ll have exclusive brands including Under Armour\, ATC\, and Gildan available. \nDon’t miss your chance to grab some awesome Lancers apparel—see you there!
URL:https://loyalistcollege.com/event/loyalist-lancer-apparel-sale/
LOCATION:Shark Tank Pub\, Kente\, 376 Wallbridge Loyalist Rd.\, Belleville\, Ontario\, K8N 5B9\, Canada
CATEGORIES:Loyalist Lancers,Student events
END:VEVENT
BEGIN:VEVENT
DTSTART;TZID=America/Toronto:20241126T120000
DTEND;TZID=America/Toronto:20241126T130000
DTSTAMP:20260422T182341
CREATED:20241021T160107Z
LAST-MODIFIED:20241021T160107Z
UID:13288-1732622400-1732626000@loyalistcollege.com
SUMMARY:Campus Ice Breakers: Sustainability
DESCRIPTION:Join us for Campus Ice Breakers focused on Sustainability! Dive into practical strategies for living an eco-conscious lifestyle and learn how to make a positive impact on our environment. Together\, let’s create a greener campus!
URL:https://loyalistcollege.com/event/campus-ice-breakers-sustainability/
LOCATION:Shark Tank Pub\, Kente\, 376 Wallbridge Loyalist Rd.\, Belleville\, Ontario\, K8N 5B9\, Canada
CATEGORIES:Student events
END:VEVENT
BEGIN:VEVENT
DTSTART;TZID=America/Toronto:20241126T140000
DTEND;TZID=America/Toronto:20241126T170000
DTSTAMP:20260422T182341
CREATED:20241021T160644Z
LAST-MODIFIED:20241025T182448Z
UID:13292-1732629600-1732640400@loyalistcollege.com
SUMMARY:Club Pub: Gingerbread Cookies & Christmas Crafts
DESCRIPTION:Get into the holiday spirit at our Club Pub event\, Gingerbread Cookie Decorating and Christmas Crafts! Decorate your own gingerbread cookies with colourful icing and toppings\, then make a variety of Christmas themed crafts\, just in time for the holidays. It’s a perfect way to unwind and enjoy the company of friends. Don’t miss out on this sweet and merry celebration of the season!
URL:https://loyalistcollege.com/event/club-pub-gingerbread-cookies-xmas-crafts/
LOCATION:Shark Tank Pub\, Kente\, 376 Wallbridge Loyalist Rd.\, Belleville\, Ontario\, K8N 5B9\, Canada
CATEGORIES:Student events
END:VEVENT
BEGIN:VEVENT
DTSTART;TZID=America/Toronto:20241126T140000
DTEND;TZID=America/Toronto:20241126T170000
DTSTAMP:20260422T182341
CREATED:20241021T161037Z
LAST-MODIFIED:20241021T161037Z
UID:13299-1732629600-1732640400@loyalistcollege.com
SUMMARY:Club Pub: Grocery Bingo
DESCRIPTION:Test your luck as you play Grocery Bingo at another Club Pub event! Enjoy a lively atmosphere filled with friends and good vibes. It’s a great way to relax\, connect with fellow students\, and maybe even stock up on some essentials. Don’t miss out on this entertaining afternoon of bingo fun!
URL:https://loyalistcollege.com/event/club-pub-grocery-bingo/
LOCATION:Shark Tank Pub\, Kente\, 376 Wallbridge Loyalist Rd.\, Belleville\, Ontario\, K8N 5B9\, Canada
CATEGORIES:Student events
END:VEVENT
BEGIN:VEVENT
DTSTART;TZID=America/Toronto:20241105T160000
DTEND;TZID=America/Toronto:20241105T180000
DTSTAMP:20260422T182341
CREATED:20241015T154210Z
LAST-MODIFIED:20241121T182940Z
UID:13106-1730822400-1730829600@loyalistcollege.com
SUMMARY:Drop-in rec
DESCRIPTION:Looking for a flexible way to stay active? Drop-in rec at Loyalist College offers a relaxed\, no-pressure environment where you can participate in a variety of activities at your own pace. Whether you’re interested in shooting hoops\, playing badminton\, or just getting some exercise\, drop by when it suits your schedule. No commitment—just fun and fitness whenever you’re ready!
URL:https://loyalistcollege.com/event/drop-in-rec-2/
LOCATION:Sports Dome\, 284 Wallbridge Loyalist Road\, Belleville
CATEGORIES:Campus rec
END:VEVENT
BEGIN:VEVENT
DTSTART;VALUE=DATE:20241125
DTEND;VALUE=DATE:20241126
DTSTAMP:20260422T182341
CREATED:20241021T155217Z
LAST-MODIFIED:20241021T155217Z
UID:13282-1732492800-1732579199@loyalistcollege.com
SUMMARY:Christmas Movies in the Shark Tank
DESCRIPTION:Celebrate the holiday season with Christmas Movies in the Shark Tank all week long! Join us for cozy screenings of your favourite festive films\, from timeless classics to modern favourites. Grab some popcorn\, settle in with friends\, and get into the holiday spirit as we enjoy the magic of Christmas on the big screen.
URL:https://loyalistcollege.com/event/christmas-movies-in-the-shark-tank/
LOCATION:Shark Tank Pub\, Kente\, 376 Wallbridge Loyalist Rd.\, Belleville\, Ontario\, K8N 5B9\, Canada
CATEGORIES:Student events
END:VEVENT
BEGIN:VEVENT
DTSTART;TZID=America/Toronto:20241127T100000
DTEND;TZID=America/Toronto:20241127T140000
DTSTAMP:20260422T182341
CREATED:20241122T211215Z
LAST-MODIFIED:20241122T212120Z
UID:13892-1732701600-1732716000@loyalistcollege.com
SUMMARY:Preserving Deer Hide: A Journey into Anishinaabe Traditional Knowledge
DESCRIPTION:Experience the beauty of Anishinaabe Traditional Knowledge through an immersive workshop on preserving a deer hide. This hands-on opportunity\, led by Anishinaabe Knowledge Keeper Helena Neveau\, will guide participants through the sacred and skillful process of transforming a deer hide while learning about its cultural significance. \nThis is a drop-in workshop taking place in the A’nó:wara Learning Circle. \nThe workshop will proceed rain or shine. Please dress appropriately for the weather conditions. All safety equipment and tools will be provided. \nLearn more
URL:https://loyalistcollege.com/event/preserving-deer-hide-a-journey-into-anishinaabe-traditional-knowledge/
LOCATION:A’nó:wara Learning Circle\, 376 Wallbridge-Loyalist Rd.\, BELLEVILLE\, Ontario\, K8N5B9\, Canada
CATEGORIES:Indigenous initiatives,Student events
ATTACH;FMTTYPE=image/jpeg:https://loyalistcollege.com/app/uploads/2024/08/LC_Indigenous-Student-Supports_Image_05.jpg
END:VEVENT
BEGIN:VEVENT
DTSTART;TZID=America/Toronto:20241127T110000
DTEND;TZID=America/Toronto:20241127T130000
DTSTAMP:20260422T182341
CREATED:20241021T160717Z
LAST-MODIFIED:20241025T182510Z
UID:13297-1732705200-1732712400@loyalistcollege.com
SUMMARY:Club Pub: Gingerbread Cookies & Christmas Crafts
DESCRIPTION:Get into the holiday spirit at our Club Pub event\, Gingerbread Cookie Decorating and Christmas Crafts! Decorate your own gingerbread cookies with colourful icing and toppings\, then make a variety of Christmas themed crafts\, just in time for the holidays. It’s a perfect way to unwind and enjoy the company of friends. Don’t miss out on this sweet and merry celebration of the season!
URL:https://loyalistcollege.com/event/club-pub-gingerbread-cookies-xmas-crafts-2/
LOCATION:Shark Tank Pub\, Kente\, 376 Wallbridge Loyalist Rd.\, Belleville\, Ontario\, K8N 5B9\, Canada
CATEGORIES:Student events
END:VEVENT
BEGIN:VEVENT
DTSTART;TZID=America/Toronto:20241106T120000
DTEND;TZID=America/Toronto:20241106T130000
DTSTAMP:20260422T182341
CREATED:20241015T154407Z
LAST-MODIFIED:20241121T183031Z
UID:13109-1730894400-1730898000@loyalistcollege.com
SUMMARY:Wellness break – badminton
DESCRIPTION:Take a break from your studies and recharge with a game of badminton! Our Wellness Break sessions are designed to help you unwind and destress while staying active. Whether you’re a seasoned player or just learning\, badminton is a great way to clear your mind and get your heart pumping. Grab a friend and join us for some light\, fun competition.
URL:https://loyalistcollege.com/event/wellness-break-badminton/
LOCATION:Gym\, Kente\, 376 Wallbridge Loyalist Rd.\, Belleville\, Ontario\, K8N 5B9\, Canada
CATEGORIES:Campus rec
END:VEVENT
BEGIN:VEVENT
DTSTART;TZID=America/Toronto:20240911T200000
DTEND;TZID=America/Toronto:20240911T210000
DTSTAMP:20260422T182341
CREATED:20240823T221626Z
LAST-MODIFIED:20241121T183047Z
UID:7219-1726084800-1726088400@loyalistcollege.com
SUMMARY:Fitness centre - Women's only hour
DESCRIPTION:This dedicated time allows women to work out in a supportive\, comfortable environment\, free from the usual crowds. Enjoy a range of fitness equipment and classes tailored just for you\, and embrace a workout experience that prioritizes your needs and goals. Join us to focus on your fitness journey with confidence and community!
URL:https://loyalistcollege.com/event/fitnesswomens-only-hour/
LOCATION:Fitness Centre (Room 1H5)\, Kente\, 376 Wallbridge Loyalist Rd.\, Belleville\, Ontario\, K8N 5B9\, Canada
CATEGORIES:Campus rec,Student events
END:VEVENT
BEGIN:VEVENT
DTSTART;VALUE=DATE:20241125
DTEND;VALUE=DATE:20241126
DTSTAMP:20260422T182341
CREATED:20241021T155217Z
LAST-MODIFIED:20241021T155217Z
UID:13282-1732492800-1732579199@loyalistcollege.com
SUMMARY:Christmas Movies in the Shark Tank
DESCRIPTION:Celebrate the holiday season with Christmas Movies in the Shark Tank all week long! Join us for cozy screenings of your favourite festive films\, from timeless classics to modern favourites. Grab some popcorn\, settle in with friends\, and get into the holiday spirit as we enjoy the magic of Christmas on the big screen.
URL:https://loyalistcollege.com/event/christmas-movies-in-the-shark-tank/
LOCATION:Shark Tank Pub\, Kente\, 376 Wallbridge Loyalist Rd.\, Belleville\, Ontario\, K8N 5B9\, Canada
CATEGORIES:Student events
END:VEVENT
BEGIN:VEVENT
DTSTART;TZID=America/Toronto:20241128T120000
DTEND;TZID=America/Toronto:20241128T130000
DTSTAMP:20260422T182341
CREATED:20241021T160135Z
LAST-MODIFIED:20241021T160135Z
UID:13290-1732795200-1732798800@loyalistcollege.com
SUMMARY:Campus Ice Breakers: Sustainability
DESCRIPTION:Join us for Campus Ice Breakers focused on Sustainability! Dive into practical strategies for living an eco-conscious lifestyle and learn how to make a positive impact on our environment. Together\, let’s create a greener campus!
URL:https://loyalistcollege.com/event/campus-ice-breakers-sustainability-2/
LOCATION:Link lounge\, Kente\, 376 Wallbridge Loyalist Rd\, Belleville\, K8N 5B9\, Canada
CATEGORIES:Student events
END:VEVENT
BEGIN:VEVENT
DTSTART;TZID=America/Toronto:20241107T160000
DTEND;TZID=America/Toronto:20241107T180000
DTSTAMP:20260422T182341
CREATED:20241015T154638Z
LAST-MODIFIED:20241015T154638Z
UID:13112-1730995200-1731002400@loyalistcollege.com
SUMMARY:Pickleball
DESCRIPTION:Discover the fast-growing sport of pickleball at Loyalist College! A combination of tennis\, badminton\, and ping-pong\, this exciting game is easy to learn but offers plenty of room for strategy and skill. Whether you’re a beginner or an experienced player\, pickleball is a great way to have fun\, stay active\, and meet new people on campus.
URL:https://loyalistcollege.com/event/pickleball-2/
LOCATION:Sports Dome\, 284 Wallbridge Loyalist Road\, Belleville
CATEGORIES:Campus rec
END:VEVENT
BEGIN:VEVENT
DTSTART;TZID=America/Toronto:20240926T180000
DTEND;TZID=America/Toronto:20240926T200000
DTSTAMP:20260422T182341
CREATED:20240909T145935Z
LAST-MODIFIED:20240909T145935Z
UID:9864-1727373600-1727380800@loyalistcollege.com
SUMMARY:Drop-in gym time
DESCRIPTION:Join us every week for Open Gym time at Port Hope High School (north gym)! Whether you’re looking to shoot some hoops\, get active\, or just have fun with friends\, this is the perfect opportunity. No registration is required\, and it’s completely free of charge! Open to all Loyalist College in Port Hope students\, it’s a great way to stay active\, meet new people\, and unwind. So grab your sneakers and head over—everyone is welcome!
URL:https://loyalistcollege.com/event/drop-in-gym-time/
LOCATION:Port Hope High School (north gym)\, 130 Highland Drive.\, 130 Highland Avenue\, Port Hope\, Ontario\, L1A 2A3\, Canada
CATEGORIES:Campus rec
END:VEVENT
BEGIN:VEVENT
DTSTART;TZID=America/Toronto:20241128T190000
DTEND;TZID=America/Toronto:20241128T210000
DTSTAMP:20260422T182342
CREATED:20241022T130029Z
LAST-MODIFIED:20241022T130029Z
UID:13301-1732820400-1732827600@loyalistcollege.com
SUMMARY:Wreath Making with Alexis Rose
DESCRIPTION:Join us for Wreath Making\, where you can craft your very own beautiful holiday wreath! Under the guidance of Alexis Rose\, you’ll learn tips and techniques to create a stunning decoration for your home. It’s the perfect way to embrace the holiday spirit and bring a touch of seasonal charm to your decor.
URL:https://loyalistcollege.com/event/wreath-making-with-alexis-rose/
LOCATION:Shark Tank Pub\, Kente\, 376 Wallbridge Loyalist Rd.\, Belleville\, Ontario\, K8N 5B9\, Canada
CATEGORIES:Student events
ATTACH;FMTTYPE=image/jpeg:https://loyalistcollege.com/app/uploads/2024/10/Wreath-Making-scaled.jpg
END:VEVENT
BEGIN:VEVENT
DTSTART;VALUE=DATE:20241125
DTEND;VALUE=DATE:20241126
DTSTAMP:20260422T182342
CREATED:20241021T155217Z
LAST-MODIFIED:20241021T155217Z
UID:13282-1732492800-1732579199@loyalistcollege.com
SUMMARY:Christmas Movies in the Shark Tank
DESCRIPTION:Celebrate the holiday season with Christmas Movies in the Shark Tank all week long! Join us for cozy screenings of your favourite festive films\, from timeless classics to modern favourites. Grab some popcorn\, settle in with friends\, and get into the holiday spirit as we enjoy the magic of Christmas on the big screen.
URL:https://loyalistcollege.com/event/christmas-movies-in-the-shark-tank/
LOCATION:Shark Tank Pub\, Kente\, 376 Wallbridge Loyalist Rd.\, Belleville\, Ontario\, K8N 5B9\, Canada
CATEGORIES:Student events
END:VEVENT
BEGIN:VEVENT
DTSTART;VALUE=DATE:20241129
DTEND;VALUE=DATE:20241204
DTSTAMP:20260422T182342
CREATED:20241121T181206Z
LAST-MODIFIED:20241121T181206Z
UID:13822-1732838400-1733270399@loyalistcollege.com
SUMMARY:Door Decorating Contest - Port Hope Campus
DESCRIPTION:Team up with up to 6 friends by November 29 and let your imaginations run wild by decorating a door on campus! Let’s deck the halls and make every doorway a festive masterpiece. Judging will take place on December 4.
URL:https://loyalistcollege.com/event/door-decorating-contest-port-hope-campus/
LOCATION:Loyalist College in Port Hope – Main Hall\, 10 Pine Street\, Port Hope\, Ontario\, Canada
CATEGORIES:Student events
END:VEVENT
BEGIN:VEVENT
DTSTART;TZID=America/Toronto:20241127T100000
DTEND;TZID=America/Toronto:20241127T140000
DTSTAMP:20260422T182342
CREATED:20241122T211215Z
LAST-MODIFIED:20241122T212120Z
UID:13892-1732701600-1732716000@loyalistcollege.com
SUMMARY:Preserving Deer Hide: A Journey into Anishinaabe Traditional Knowledge
DESCRIPTION:Experience the beauty of Anishinaabe Traditional Knowledge through an immersive workshop on preserving a deer hide. This hands-on opportunity\, led by Anishinaabe Knowledge Keeper Helena Neveau\, will guide participants through the sacred and skillful process of transforming a deer hide while learning about its cultural significance. \nThis is a drop-in workshop taking place in the A’nó:wara Learning Circle. \nThe workshop will proceed rain or shine. Please dress appropriately for the weather conditions. All safety equipment and tools will be provided. \nLearn more
URL:https://loyalistcollege.com/event/preserving-deer-hide-a-journey-into-anishinaabe-traditional-knowledge/
LOCATION:A’nó:wara Learning Circle\, 376 Wallbridge-Loyalist Rd.\, BELLEVILLE\, Ontario\, K8N5B9\, Canada
CATEGORIES:Indigenous initiatives,Student events
ATTACH;FMTTYPE=image/jpeg:https://loyalistcollege.com/app/uploads/2024/08/LC_Indigenous-Student-Supports_Image_05.jpg
END:VEVENT
BEGIN:VEVENT
DTSTART;TZID=America/Toronto:20241130T130000
DTEND;TZID=America/Toronto:20241130T170000
DTSTAMP:20260422T182342
CREATED:20241122T202451Z
LAST-MODIFIED:20241122T202451Z
UID:13889-1732971600-1732986000@loyalistcollege.com
SUMMARY:Jingle and Mingle
DESCRIPTION:Come cheer on the Lancers and support the local foodbank! Bring a donation and enjoy the volleyball games\, plus win prizes for the best sweaters\, participate in in-game contests\, and snap a festive photo at the photo booth. Let’s make this event merry and bright!
URL:https://loyalistcollege.com/event/jingle-and-mingle/
LOCATION:Gym\, Kente\, 376 Wallbridge Loyalist Rd.\, Belleville\, Ontario\, K8N 5B9\, Canada
CATEGORIES:Loyalist Lancers,Student events
END:VEVENT
BEGIN:VEVENT
DTSTART;TZID=America/Toronto:20241110T110000
DTEND;TZID=America/Toronto:20241110T130000
DTSTAMP:20260422T182342
CREATED:20241015T154825Z
LAST-MODIFIED:20241015T154825Z
UID:13115-1731236400-1731243600@loyalistcollege.com
SUMMARY:Drop-in cricket
DESCRIPTION:Join us for drop-in cricket\, where you can experience one of the world’s most popular sports in a welcoming and inclusive environment. Whether you’ve played before or are picking up a bat for the first time\, this is a fantastic opportunity to have some fun\, learn new skills\, and enjoy the game with fellow students. No team required—just show up and play!
URL:https://loyalistcollege.com/event/drop-in-cricket/
LOCATION:Sports Dome\, 284 Wallbridge Loyalist Road\, Belleville
CATEGORIES:Campus rec
END:VEVENT
END:VCALENDAR