BEGIN:VCALENDAR
VERSION:2.0
PRODID:-//Loyalist College - ECPv6.15.18//NONSGML v1.0//EN
CALSCALE:GREGORIAN
METHOD:PUBLISH
X-WR-CALNAME:Loyalist College
X-ORIGINAL-URL:https://loyalistcollege.com
X-WR-CALDESC:Events for Loyalist College
REFRESH-INTERVAL;VALUE=DURATION:PT1H
X-Robots-Tag:noindex
X-PUBLISHED-TTL:PT1H
BEGIN:VTIMEZONE
TZID:America/Toronto
BEGIN:DAYLIGHT
TZOFFSETFROM:-0500
TZOFFSETTO:-0400
TZNAME:EDT
DTSTART:20230312T070000
END:DAYLIGHT
BEGIN:STANDARD
TZOFFSETFROM:-0400
TZOFFSETTO:-0500
TZNAME:EST
DTSTART:20231105T060000
END:STANDARD
BEGIN:DAYLIGHT
TZOFFSETFROM:-0500
TZOFFSETTO:-0400
TZNAME:EDT
DTSTART:20240310T070000
END:DAYLIGHT
BEGIN:STANDARD
TZOFFSETFROM:-0400
TZOFFSETTO:-0500
TZNAME:EST
DTSTART:20241103T060000
END:STANDARD
BEGIN:DAYLIGHT
TZOFFSETFROM:-0500
TZOFFSETTO:-0400
TZNAME:EDT
DTSTART:20250309T070000
END:DAYLIGHT
BEGIN:STANDARD
TZOFFSETFROM:-0400
TZOFFSETTO:-0500
TZNAME:EST
DTSTART:20251102T060000
END:STANDARD
END:VTIMEZONE
BEGIN:VEVENT
DTSTART;TZID=America/Toronto:20241104T210000
DTEND;TZID=America/Toronto:20241104T230000
DTSTAMP:20260422T182315
CREATED:20241015T153906Z
LAST-MODIFIED:20241121T182811Z
UID:13101-1730754000-1730761200@loyalistcollege.com
SUMMARY:Soccer intramurals
DESCRIPTION:Get ready to kick off some excitement with Loyalist’s soccer intramurals! Whether you’re a soccer enthusiast or just want to try something new\, this is the perfect opportunity to showcase your skills and enjoy a little friendly competition. Teams are open to players of all experience levels\, making it easy to join\, have fun\, and connect with your classmates on the field.
URL:https://loyalistcollege.com/event/soccer-intramurals/
LOCATION:Sports Dome\, 284 Wallbridge Loyalist Road\, Belleville
CATEGORIES:Campus rec
END:VEVENT
BEGIN:VEVENT
DTSTART;TZID=America/Toronto:20241105T120000
DTEND;TZID=America/Toronto:20241105T130000
DTSTAMP:20260422T182315
CREATED:20241021T133524Z
LAST-MODIFIED:20241021T133524Z
UID:13118-1730808000-1730811600@loyalistcollege.com
SUMMARY:Campus Ice Breakers – Interview Tips
DESCRIPTION:Come to our Campus Ice Breakers for Interview Tips! Equip yourself with essential strategies to excel in interviews\, including how to prepare effectively and present yourself with confidence. This offers a great opportunity to network with peers who are also navigating their job searches. Get ready to polish your interview skills and stand out to potential employers!
URL:https://loyalistcollege.com/event/campus-ice-breakers-interview-tips/
LOCATION:Shark Tank Pub\, Kente\, 376 Wallbridge Loyalist Rd.\, Belleville\, Ontario\, K8N 5B9\, Canada
CATEGORIES:Student events
END:VEVENT
BEGIN:VEVENT
DTSTART;TZID=America/Toronto:20241105T140000
DTEND;TZID=America/Toronto:20241105T170000
DTSTAMP:20260422T182315
CREATED:20241021T134324Z
LAST-MODIFIED:20241021T134324Z
UID:13223-1730815200-1730826000@loyalistcollege.com
SUMMARY:Club Pub: Candle Making & Rangoli and Diwali Celebrations
DESCRIPTION:Join us for this week’s Club Pub\, Candle Making & Rangoli for a vibrant celebration of Diwali! Get creative as you craft your own beautiful candles and intricate rangoli designs while enjoying the festive atmosphere. This event is a great opportunity to learn about Diwali traditions\, connect with friends\, and celebrate the festival of lights. Come and illuminate your evening with art\, culture\, and fun!
URL:https://loyalistcollege.com/event/club-pub-candle-making-rangoli-and-diwali-celebrations/
LOCATION:Shark Tank Pub\, Kente\, 376 Wallbridge Loyalist Rd.\, Belleville\, Ontario\, K8N 5B9\, Canada
CATEGORIES:International students,Student events
END:VEVENT
BEGIN:VEVENT
DTSTART;TZID=America/Toronto:20241105T160000
DTEND;TZID=America/Toronto:20241105T180000
DTSTAMP:20260422T182315
CREATED:20241015T154210Z
LAST-MODIFIED:20241121T182940Z
UID:13106-1730822400-1730829600@loyalistcollege.com
SUMMARY:Drop-in rec
DESCRIPTION:Looking for a flexible way to stay active? Drop-in rec at Loyalist College offers a relaxed\, no-pressure environment where you can participate in a variety of activities at your own pace. Whether you’re interested in shooting hoops\, playing badminton\, or just getting some exercise\, drop by when it suits your schedule. No commitment—just fun and fitness whenever you’re ready!
URL:https://loyalistcollege.com/event/drop-in-rec-2/
LOCATION:Sports Dome\, 284 Wallbridge Loyalist Road\, Belleville
CATEGORIES:Campus rec
END:VEVENT
BEGIN:VEVENT
DTSTART;TZID=America/Toronto:20241106T110000
DTEND;TZID=America/Toronto:20241106T130000
DTSTAMP:20260422T182315
CREATED:20241021T134512Z
LAST-MODIFIED:20241021T134512Z
UID:13225-1730890800-1730898000@loyalistcollege.com
SUMMARY:Sharkie Social: Diwali Dance Classes
DESCRIPTION:Get ready to dance at our Sharkie Social\, Diwali Dance Classes! Whether you’re a beginner or an experienced dancer\, this is a fantastic opportunity to express yourself\, connect with others\, and immerse yourself in the festive atmosphere. Bring your friends and let’s make this Diwali celebration one to remember!
URL:https://loyalistcollege.com/event/sharkie-social-diwali-dance-classes/
LOCATION:Ontario
CATEGORIES:International students,Student events
END:VEVENT
BEGIN:VEVENT
DTSTART;TZID=America/Toronto:20241106T110000
DTEND;TZID=America/Toronto:20241106T130000
DTSTAMP:20260422T182315
CREATED:20241021T142002Z
LAST-MODIFIED:20241021T142002Z
UID:13235-1730890800-1730898000@loyalistcollege.com
SUMMARY:Sharkie Social: Poppy Making Craft
DESCRIPTION:Join us for Poppy Making Crafts\, where you can create your very own beautiful poppies in honour of Remembrance Day. This hands-on crafting session offers a chance to express your creativity while learning about the significance of poppies in commemorating those who served. Let’s come together to honour and remember!
URL:https://loyalistcollege.com/event/sharkie-social-poppy-making-craft/
LOCATION:Shark Tank Pub\, Kente\, 376 Wallbridge Loyalist Rd.\, Belleville\, Ontario\, K8N 5B9\, Canada
CATEGORIES:Student events
END:VEVENT
BEGIN:VEVENT
DTSTART;TZID=America/Toronto:20241106T120000
DTEND;TZID=America/Toronto:20241106T130000
DTSTAMP:20260422T182315
CREATED:20241015T154407Z
LAST-MODIFIED:20241121T183031Z
UID:13109-1730894400-1730898000@loyalistcollege.com
SUMMARY:Wellness break – badminton
DESCRIPTION:Take a break from your studies and recharge with a game of badminton! Our Wellness Break sessions are designed to help you unwind and destress while staying active. Whether you’re a seasoned player or just learning\, badminton is a great way to clear your mind and get your heart pumping. Grab a friend and join us for some light\, fun competition.
URL:https://loyalistcollege.com/event/wellness-break-badminton/
LOCATION:Gym\, Kente\, 376 Wallbridge Loyalist Rd.\, Belleville\, Ontario\, K8N 5B9\, Canada
CATEGORIES:Campus rec
END:VEVENT
BEGIN:VEVENT
DTSTART;TZID=America/Toronto:20240911T200000
DTEND;TZID=America/Toronto:20240911T210000
DTSTAMP:20260422T182315
CREATED:20240823T221626Z
LAST-MODIFIED:20241121T183047Z
UID:7219-1726084800-1726088400@loyalistcollege.com
SUMMARY:Fitness centre - Women's only hour
DESCRIPTION:This dedicated time allows women to work out in a supportive\, comfortable environment\, free from the usual crowds. Enjoy a range of fitness equipment and classes tailored just for you\, and embrace a workout experience that prioritizes your needs and goals. Join us to focus on your fitness journey with confidence and community!
URL:https://loyalistcollege.com/event/fitnesswomens-only-hour/
LOCATION:Fitness Centre (Room 1H5)\, Kente\, 376 Wallbridge Loyalist Rd.\, Belleville\, Ontario\, K8N 5B9\, Canada
CATEGORIES:Campus rec,Student events
END:VEVENT
BEGIN:VEVENT
DTSTART;TZID=America/Toronto:20241107T120000
DTEND;TZID=America/Toronto:20241107T130000
DTSTAMP:20260422T182315
CREATED:20241021T133659Z
LAST-MODIFIED:20241021T133659Z
UID:13221-1730980800-1730984400@loyalistcollege.com
SUMMARY:Campus Ice Breakers – Interview Tips
DESCRIPTION:Come to our Campus Ice Breakers for Interview Tips! Equip yourself with essential strategies to excel in interviews\, including how to prepare effectively and present yourself with confidence. This offers a great opportunity to network with peers who are also navigating their job searches. Get ready to polish your interview skills and stand out to potential employers!
URL:https://loyalistcollege.com/event/campus-ice-breakers-interview-tips-2/
LOCATION:Link lounge\, Kente\, 376 Wallbridge Loyalist Rd\, Belleville\, K8N 5B9\, Canada
CATEGORIES:Student events
END:VEVENT
BEGIN:VEVENT
DTSTART;TZID=America/Toronto:20241107T123000
DTEND;TZID=America/Toronto:20241107T133000
DTSTAMP:20260422T182315
CREATED:20241031T150353Z
LAST-MODIFIED:20241031T150353Z
UID:13476-1730982600-1730986200@loyalistcollege.com
SUMMARY:Bingo - Port Hope Campus
DESCRIPTION:Join us for a fun round of Bingo! It’s the classic game you know and love\, with exciting prizes up for grabs. Bring your friends and your game face for an afternoon of laughter and friendly competition. Don’t miss out on the chance to win big!
URL:https://loyalistcollege.com/event/bingo-port-hope-campus/
LOCATION:Loyalist College Port Hope – Great Hall\, 10 Pine Street South\, Port Hope\, ON\, Canada
CATEGORIES:Student events
END:VEVENT
BEGIN:VEVENT
DTSTART;TZID=America/Toronto:20241107T160000
DTEND;TZID=America/Toronto:20241107T180000
DTSTAMP:20260422T182315
CREATED:20241015T154638Z
LAST-MODIFIED:20241015T154638Z
UID:13112-1730995200-1731002400@loyalistcollege.com
SUMMARY:Pickleball
DESCRIPTION:Discover the fast-growing sport of pickleball at Loyalist College! A combination of tennis\, badminton\, and ping-pong\, this exciting game is easy to learn but offers plenty of room for strategy and skill. Whether you’re a beginner or an experienced player\, pickleball is a great way to have fun\, stay active\, and meet new people on campus.
URL:https://loyalistcollege.com/event/pickleball-2/
LOCATION:Sports Dome\, 284 Wallbridge Loyalist Road\, Belleville
CATEGORIES:Campus rec
END:VEVENT
BEGIN:VEVENT
DTSTART;TZID=America/Toronto:20240926T180000
DTEND;TZID=America/Toronto:20240926T200000
DTSTAMP:20260422T182315
CREATED:20240909T145935Z
LAST-MODIFIED:20240909T145935Z
UID:9864-1727373600-1727380800@loyalistcollege.com
SUMMARY:Drop-in gym time
DESCRIPTION:Join us every week for Open Gym time at Port Hope High School (north gym)! Whether you’re looking to shoot some hoops\, get active\, or just have fun with friends\, this is the perfect opportunity. No registration is required\, and it’s completely free of charge! Open to all Loyalist College in Port Hope students\, it’s a great way to stay active\, meet new people\, and unwind. So grab your sneakers and head over—everyone is welcome!
URL:https://loyalistcollege.com/event/drop-in-gym-time/
LOCATION:Port Hope High School (north gym)\, 130 Highland Drive.\, 130 Highland Avenue\, Port Hope\, Ontario\, L1A 2A3\, Canada
CATEGORIES:Campus rec
END:VEVENT
BEGIN:VEVENT
DTSTART;TZID=America/Toronto:20241107T210000
DTEND;TZID=America/Toronto:20241108T010000
DTSTAMP:20260422T182315
CREATED:20241022T130140Z
LAST-MODIFIED:20241022T130140Z
UID:13238-1731013200-1731027600@loyalistcollege.com
SUMMARY:Swiftie Pub Night
DESCRIPTION:Join us for the Swiftie Pub Night to celebrate Taylor Swift and her upcoming Toronto shows! Enjoy an evening filled with all your favourite Taylor hits\, from her debut album\, Taylor Swift\, to The Tortured Poets Department. Whether you’re a lifelong fan or new to her music\, this is the perfect chance to sing along\, dance with friends\, and share your love. Come dressed in your best Taylor-inspired outfits\, bring your friendship bracelets and get ready for a night of fun and friendship!
URL:https://loyalistcollege.com/event/swiftie-pub-night/
LOCATION:Shark Tank Pub\, Kente\, 376 Wallbridge Loyalist Rd.\, Belleville\, Ontario\, K8N 5B9\, Canada
CATEGORIES:Student events
ATTACH;FMTTYPE=image/jpeg:https://loyalistcollege.com/app/uploads/2024/10/Swiftie-Pub-Night-scaled.jpg
END:VEVENT
BEGIN:VEVENT
DTSTART;TZID=America/Toronto:20241109T190000
DTEND;TZID=America/Toronto:20241109T220000
DTSTAMP:20260422T182315
CREATED:20241104T213558Z
LAST-MODIFIED:20241104T213640Z
UID:13511-1731178800-1731189600@loyalistcollege.com
SUMMARY:Cheer on the Belleville Sens at Loyalist Student Night!
DESCRIPTION:You’re invited to join us for Student Night with the Belleville Senators! Come out to support our local team as they take on the Laval Rocket. Grab your Sens Student Pass starting at just $21. Don’t forget to wear your Loyalist College gear to show your spirit. \nThis is an event you won’t want to miss. Go Sens! \nEvent details: \n\nDate: Saturday\, November 9\nMatch: Belleville Senators vs. Laval Rocket\nVenue: CAA Arena\, 265 Cannifton Rd\, Belleville\nDoors Open: 6 pm\nGame Begins: 7 pm\nClick here to purchase tickets: SENS TICKETS\n\nPlease remember to use your school email address to take advantage of this great price.
URL:https://loyalistcollege.com/event/cheer-on-the-belleville-sens-at-loyalist-student-night/
LOCATION:Ontario
CATEGORIES:Student events
END:VEVENT
BEGIN:VEVENT
DTSTART;TZID=America/Toronto:20241110T110000
DTEND;TZID=America/Toronto:20241110T130000
DTSTAMP:20260422T182315
CREATED:20241015T154825Z
LAST-MODIFIED:20241015T154825Z
UID:13115-1731236400-1731243600@loyalistcollege.com
SUMMARY:Drop-in cricket
DESCRIPTION:Join us for drop-in cricket\, where you can experience one of the world’s most popular sports in a welcoming and inclusive environment. Whether you’ve played before or are picking up a bat for the first time\, this is a fantastic opportunity to have some fun\, learn new skills\, and enjoy the game with fellow students. No team required—just show up and play!
URL:https://loyalistcollege.com/event/drop-in-cricket/
LOCATION:Sports Dome\, 284 Wallbridge Loyalist Road\, Belleville
CATEGORIES:Campus rec
END:VEVENT
BEGIN:VEVENT
DTSTART;TZID=America/Toronto:20241111T073000
DTEND;TZID=America/Toronto:20241111T100000
DTSTAMP:20260422T182315
CREATED:20241021T150135Z
LAST-MODIFIED:20241021T150705Z
UID:13243-1731310200-1731319200@loyalistcollege.com
SUMMARY:Pancake Breakfasts
DESCRIPTION:Start your day right with our Pancake Breakfasts all week long! Join us each morning for a delicious spread of fluffy pancakes\, toppings galore\, and warm syrup. It’s a perfect way to fuel up for your day ahead while connecting with fellow students in a relaxed and friendly atmosphere. Don’t miss out on this tasty opportunity to enjoy a classic breakfast staple! 
URL:https://loyalistcollege.com/event/pancake-breakfasts/
LOCATION:Shark Tank Pub\, Kente\, 376 Wallbridge Loyalist Rd.\, Belleville\, Ontario\, K8N 5B9\, Canada
CATEGORIES:Student events
END:VEVENT
BEGIN:VEVENT
DTSTART;TZID=America/Toronto:20241104T210000
DTEND;TZID=America/Toronto:20241104T230000
DTSTAMP:20260422T182315
CREATED:20241015T153906Z
LAST-MODIFIED:20241121T182811Z
UID:13101-1730754000-1730761200@loyalistcollege.com
SUMMARY:Soccer intramurals
DESCRIPTION:Get ready to kick off some excitement with Loyalist’s soccer intramurals! Whether you’re a soccer enthusiast or just want to try something new\, this is the perfect opportunity to showcase your skills and enjoy a little friendly competition. Teams are open to players of all experience levels\, making it easy to join\, have fun\, and connect with your classmates on the field.
URL:https://loyalistcollege.com/event/soccer-intramurals/
LOCATION:Sports Dome\, 284 Wallbridge Loyalist Road\, Belleville
CATEGORIES:Campus rec
END:VEVENT
BEGIN:VEVENT
DTSTART;TZID=America/Toronto:20241111T073000
DTEND;TZID=America/Toronto:20241111T100000
DTSTAMP:20260422T182315
CREATED:20241021T150135Z
LAST-MODIFIED:20241021T150705Z
UID:13243-1731310200-1731319200@loyalistcollege.com
SUMMARY:Pancake Breakfasts
DESCRIPTION:Start your day right with our Pancake Breakfasts all week long! Join us each morning for a delicious spread of fluffy pancakes\, toppings galore\, and warm syrup. It’s a perfect way to fuel up for your day ahead while connecting with fellow students in a relaxed and friendly atmosphere. Don’t miss out on this tasty opportunity to enjoy a classic breakfast staple! 
URL:https://loyalistcollege.com/event/pancake-breakfasts/
LOCATION:Shark Tank Pub\, Kente\, 376 Wallbridge Loyalist Rd.\, Belleville\, Ontario\, K8N 5B9\, Canada
CATEGORIES:Student events
END:VEVENT
BEGIN:VEVENT
DTSTART;TZID=America/Toronto:20241112T100000
DTEND;TZID=America/Toronto:20241112T170000
DTSTAMP:20260422T182315
CREATED:20241021T151355Z
LAST-MODIFIED:20241025T182053Z
UID:13252-1731405600-1731430800@loyalistcollege.com
SUMMARY:Club Pub: Arcade Day
DESCRIPTION:Get ready for some nostalgic fun at the Club Pub Arcade Day! Join us for an exciting afternoon filled with classic arcade games and friendly competition. Challenge your friends to beat high scores\, enjoy delicious snacks\, and relive the joy of retro gaming. Whether you’re a gaming pro or just looking to have a good time\, this event promises to be a blast.
URL:https://loyalistcollege.com/event/club-pub-arcade-day/
LOCATION:Shark Tank Pub\, Kente\, 376 Wallbridge Loyalist Rd.\, Belleville\, Ontario\, K8N 5B9\, Canada
CATEGORIES:Student events
END:VEVENT
BEGIN:VEVENT
DTSTART;TZID=America/Toronto:20241112T120000
DTEND;TZID=America/Toronto:20241112T130000
DTSTAMP:20260422T182315
CREATED:20241021T150803Z
LAST-MODIFIED:20241021T150803Z
UID:13246-1731412800-1731416400@loyalistcollege.com
SUMMARY:Ice Breakers: Code of Conduct & Campus Safety
DESCRIPTION:Join us for Campus Ice Breakers on Code of Conduct & Campus Safety! Learn about essential campus policies and safety measures that help create a respectful and secure community. This informative session will provide you with important insights and encourage discussion\, ensuring you feel informed during your time on campus.
URL:https://loyalistcollege.com/event/ice-breakers-code-of-conduct-campus-safety/
LOCATION:Shark Tank Pub\, Kente\, 376 Wallbridge Loyalist Rd.\, Belleville\, Ontario\, K8N 5B9\, Canada
CATEGORIES:Student events
END:VEVENT
BEGIN:VEVENT
DTSTART;TZID=America/Toronto:20241105T160000
DTEND;TZID=America/Toronto:20241105T180000
DTSTAMP:20260422T182315
CREATED:20241015T154210Z
LAST-MODIFIED:20241121T182940Z
UID:13106-1730822400-1730829600@loyalistcollege.com
SUMMARY:Drop-in rec
DESCRIPTION:Looking for a flexible way to stay active? Drop-in rec at Loyalist College offers a relaxed\, no-pressure environment where you can participate in a variety of activities at your own pace. Whether you’re interested in shooting hoops\, playing badminton\, or just getting some exercise\, drop by when it suits your schedule. No commitment—just fun and fitness whenever you’re ready!
URL:https://loyalistcollege.com/event/drop-in-rec-2/
LOCATION:Sports Dome\, 284 Wallbridge Loyalist Road\, Belleville
CATEGORIES:Campus rec
END:VEVENT
BEGIN:VEVENT
DTSTART;TZID=America/Toronto:20241111T073000
DTEND;TZID=America/Toronto:20241111T100000
DTSTAMP:20260422T182315
CREATED:20241021T150135Z
LAST-MODIFIED:20241021T150705Z
UID:13243-1731310200-1731319200@loyalistcollege.com
SUMMARY:Pancake Breakfasts
DESCRIPTION:Start your day right with our Pancake Breakfasts all week long! Join us each morning for a delicious spread of fluffy pancakes\, toppings galore\, and warm syrup. It’s a perfect way to fuel up for your day ahead while connecting with fellow students in a relaxed and friendly atmosphere. Don’t miss out on this tasty opportunity to enjoy a classic breakfast staple! 
URL:https://loyalistcollege.com/event/pancake-breakfasts/
LOCATION:Shark Tank Pub\, Kente\, 376 Wallbridge Loyalist Rd.\, Belleville\, Ontario\, K8N 5B9\, Canada
CATEGORIES:Student events
END:VEVENT
BEGIN:VEVENT
DTSTART;TZID=America/Toronto:20241106T120000
DTEND;TZID=America/Toronto:20241106T130000
DTSTAMP:20260422T182315
CREATED:20241015T154407Z
LAST-MODIFIED:20241121T183031Z
UID:13109-1730894400-1730898000@loyalistcollege.com
SUMMARY:Wellness break – badminton
DESCRIPTION:Take a break from your studies and recharge with a game of badminton! Our Wellness Break sessions are designed to help you unwind and destress while staying active. Whether you’re a seasoned player or just learning\, badminton is a great way to clear your mind and get your heart pumping. Grab a friend and join us for some light\, fun competition.
URL:https://loyalistcollege.com/event/wellness-break-badminton/
LOCATION:Gym\, Kente\, 376 Wallbridge Loyalist Rd.\, Belleville\, Ontario\, K8N 5B9\, Canada
CATEGORIES:Campus rec
END:VEVENT
BEGIN:VEVENT
DTSTART;TZID=America/Toronto:20241113T120000
DTEND;TZID=America/Toronto:20241113T130000
DTSTAMP:20260422T182315
CREATED:20241021T151515Z
LAST-MODIFIED:20241021T151515Z
UID:13255-1731499200-1731502800@loyalistcollege.com
SUMMARY:Therapy Dogs
DESCRIPTION:Take a break and unwind with Therapy Dogs! Whether you’re looking to de-stress or just want to enjoy some canine companionship\, this is a great opportunity to relax and recharge. Don’t miss out on the chance to cuddle with these lovable dogs! 
URL:https://loyalistcollege.com/event/therapy-dogs-2/
LOCATION:Shark Tank Pub\, Kente\, 376 Wallbridge Loyalist Rd.\, Belleville\, Ontario\, K8N 5B9\, Canada
CATEGORIES:Student events
END:VEVENT
BEGIN:VEVENT
DTSTART;TZID=America/Toronto:20241113T140000
DTEND;TZID=America/Toronto:20241113T170000
DTSTAMP:20260422T182315
CREATED:20241021T151722Z
LAST-MODIFIED:20241021T151722Z
UID:13258-1731506400-1731517200@loyalistcollege.com
SUMMARY:Club Fair
DESCRIPTION:Discover your passion and get involved at the Club and Student Activity Fair! Explore a wide range of clubs\, organizations\, and activities that Loyalist has to offer. This fair is the perfect opportunity to connect with like-minded students\, learn about different groups\, and find out how you can join in.
URL:https://loyalistcollege.com/event/club-fair-3/
LOCATION:Shark Tank Pub\, Kente\, 376 Wallbridge Loyalist Rd.\, Belleville\, Ontario\, K8N 5B9\, Canada
CATEGORIES:Student events
END:VEVENT
BEGIN:VEVENT
DTSTART;TZID=America/Toronto:20240911T200000
DTEND;TZID=America/Toronto:20240911T210000
DTSTAMP:20260422T182315
CREATED:20240823T221626Z
LAST-MODIFIED:20241121T183047Z
UID:7219-1726084800-1726088400@loyalistcollege.com
SUMMARY:Fitness centre - Women's only hour
DESCRIPTION:This dedicated time allows women to work out in a supportive\, comfortable environment\, free from the usual crowds. Enjoy a range of fitness equipment and classes tailored just for you\, and embrace a workout experience that prioritizes your needs and goals. Join us to focus on your fitness journey with confidence and community!
URL:https://loyalistcollege.com/event/fitnesswomens-only-hour/
LOCATION:Fitness Centre (Room 1H5)\, Kente\, 376 Wallbridge Loyalist Rd.\, Belleville\, Ontario\, K8N 5B9\, Canada
CATEGORIES:Campus rec,Student events
END:VEVENT
BEGIN:VEVENT
DTSTART;TZID=America/Toronto:20241111T073000
DTEND;TZID=America/Toronto:20241111T100000
DTSTAMP:20260422T182315
CREATED:20241021T150135Z
LAST-MODIFIED:20241021T150705Z
UID:13243-1731310200-1731319200@loyalistcollege.com
SUMMARY:Pancake Breakfasts
DESCRIPTION:Start your day right with our Pancake Breakfasts all week long! Join us each morning for a delicious spread of fluffy pancakes\, toppings galore\, and warm syrup. It’s a perfect way to fuel up for your day ahead while connecting with fellow students in a relaxed and friendly atmosphere. Don’t miss out on this tasty opportunity to enjoy a classic breakfast staple! 
URL:https://loyalistcollege.com/event/pancake-breakfasts/
LOCATION:Shark Tank Pub\, Kente\, 376 Wallbridge Loyalist Rd.\, Belleville\, Ontario\, K8N 5B9\, Canada
CATEGORIES:Student events
END:VEVENT
BEGIN:VEVENT
DTSTART;TZID=America/Toronto:20241114T120000
DTEND;TZID=America/Toronto:20241114T130000
DTSTAMP:20260422T182315
CREATED:20241021T150910Z
LAST-MODIFIED:20241021T150910Z
UID:13249-1731585600-1731589200@loyalistcollege.com
SUMMARY:Ice Breakers: Code of Conduct & Campus Safety
DESCRIPTION:Join us for Campus Ice Breakers on Code of Conduct & Campus Safety! Learn about essential campus policies and safety measures that help create a respectful and secure community. This informative session will provide you with important insights and encourage discussion\, ensuring you feel informed during your time on campus.
URL:https://loyalistcollege.com/event/ice-breakers-code-of-conduct-campus-safety-2/
LOCATION:Link lounge\, Kente\, 376 Wallbridge Loyalist Rd\, Belleville\, K8N 5B9\, Canada
CATEGORIES:Student events
END:VEVENT
BEGIN:VEVENT
DTSTART;TZID=America/Toronto:20241107T160000
DTEND;TZID=America/Toronto:20241107T180000
DTSTAMP:20260422T182315
CREATED:20241015T154638Z
LAST-MODIFIED:20241015T154638Z
UID:13112-1730995200-1731002400@loyalistcollege.com
SUMMARY:Pickleball
DESCRIPTION:Discover the fast-growing sport of pickleball at Loyalist College! A combination of tennis\, badminton\, and ping-pong\, this exciting game is easy to learn but offers plenty of room for strategy and skill. Whether you’re a beginner or an experienced player\, pickleball is a great way to have fun\, stay active\, and meet new people on campus.
URL:https://loyalistcollege.com/event/pickleball-2/
LOCATION:Sports Dome\, 284 Wallbridge Loyalist Road\, Belleville
CATEGORIES:Campus rec
END:VEVENT
BEGIN:VEVENT
DTSTART;TZID=America/Toronto:20241114T170000
DTEND;TZID=America/Toronto:20241114T190000
DTSTAMP:20260422T182315
CREATED:20241021T151854Z
LAST-MODIFIED:20241025T182233Z
UID:13262-1731603600-1731610800@loyalistcollege.com
SUMMARY:Night Market
DESCRIPTION:Experience the vibrant atmosphere of the Night Market\, featuring a diverse array of student and local vendors showcasing their services and creations! Stroll through the market and discover handmade crafts\, delicious snacks\, and one-of-a-kind items. It’s a fantastic opportunity to support our creative community\, connect with fellow students\, and find something special. Join us for a night of shopping\, socializing\, and celebrating local talent! 
URL:https://loyalistcollege.com/event/night-market/
LOCATION:Shark Tank Pub\, Kente\, 376 Wallbridge Loyalist Rd.\, Belleville\, Ontario\, K8N 5B9\, Canada
CATEGORIES:Student events
END:VEVENT
END:VCALENDAR