BEGIN:VCALENDAR
VERSION:2.0
PRODID:-//Loyalist College - ECPv6.15.18//NONSGML v1.0//EN
CALSCALE:GREGORIAN
METHOD:PUBLISH
X-ORIGINAL-URL:https://loyalistcollege.com
X-WR-CALDESC:Events for Loyalist College
REFRESH-INTERVAL;VALUE=DURATION:PT1H
X-Robots-Tag:noindex
X-PUBLISHED-TTL:PT1H
BEGIN:VTIMEZONE
TZID:America/Toronto
BEGIN:DAYLIGHT
TZOFFSETFROM:-0500
TZOFFSETTO:-0400
TZNAME:EDT
DTSTART:20230312T070000
END:DAYLIGHT
BEGIN:STANDARD
TZOFFSETFROM:-0400
TZOFFSETTO:-0500
TZNAME:EST
DTSTART:20231105T060000
END:STANDARD
BEGIN:DAYLIGHT
TZOFFSETFROM:-0500
TZOFFSETTO:-0400
TZNAME:EDT
DTSTART:20240310T070000
END:DAYLIGHT
BEGIN:STANDARD
TZOFFSETFROM:-0400
TZOFFSETTO:-0500
TZNAME:EST
DTSTART:20241103T060000
END:STANDARD
BEGIN:DAYLIGHT
TZOFFSETFROM:-0500
TZOFFSETTO:-0400
TZNAME:EDT
DTSTART:20250309T070000
END:DAYLIGHT
BEGIN:STANDARD
TZOFFSETFROM:-0400
TZOFFSETTO:-0500
TZNAME:EST
DTSTART:20251102T060000
END:STANDARD
END:VTIMEZONE
BEGIN:VEVENT
DTSTART;TZID=America/Toronto:20240911T120000
DTEND;TZID=America/Toronto:20240911T130000
DTSTAMP:20260422T181303
CREATED:20240823T221239Z
LAST-MODIFIED:20241015T152929Z
UID:7214-1726056000-1726059600@loyalistcollege.com
SUMMARY:Wellness break rec
DESCRIPTION:Take advantage of the wellness break with campus rec! Get active with a variety of sports and games designed to help you de-stress and stay energized.
URL:https://loyalistcollege.com/event/wellness-break-rec/
LOCATION:Sports pad\, 376 Wallbridge Loyalist Rd.\, Belleville\, Ontario\, K8N 5B9\, Canada
CATEGORIES:Campus rec,Student events
END:VEVENT
BEGIN:VEVENT
DTSTART;TZID=America/Toronto:20240911T200000
DTEND;TZID=America/Toronto:20240911T210000
DTSTAMP:20260422T181303
CREATED:20240823T221626Z
LAST-MODIFIED:20241121T183047Z
UID:7219-1726084800-1726088400@loyalistcollege.com
SUMMARY:Fitness centre - Women's only hour
DESCRIPTION:This dedicated time allows women to work out in a supportive\, comfortable environment\, free from the usual crowds. Enjoy a range of fitness equipment and classes tailored just for you\, and embrace a workout experience that prioritizes your needs and goals. Join us to focus on your fitness journey with confidence and community!
URL:https://loyalistcollege.com/event/fitnesswomens-only-hour/
LOCATION:Fitness Centre (Room 1H5)\, Kente\, 376 Wallbridge Loyalist Rd.\, Belleville\, Ontario\, K8N 5B9\, Canada
CATEGORIES:Campus rec,Student events
END:VEVENT
BEGIN:VEVENT
DTSTART;TZID=America/Toronto:20240924T120000
DTEND;TZID=America/Toronto:20240924T130000
DTSTAMP:20260422T181303
CREATED:20240823T213536Z
LAST-MODIFIED:20240823T214534Z
UID:7182-1727179200-1727182800@loyalistcollege.com
SUMMARY:Campus ice breakers - Career Services
DESCRIPTION:At this event\, you’ll have the chance to connect with peers and explore career development resources. Engage in interactive activities while learning about career services available to you.
URL:https://loyalistcollege.com/event/campus-ice-breakers-career-services/
LOCATION:Link Lounge\, Kente Building\, 376 Wallbridge Loyalist Rd.\, Belleville\, Ontario\, K8N 5B9\, Canada
CATEGORIES:Career services,Orientation,Student events
END:VEVENT
BEGIN:VEVENT
DTSTART;TZID=America/Toronto:20240912T170000
DTEND;TZID=America/Toronto:20240912T180000
DTSTAMP:20260422T181303
CREATED:20240828T142829Z
LAST-MODIFIED:20241015T153012Z
UID:7227-1726160400-1726164000@loyalistcollege.com
SUMMARY:Fitness classes
DESCRIPTION:Explore a diverse range of classes at our fitness centre\, designed to fit every interest and fitness level. From high-energy cardio sessions and strength training to relaxing yoga and dynamic workouts\, there’s something for everyone. Our expert instructors will guide you through each class\, ensuring a motivating and effective experience.
URL:https://loyalistcollege.com/event/fitness-classes/
LOCATION:Fitness Centre (Room 1H5)\, Kente\, 376 Wallbridge Loyalist Rd.\, Belleville\, Ontario\, K8N 5B9\, Canada
CATEGORIES:Campus rec,Student events
END:VEVENT
BEGIN:VEVENT
DTSTART;TZID=America/Toronto:20240926T180000
DTEND;TZID=America/Toronto:20240926T200000
DTSTAMP:20260422T181303
CREATED:20240909T145935Z
LAST-MODIFIED:20240909T145935Z
UID:9864-1727373600-1727380800@loyalistcollege.com
SUMMARY:Drop-in gym time
DESCRIPTION:Join us every week for Open Gym time at Port Hope High School (north gym)! Whether you’re looking to shoot some hoops\, get active\, or just have fun with friends\, this is the perfect opportunity. No registration is required\, and it’s completely free of charge! Open to all Loyalist College in Port Hope students\, it’s a great way to stay active\, meet new people\, and unwind. So grab your sneakers and head over—everyone is welcome!
URL:https://loyalistcollege.com/event/drop-in-gym-time/
LOCATION:Port Hope High School (north gym)\, 130 Highland Drive.\, 130 Highland Avenue\, Port Hope\, Ontario\, L1A 2A3\, Canada
CATEGORIES:Campus rec
END:VEVENT
BEGIN:VEVENT
DTSTART;TZID=America/Toronto:20240926T190000
DTEND;TZID=America/Toronto:20240926T230000
DTSTAMP:20260422T181303
CREATED:20240823T215148Z
LAST-MODIFIED:20240824T152111Z
UID:7200-1727377200-1727391600@loyalistcollege.com
SUMMARY:Open mic and karaoke
DESCRIPTION:Join us for an exciting evening of open mic and karaoke! Whether you want to showcase your talent or cheer on others\, this is your chance to shine and have fun. Take the stage\, sing your heart out\, and enjoy a night filled with entertainment.
URL:https://loyalistcollege.com/event/open-mic-and-karaoke/
LOCATION:Shark Tank Pub\, Kente\, 376 Wallbridge Loyalist Rd.\, Belleville\, Ontario\, K8N 5B9\, Canada
CATEGORIES:Student events
ATTACH;FMTTYPE=image/jpeg:https://loyalistcollege.com/app/uploads/2024/08/LC_Open-Mic-Event-scaled.jpg
END:VEVENT
BEGIN:VEVENT
DTSTART;TZID=America/Toronto:20240913T180000
DTEND;TZID=America/Toronto:20240913T200000
DTSTAMP:20260422T181303
CREATED:20240823T221840Z
LAST-MODIFIED:20241015T153041Z
UID:7224-1726250400-1726257600@loyalistcollege.com
SUMMARY:Champion of the court
DESCRIPTION:Get ready for the ultimate showdown in Champion of the Court! Over the season\, compete in a variety of games and rack up points by playing and winning. Top performers will not only earn bragging rights but also exclusive swag to celebrate their victories. Show off your skills\, claim your spot\, and become the champion of the court.
URL:https://loyalistcollege.com/event/champion-of-the-court/
LOCATION:Sports pad\, 376 Wallbridge Loyalist Rd.\, Belleville\, Ontario\, K8N 5B9\, Canada
CATEGORIES:Campus rec,Student events
END:VEVENT
BEGIN:VEVENT
DTSTART;TZID=America/Toronto:20240928T120000
DTEND;TZID=America/Toronto:20240928T140000
DTSTAMP:20260422T181303
CREATED:20240823T220120Z
LAST-MODIFIED:20240911T161039Z
UID:7204-1727524800-1727532000@loyalistcollege.com
SUMMARY:Trip to Trenton Homestead - high ropes and mini golf
DESCRIPTION:Join us for an exciting trip to Trenton Homestead! Experience the thrill of the high ropes course and enjoy a round of mini golf. This adventure-filled day is a great way to challenge yourself\, have fun\, and make memories with fellow students. Don’t miss out on this chance for outdoor excitement and friendly competition!  \nReserve your spot here!
URL:https://loyalistcollege.com/event/trip-to-trenton-homestead-high-ropes-and-mini-golf/
LOCATION:Trenton Homestead Adventure Park\, 6 Douglas Rd\, Building C\, Trenton\, ON\, Canada
CATEGORIES:Off-campus adventure,Student events
ATTACH;FMTTYPE=image/jpeg:https://loyalistcollege.com/app/uploads/2024/08/LC_high-ropes-event-scaled.jpg
END:VEVENT
BEGIN:VEVENT
DTSTART;VALUE=DATE:20240930
DTEND;VALUE=DATE:20241001
DTSTAMP:20260422T181303
CREATED:20240920T164317Z
LAST-MODIFIED:20240930T134207Z
UID:11394-1727654400-1727740799@loyalistcollege.com
SUMMARY:Orange Shirt Day
DESCRIPTION:In September 2014\, the Assembly of First Nations asked all Canadians to join First Nations in wearing an orange shirt in the spirit of healing and reconciliation. The date Sept. 30 was chosen because it is the time of year when Indigenous children were taken away from their homes and placed in residential schools. \nLoyalist College faculty\, staff and students are encouraged to wear orange on Sept. 30\, as well as throughout the week of Sept. 23 – 27\, in honour of the children of the Indian Residential School System. \n100 percent of the proceeds from the purchase of a shirt will be donated to Survivor’s Secretariat. \nLearn more about Orange Shirt Day
URL:https://loyalistcollege.com/event/orange-shirt-day/
CATEGORIES:Indigenous initiatives,Student events
ATTACH;FMTTYPE=image/jpeg:https://loyalistcollege.com/app/uploads/2024/09/Orange-Shirt-Day-LC.jpg
END:VEVENT
BEGIN:VEVENT
DTSTART;TZID=America/Toronto:20240909T170000
DTEND;TZID=America/Toronto:20240909T190000
DTSTAMP:20260422T181303
CREATED:20240828T153503Z
LAST-MODIFIED:20241015T152759Z
UID:8865-1725901200-1725908400@loyalistcollege.com
SUMMARY:Drop-in rec
DESCRIPTION:Join us for Drop-In campus rec on Monday nights! Whether you’re into basketball\, pickleball or just looking to try out a new game\, we’ve got something for everyone. Grab some friends or come solo and meet new people in a fun\, relaxed atmosphere.
URL:https://loyalistcollege.com/event/drop-in-rec/
LOCATION:Sports pad\, 376 Wallbridge Loyalist Rd.\, Belleville\, Ontario\, K8N 5B9\, Canada
CATEGORIES:Campus rec,Student events
END:VEVENT
BEGIN:VEVENT
DTSTART;VALUE=DATE:20241001
DTEND;VALUE=DATE:20241016
DTSTAMP:20260422T181303
CREATED:20241003T195139Z
LAST-MODIFIED:20241003T195550Z
UID:12802-1727740800-1729036799@loyalistcollege.com
SUMMARY:Port Hope Student Vice-President Elections - Nominations
DESCRIPTION:The Student Vice-President\, Port Hope is responsible for connecting the Port Hope campus to the Belleville campus. \nResponsibilities include representing the students of the Port Hope campus\, attending Board meetings (virtually or in-person)\, actively engaging with the students of the Port Hope campus to determine their needs\, and advocating on their behalf. Duties also include planning and running interactive events aimed at engaging students. \nYou are an ideal candidate if you: \n\nHave strong people\, communication\, and organizational skills.\nEnjoy working with diverse groups and advocating for students.\nAre a proactive multitasker who can collaborate across departments.\nHave experience in public speaking and event planning.\nAre eager to learn and grow both personally and professionally.\n\nBe prepared to: \n\nEngage actively with students at the Port Hope campus.\nAttend Student Government Board meetings and communicate relevant information.\nPlan and coordinate events and activities.\nAddress and meet student needs.\n\nHave questions about Loyalist’s Student Government? Ask Nidhi who will be available October 10 from 11:30 – 1:30 pm in the Port Hope Main Hall. \nNominations open: October 1-15\nCampaigning: October 16 – 29\nOnline voting: October 30 – November 1
URL:https://loyalistcollege.com/event/port-hope-student-vice-president-elections-nominations/
LOCATION:Loyalist College Port Hope – Great Hall\, 10 Pine Street South\, Port Hope\, ON\, Canada
CATEGORIES:Student events,Student Government
ATTACH;FMTTYPE=image/jpeg:https://loyalistcollege.com/app/uploads/2024/08/Students-On-Campus-Belleville-About-Us.jpg
END:VEVENT
BEGIN:VEVENT
DTSTART;TZID=America/Toronto:20241001T120000
DTEND;TZID=America/Toronto:20241001T130000
DTSTAMP:20260422T181303
CREATED:20240923T131519Z
LAST-MODIFIED:20240923T131519Z
UID:11445-1727784000-1727787600@loyalistcollege.com
SUMMARY:Campus ice breakers – Awards
DESCRIPTION:Kick off the semester with Campus Ice Breakers\, where the College Advancement team will guide you through the process of applying for awards and scholarships! Meet new people\, learn valuable tips\, and get a head start on securing financial support. 
URL:https://loyalistcollege.com/event/campus-ice-breakers-awards/
LOCATION:Shark Tank Pub\, Kente\, 376 Wallbridge Loyalist Rd.\, Belleville\, Ontario\, K8N 5B9\, Canada
CATEGORIES:Orientation,Student events
END:VEVENT
BEGIN:VEVENT
DTSTART;TZID=America/Toronto:20241001T140000
DTEND;TZID=America/Toronto:20241001T170000
DTSTAMP:20260422T181303
CREATED:20240923T132351Z
LAST-MODIFIED:20240923T184115Z
UID:11449-1727791200-1727802000@loyalistcollege.com
SUMMARY:Club pub – Nigerian Independence Day
DESCRIPTION:Join us for an unforgettable afternoon as we celebrate Nigerian Independence Day in style! Enjoy cultural entertainment\, delicious traditional food\, and a festive atmosphere that brings the community together. 
URL:https://loyalistcollege.com/event/nigerian-independence-day/
LOCATION:Shark Tank Pub\, Kente\, 376 Wallbridge Loyalist Rd.\, Belleville\, Ontario\, K8N 5B9\, Canada
CATEGORIES:Student events
ATTACH;FMTTYPE=image/png:https://loyalistcollege.com/app/uploads/2024/09/Nigerian-Independence-Day-1.png
END:VEVENT
BEGIN:VEVENT
DTSTART;TZID=America/Toronto:20240910T200000
DTEND;TZID=America/Toronto:20240910T220000
DTSTAMP:20260422T181303
CREATED:20240823T220742Z
LAST-MODIFIED:20241015T152856Z
UID:7210-1725998400-1726005600@loyalistcollege.com
SUMMARY:Intramurals
DESCRIPTION:Our intramural programs offer a fun and inclusive way to stay active\, compete\, and connect with fellow students. With a range of sports and games to choose from\, there’s something for everyone\, whether you’re a seasoned athlete or just looking to enjoy some friendly competition. Get involved\, make new friends\, and show off your team spirit with Loyalist’s intramural leagues!
URL:https://loyalistcollege.com/event/late-night-campus-rec/
LOCATION:Outdoor Field\, 376 Wallbridge Loyalist Rd.\, Belleville\, Ontario\, K8N 5B9\, Canada
CATEGORIES:Campus rec,Student events
END:VEVENT
BEGIN:VEVENT
DTSTART;TZID=America/Toronto:20241002T110000
DTEND;TZID=America/Toronto:20241002T130000
DTSTAMP:20260422T181303
CREATED:20240923T133138Z
LAST-MODIFIED:20240923T133138Z
UID:11451-1727866800-1727874000@loyalistcollege.com
SUMMARY:Sharkie Social – Fall colours bingo
DESCRIPTION:Get ready for Sharkie Social: Fall Colours Bingo! Join us from 11 AM to 1 PM for a fun-filled bingo session with a seasonal twist. Enjoy the cozy autumn vibes while playing for the chance to win awesome prizes. 
URL:https://loyalistcollege.com/event/sharkie-social-fall-colours-bingo/
LOCATION:Shark Tank Pub\, Kente\, 376 Wallbridge Loyalist Rd.\, Belleville\, Ontario\, K8N 5B9\, Canada
CATEGORIES:Student events
END:VEVENT
BEGIN:VEVENT
DTSTART;TZID=America/Toronto:20240911T120000
DTEND;TZID=America/Toronto:20240911T130000
DTSTAMP:20260422T181303
CREATED:20240823T221239Z
LAST-MODIFIED:20241015T152929Z
UID:7214-1726056000-1726059600@loyalistcollege.com
SUMMARY:Wellness break rec
DESCRIPTION:Take advantage of the wellness break with campus rec! Get active with a variety of sports and games designed to help you de-stress and stay energized.
URL:https://loyalistcollege.com/event/wellness-break-rec/
LOCATION:Sports pad\, 376 Wallbridge Loyalist Rd.\, Belleville\, Ontario\, K8N 5B9\, Canada
CATEGORIES:Campus rec,Student events
END:VEVENT
BEGIN:VEVENT
DTSTART;TZID=America/Toronto:20240911T200000
DTEND;TZID=America/Toronto:20240911T210000
DTSTAMP:20260422T181303
CREATED:20240823T221626Z
LAST-MODIFIED:20241121T183047Z
UID:7219-1726084800-1726088400@loyalistcollege.com
SUMMARY:Fitness centre - Women's only hour
DESCRIPTION:This dedicated time allows women to work out in a supportive\, comfortable environment\, free from the usual crowds. Enjoy a range of fitness equipment and classes tailored just for you\, and embrace a workout experience that prioritizes your needs and goals. Join us to focus on your fitness journey with confidence and community!
URL:https://loyalistcollege.com/event/fitnesswomens-only-hour/
LOCATION:Fitness Centre (Room 1H5)\, Kente\, 376 Wallbridge Loyalist Rd.\, Belleville\, Ontario\, K8N 5B9\, Canada
CATEGORIES:Campus rec,Student events
END:VEVENT
BEGIN:VEVENT
DTSTART;TZID=America/Toronto:20241003T120000
DTEND;TZID=America/Toronto:20241003T130000
DTSTAMP:20260422T181303
CREATED:20240923T131622Z
LAST-MODIFIED:20240923T131622Z
UID:11446-1727956800-1727960400@loyalistcollege.com
SUMMARY:Campus ice breakers – Awards
DESCRIPTION:Kick off the semester with Campus Ice Breakers\, where the College Advancement team will guide you through the process of applying for awards and scholarships! Meet new people\, learn valuable tips\, and get a head start on securing financial support. 
URL:https://loyalistcollege.com/event/campus-ice-breakers-awards-2/
LOCATION:Link Lounge\, Kente Building\, 376 Wallbridge Loyalist Rd.\, Belleville\, Ontario\, K8N 5B9\, Canada
CATEGORIES:Orientation,Student events
END:VEVENT
BEGIN:VEVENT
DTSTART;TZID=America/Toronto:20240912T170000
DTEND;TZID=America/Toronto:20240912T180000
DTSTAMP:20260422T181303
CREATED:20240828T142829Z
LAST-MODIFIED:20241015T153012Z
UID:7227-1726160400-1726164000@loyalistcollege.com
SUMMARY:Fitness classes
DESCRIPTION:Explore a diverse range of classes at our fitness centre\, designed to fit every interest and fitness level. From high-energy cardio sessions and strength training to relaxing yoga and dynamic workouts\, there’s something for everyone. Our expert instructors will guide you through each class\, ensuring a motivating and effective experience.
URL:https://loyalistcollege.com/event/fitness-classes/
LOCATION:Fitness Centre (Room 1H5)\, Kente\, 376 Wallbridge Loyalist Rd.\, Belleville\, Ontario\, K8N 5B9\, Canada
CATEGORIES:Campus rec,Student events
END:VEVENT
BEGIN:VEVENT
DTSTART;TZID=America/Toronto:20240926T180000
DTEND;TZID=America/Toronto:20240926T200000
DTSTAMP:20260422T181303
CREATED:20240909T145935Z
LAST-MODIFIED:20240909T145935Z
UID:9864-1727373600-1727380800@loyalistcollege.com
SUMMARY:Drop-in gym time
DESCRIPTION:Join us every week for Open Gym time at Port Hope High School (north gym)! Whether you’re looking to shoot some hoops\, get active\, or just have fun with friends\, this is the perfect opportunity. No registration is required\, and it’s completely free of charge! Open to all Loyalist College in Port Hope students\, it’s a great way to stay active\, meet new people\, and unwind. So grab your sneakers and head over—everyone is welcome!
URL:https://loyalistcollege.com/event/drop-in-gym-time/
LOCATION:Port Hope High School (north gym)\, 130 Highland Drive.\, 130 Highland Avenue\, Port Hope\, Ontario\, L1A 2A3\, Canada
CATEGORIES:Campus rec
END:VEVENT
BEGIN:VEVENT
DTSTART;TZID=America/Toronto:20241003T210000
DTEND;TZID=America/Toronto:20241004T010000
DTSTAMP:20260422T181303
CREATED:20240923T133432Z
LAST-MODIFIED:20240925T133327Z
UID:11454-1727989200-1728003600@loyalistcollege.com
SUMMARY:Shark Tank Pub 30th Anniversary
DESCRIPTION:Come celebrate the Shark Tank Pub’s 30th Anniversary and Sharkie’s Birthday in one amazing party! Join us for a night of nostalgia\, live music\, birthday treats\, and great vibes as we mark three decades of fun and memories. 
URL:https://loyalistcollege.com/event/shark-tank-pub-30th-anniversary/
LOCATION:Shark Tank Pub\, Kente\, 376 Wallbridge Loyalist Rd.\, Belleville\, Ontario\, K8N 5B9\, Canada
CATEGORIES:Student events
ATTACH;FMTTYPE=image/png:https://loyalistcollege.com/app/uploads/2024/09/Shark-Tank-Anniversary.png
END:VEVENT
BEGIN:VEVENT
DTSTART;TZID=America/Toronto:20240913T180000
DTEND;TZID=America/Toronto:20240913T200000
DTSTAMP:20260422T181303
CREATED:20240823T221840Z
LAST-MODIFIED:20241015T153041Z
UID:7224-1726250400-1726257600@loyalistcollege.com
SUMMARY:Champion of the court
DESCRIPTION:Get ready for the ultimate showdown in Champion of the Court! Over the season\, compete in a variety of games and rack up points by playing and winning. Top performers will not only earn bragging rights but also exclusive swag to celebrate their victories. Show off your skills\, claim your spot\, and become the champion of the court.
URL:https://loyalistcollege.com/event/champion-of-the-court/
LOCATION:Sports pad\, 376 Wallbridge Loyalist Rd.\, Belleville\, Ontario\, K8N 5B9\, Canada
CATEGORIES:Campus rec,Student events
END:VEVENT
BEGIN:VEVENT
DTSTART;TZID=America/Toronto:20240909T170000
DTEND;TZID=America/Toronto:20240909T190000
DTSTAMP:20260422T181303
CREATED:20240828T153503Z
LAST-MODIFIED:20241015T152759Z
UID:8865-1725901200-1725908400@loyalistcollege.com
SUMMARY:Drop-in rec
DESCRIPTION:Join us for Drop-In campus rec on Monday nights! Whether you’re into basketball\, pickleball or just looking to try out a new game\, we’ve got something for everyone. Grab some friends or come solo and meet new people in a fun\, relaxed atmosphere.
URL:https://loyalistcollege.com/event/drop-in-rec/
LOCATION:Sports pad\, 376 Wallbridge Loyalist Rd.\, Belleville\, Ontario\, K8N 5B9\, Canada
CATEGORIES:Campus rec,Student events
END:VEVENT
BEGIN:VEVENT
DTSTART;TZID=America/Toronto:20241008T120000
DTEND;TZID=America/Toronto:20241008T130000
DTSTAMP:20260422T181303
CREATED:20240923T135220Z
LAST-MODIFIED:20240923T135220Z
UID:11456-1728388800-1728392400@loyalistcollege.com
SUMMARY:Campus Ice breakers – getting involved with Student Government
DESCRIPTION:Join us for Campus Ice Breakers and learn how you can get involved with Student Government! Meet current student leaders\, discover ways to make an impact on campus\, and explore opportunities to develop your leadership skills. 
URL:https://loyalistcollege.com/event/campus-ice-breakers-getting-involved-with-student-government/
LOCATION:Shark Tank Pub\, Kente\, 376 Wallbridge Loyalist Rd.\, Belleville\, Ontario\, K8N 5B9\, Canada
CATEGORIES:Student events,Student Government
END:VEVENT
BEGIN:VEVENT
DTSTART;TZID=America/Toronto:20241008T140000
DTEND;TZID=America/Toronto:20241008T170000
DTSTAMP:20260422T181303
CREATED:20240923T140020Z
LAST-MODIFIED:20240923T140045Z
UID:11460-1728396000-1728406800@loyalistcollege.com
SUMMARY:Club Pub – Pottery Painting and Club Fair
DESCRIPTION:Join us for a creative and fun-filled afternoon at the Club Pub’s Pottery Painting and Club Fair! Discover campus clubs\, meet new people\, and express your artistic side with pottery painting. Whether you’re looking to join a club or just want to relax and get creative\, this event has something for everyone. Plus\, take home your painted masterpiece as a keepsake! 
URL:https://loyalistcollege.com/event/club-pub-pottery-painting-and-club-fair/
LOCATION:Shark Tank Pub\, Kente\, 376 Wallbridge Loyalist Rd.\, Belleville\, Ontario\, K8N 5B9\, Canada
CATEGORIES:Student events
END:VEVENT
BEGIN:VEVENT
DTSTART;TZID=America/Toronto:20241008T140000
DTEND;TZID=America/Toronto:20241008T170000
DTSTAMP:20260422T181303
CREATED:20240923T145128Z
LAST-MODIFIED:20240923T145128Z
UID:11487-1728396000-1728406800@loyalistcollege.com
SUMMARY:Club Fair
DESCRIPTION:Discover your passion and get involved at the Club and Student Activity Fair! Explore a wide range of clubs\, organizations\, and activities that Loyalist has to offer. This fair is the perfect opportunity to connect with like-minded students\, learn about different groups\, and find out how you can join in. 
URL:https://loyalistcollege.com/event/club-fair-2/
LOCATION:Shark Tank Pub\, Kente\, 376 Wallbridge Loyalist Rd.\, Belleville\, Ontario\, K8N 5B9\, Canada
CATEGORIES:Student events
END:VEVENT
BEGIN:VEVENT
DTSTART;TZID=America/Toronto:20240910T200000
DTEND;TZID=America/Toronto:20240910T220000
DTSTAMP:20260422T181303
CREATED:20240823T220742Z
LAST-MODIFIED:20241015T152856Z
UID:7210-1725998400-1726005600@loyalistcollege.com
SUMMARY:Intramurals
DESCRIPTION:Our intramural programs offer a fun and inclusive way to stay active\, compete\, and connect with fellow students. With a range of sports and games to choose from\, there’s something for everyone\, whether you’re a seasoned athlete or just looking to enjoy some friendly competition. Get involved\, make new friends\, and show off your team spirit with Loyalist’s intramural leagues!
URL:https://loyalistcollege.com/event/late-night-campus-rec/
LOCATION:Outdoor Field\, 376 Wallbridge Loyalist Rd.\, Belleville\, Ontario\, K8N 5B9\, Canada
CATEGORIES:Campus rec,Student events
END:VEVENT
BEGIN:VEVENT
DTSTART;TZID=America/Toronto:20241009T110000
DTEND;TZID=America/Toronto:20241009T130000
DTSTAMP:20260422T181303
CREATED:20240923T150807Z
LAST-MODIFIED:20240923T150807Z
UID:11489-1728471600-1728478800@loyalistcollege.com
SUMMARY:Sharkie Social – Harvest Feast
DESCRIPTION:Join us for Harvest Feast\, an afternoon filled with delicious seasonal dishes and festive activities! Savour hearty meals while connecting with friends and fellow students. It’s a great way to celebrate the season and create lasting memories together!
URL:https://loyalistcollege.com/event/sharkie-social-harvest-feast/
CATEGORIES:Student events
END:VEVENT
BEGIN:VEVENT
DTSTART;TZID=America/Toronto:20240911T120000
DTEND;TZID=America/Toronto:20240911T130000
DTSTAMP:20260422T181303
CREATED:20240823T221239Z
LAST-MODIFIED:20241015T152929Z
UID:7214-1726056000-1726059600@loyalistcollege.com
SUMMARY:Wellness break rec
DESCRIPTION:Take advantage of the wellness break with campus rec! Get active with a variety of sports and games designed to help you de-stress and stay energized.
URL:https://loyalistcollege.com/event/wellness-break-rec/
LOCATION:Sports pad\, 376 Wallbridge Loyalist Rd.\, Belleville\, Ontario\, K8N 5B9\, Canada
CATEGORIES:Campus rec,Student events
END:VEVENT
BEGIN:VEVENT
DTSTART;TZID=America/Toronto:20240911T200000
DTEND;TZID=America/Toronto:20240911T210000
DTSTAMP:20260422T181303
CREATED:20240823T221626Z
LAST-MODIFIED:20241121T183047Z
UID:7219-1726084800-1726088400@loyalistcollege.com
SUMMARY:Fitness centre - Women's only hour
DESCRIPTION:This dedicated time allows women to work out in a supportive\, comfortable environment\, free from the usual crowds. Enjoy a range of fitness equipment and classes tailored just for you\, and embrace a workout experience that prioritizes your needs and goals. Join us to focus on your fitness journey with confidence and community!
URL:https://loyalistcollege.com/event/fitnesswomens-only-hour/
LOCATION:Fitness Centre (Room 1H5)\, Kente\, 376 Wallbridge Loyalist Rd.\, Belleville\, Ontario\, K8N 5B9\, Canada
CATEGORIES:Campus rec,Student events
END:VEVENT
END:VCALENDAR