BEGIN:VCALENDAR
VERSION:2.0
PRODID:-//Loyalist College - ECPv6.15.18//NONSGML v1.0//EN
CALSCALE:GREGORIAN
METHOD:PUBLISH
X-WR-CALNAME:Loyalist College
X-ORIGINAL-URL:https://loyalistcollege.com
X-WR-CALDESC:Events for Loyalist College
REFRESH-INTERVAL;VALUE=DURATION:PT1H
X-Robots-Tag:noindex
X-PUBLISHED-TTL:PT1H
BEGIN:VTIMEZONE
TZID:America/Toronto
BEGIN:DAYLIGHT
TZOFFSETFROM:-0500
TZOFFSETTO:-0400
TZNAME:EDT
DTSTART:20230312T070000
END:DAYLIGHT
BEGIN:STANDARD
TZOFFSETFROM:-0400
TZOFFSETTO:-0500
TZNAME:EST
DTSTART:20231105T060000
END:STANDARD
BEGIN:DAYLIGHT
TZOFFSETFROM:-0500
TZOFFSETTO:-0400
TZNAME:EDT
DTSTART:20240310T070000
END:DAYLIGHT
BEGIN:STANDARD
TZOFFSETFROM:-0400
TZOFFSETTO:-0500
TZNAME:EST
DTSTART:20241103T060000
END:STANDARD
BEGIN:DAYLIGHT
TZOFFSETFROM:-0500
TZOFFSETTO:-0400
TZNAME:EDT
DTSTART:20250309T070000
END:DAYLIGHT
BEGIN:STANDARD
TZOFFSETFROM:-0400
TZOFFSETTO:-0500
TZNAME:EST
DTSTART:20251102T060000
END:STANDARD
END:VTIMEZONE
BEGIN:VEVENT
DTSTART;TZID=America/Toronto:20240911T110000
DTEND;TZID=America/Toronto:20240911T130000
DTSTAMP:20260422T121338
CREATED:20240823T212131Z
LAST-MODIFIED:20240906T213818Z
UID:7163-1726052400-1726059600@loyalistcollege.com
SUMMARY:Community service fair
DESCRIPTION:Connect with local businesses and community organizations at the Community and Business Fair! This event offers a fantastic opportunity to explore potential partnerships\, discover local services\, and learn about job and volunteer opportunities in the area. 
URL:https://loyalistcollege.com/event/community-service-fair/
LOCATION:Shark Tank Pub\, Kente\, 376 Wallbridge Loyalist Rd.\, Belleville\, Ontario\, K8N 5B9\, Canada
CATEGORIES:Orientation,Student events
ATTACH;FMTTYPE=image/jpeg:https://loyalistcollege.com/app/uploads/2024/08/IMG_6376.jpg
END:VEVENT
BEGIN:VEVENT
DTSTART;TZID=America/Toronto:20240911T120000
DTEND;TZID=America/Toronto:20240911T130000
DTSTAMP:20260422T121338
CREATED:20240823T221239Z
LAST-MODIFIED:20241015T152929Z
UID:7214-1726056000-1726059600@loyalistcollege.com
SUMMARY:Wellness break rec
DESCRIPTION:Take advantage of the wellness break with campus rec! Get active with a variety of sports and games designed to help you de-stress and stay energized.
URL:https://loyalistcollege.com/event/wellness-break-rec/
LOCATION:Sports pad\, 376 Wallbridge Loyalist Rd.\, Belleville\, Ontario\, K8N 5B9\, Canada
CATEGORIES:Campus rec,Student events
END:VEVENT
BEGIN:VEVENT
DTSTART;TZID=America/Toronto:20240911T200000
DTEND;TZID=America/Toronto:20240911T210000
DTSTAMP:20260422T121338
CREATED:20240823T221626Z
LAST-MODIFIED:20241121T183047Z
UID:7219-1726084800-1726088400@loyalistcollege.com
SUMMARY:Fitness centre - Women's only hour
DESCRIPTION:This dedicated time allows women to work out in a supportive\, comfortable environment\, free from the usual crowds. Enjoy a range of fitness equipment and classes tailored just for you\, and embrace a workout experience that prioritizes your needs and goals. Join us to focus on your fitness journey with confidence and community!
URL:https://loyalistcollege.com/event/fitnesswomens-only-hour/
LOCATION:Fitness Centre (Room 1H5)\, Kente\, 376 Wallbridge Loyalist Rd.\, Belleville\, Ontario\, K8N 5B9\, Canada
CATEGORIES:Campus rec,Student events
END:VEVENT
BEGIN:VEVENT
DTSTART;TZID=America/Toronto:20240912T110000
DTEND;TZID=America/Toronto:20240912T130000
DTSTAMP:20260422T121338
CREATED:20240823T212257Z
LAST-MODIFIED:20240823T212621Z
UID:7167-1726138800-1726146000@loyalistcollege.com
SUMMARY:Student services fair
DESCRIPTION:Discover the wide range of services and resources available to support your success at Loyalist College! The Service and Supports Fair is your one-stop shop for connecting with essential campus services\, from academic help and counselling to health services and career advice. Meet representatives from various departments\, get answers to your questions\, and learn how to make the most of the support systems in place to help you thrive during your time at college.
URL:https://loyalistcollege.com/event/student-services-fair/
LOCATION:Shark Tank Pub\, Kente\, 376 Wallbridge Loyalist Rd.\, Belleville\, Ontario\, K8N 5B9\, Canada
CATEGORIES:Orientation,Student events
END:VEVENT
BEGIN:VEVENT
DTSTART;TZID=America/Toronto:20240912T170000
DTEND;TZID=America/Toronto:20240912T180000
DTSTAMP:20260422T121338
CREATED:20240828T142829Z
LAST-MODIFIED:20241015T153012Z
UID:7227-1726160400-1726164000@loyalistcollege.com
SUMMARY:Fitness classes
DESCRIPTION:Explore a diverse range of classes at our fitness centre\, designed to fit every interest and fitness level. From high-energy cardio sessions and strength training to relaxing yoga and dynamic workouts\, there’s something for everyone. Our expert instructors will guide you through each class\, ensuring a motivating and effective experience.
URL:https://loyalistcollege.com/event/fitness-classes/
LOCATION:Fitness Centre (Room 1H5)\, Kente\, 376 Wallbridge Loyalist Rd.\, Belleville\, Ontario\, K8N 5B9\, Canada
CATEGORIES:Campus rec,Student events
END:VEVENT
BEGIN:VEVENT
DTSTART;TZID=America/Toronto:20240912T210000
DTEND;TZID=America/Toronto:20240912T210000
DTSTAMP:20260422T121338
CREATED:20240823T212525Z
LAST-MODIFIED:20240906T213847Z
UID:7170-1726174800-1726174800@loyalistcollege.com
SUMMARY:Silent disco
DESCRIPTION:Get ready to dance like no one’s watching at our silent disco! Grab a pair of wireless headphones and choose from multiple music channels to find your perfect beat. 
URL:https://loyalistcollege.com/event/silent-disco/
LOCATION:Shark Tank Pub\, Kente\, 376 Wallbridge Loyalist Rd.\, Belleville\, Ontario\, K8N 5B9\, Canada
CATEGORIES:Student events
ATTACH;FMTTYPE=image/jpeg:https://loyalistcollege.com/app/uploads/2024/08/St.PattysEvent-112.jpg
END:VEVENT
BEGIN:VEVENT
DTSTART;TZID=America/Toronto:20240913T180000
DTEND;TZID=America/Toronto:20240913T200000
DTSTAMP:20260422T121338
CREATED:20240823T221840Z
LAST-MODIFIED:20241015T153041Z
UID:7224-1726250400-1726257600@loyalistcollege.com
SUMMARY:Champion of the court
DESCRIPTION:Get ready for the ultimate showdown in Champion of the Court! Over the season\, compete in a variety of games and rack up points by playing and winning. Top performers will not only earn bragging rights but also exclusive swag to celebrate their victories. Show off your skills\, claim your spot\, and become the champion of the court.
URL:https://loyalistcollege.com/event/champion-of-the-court/
LOCATION:Sports pad\, 376 Wallbridge Loyalist Rd.\, Belleville\, Ontario\, K8N 5B9\, Canada
CATEGORIES:Campus rec,Student events
END:VEVENT
BEGIN:VEVENT
DTSTART;TZID=America/Toronto:20240909T170000
DTEND;TZID=America/Toronto:20240909T190000
DTSTAMP:20260422T121338
CREATED:20240828T153503Z
LAST-MODIFIED:20241015T152759Z
UID:8865-1725901200-1725908400@loyalistcollege.com
SUMMARY:Drop-in rec
DESCRIPTION:Join us for Drop-In campus rec on Monday nights! Whether you’re into basketball\, pickleball or just looking to try out a new game\, we’ve got something for everyone. Grab some friends or come solo and meet new people in a fun\, relaxed atmosphere.
URL:https://loyalistcollege.com/event/drop-in-rec/
LOCATION:Sports pad\, 376 Wallbridge Loyalist Rd.\, Belleville\, Ontario\, K8N 5B9\, Canada
CATEGORIES:Campus rec,Student events
END:VEVENT
BEGIN:VEVENT
DTSTART;TZID=America/Toronto:20240917T120000
DTEND;TZID=America/Toronto:20240917T130000
DTSTAMP:20260422T121338
CREATED:20240823T202032Z
LAST-MODIFIED:20240823T202537Z
UID:7081-1726574400-1726578000@loyalistcollege.com
SUMMARY:Campus ice breakers - sexual violence prevention
DESCRIPTION:Join us for the “Ice Breaker: Sexual Violence Prevention” event\, designed to foster open discussions and awareness about preventing sexual violence. This event aims to empower participants with knowledge and tools for positive change. 
URL:https://loyalistcollege.com/event/campus-ice-breakers-sexual-violence-prevention/
LOCATION:Shark Tank Pub\, Kente\, 376 Wallbridge Loyalist Rd.\, Belleville\, Ontario\, K8N 5B9\, Canada
CATEGORIES:Student events
END:VEVENT
BEGIN:VEVENT
DTSTART;TZID=America/Toronto:20240917T140000
DTEND;TZID=America/Toronto:20240917T170000
DTSTAMP:20260422T121338
CREATED:20240823T201830Z
LAST-MODIFIED:20240823T201830Z
UID:7077-1726581600-1726592400@loyalistcollege.com
SUMMARY:Club pub - celebrating Latin heritage
DESCRIPTION:Join us for “Celebrating Latin Heritage\,” an event dedicated to honoring and exploring Latin culture with our own Latin students at Loyalist. Do not miss this lively celebration of heritage and unity! 
URL:https://loyalistcollege.com/event/club-pub-celebrating-latin-heritage/
LOCATION:Shark Tank Pub\, Kente\, 376 Wallbridge Loyalist Rd.\, Belleville\, Ontario\, K8N 5B9\, Canada
CATEGORIES:International students,Student events
END:VEVENT
BEGIN:VEVENT
DTSTART;TZID=America/Toronto:20240910T200000
DTEND;TZID=America/Toronto:20240910T220000
DTSTAMP:20260422T121338
CREATED:20240823T220742Z
LAST-MODIFIED:20241015T152856Z
UID:7210-1725998400-1726005600@loyalistcollege.com
SUMMARY:Intramurals
DESCRIPTION:Our intramural programs offer a fun and inclusive way to stay active\, compete\, and connect with fellow students. With a range of sports and games to choose from\, there’s something for everyone\, whether you’re a seasoned athlete or just looking to enjoy some friendly competition. Get involved\, make new friends\, and show off your team spirit with Loyalist’s intramural leagues!
URL:https://loyalistcollege.com/event/late-night-campus-rec/
LOCATION:Outdoor Field\, 376 Wallbridge Loyalist Rd.\, Belleville\, Ontario\, K8N 5B9\, Canada
CATEGORIES:Campus rec,Student events
END:VEVENT
BEGIN:VEVENT
DTSTART;TZID=America/Toronto:20240918T110000
DTEND;TZID=America/Toronto:20240918T130000
DTSTAMP:20260422T121338
CREATED:20240823T202156Z
LAST-MODIFIED:20240823T202419Z
UID:7084-1726657200-1726664400@loyalistcollege.com
SUMMARY:Sharkie social - minute to win it
DESCRIPTION:Jump into the excitement at our Sharkie Social with a thrilling “Minute to Win It” event! Challenge yourself with fast-paced\, quirky tasks that will have you laughing and competing alongside friends. It’s the ideal chance to meet new people\, enjoy some friendly rivalry\, and win some awesome prizes.
URL:https://loyalistcollege.com/event/sharkie-social-minute-to-win-it/
LOCATION:Shark Tank Pub\, Kente\, 376 Wallbridge Loyalist Rd.\, Belleville\, Ontario\, K8N 5B9\, Canada
CATEGORIES:Student events
END:VEVENT
BEGIN:VEVENT
DTSTART;TZID=America/Toronto:20240911T120000
DTEND;TZID=America/Toronto:20240911T130000
DTSTAMP:20260422T121338
CREATED:20240823T221239Z
LAST-MODIFIED:20241015T152929Z
UID:7214-1726056000-1726059600@loyalistcollege.com
SUMMARY:Wellness break rec
DESCRIPTION:Take advantage of the wellness break with campus rec! Get active with a variety of sports and games designed to help you de-stress and stay energized.
URL:https://loyalistcollege.com/event/wellness-break-rec/
LOCATION:Sports pad\, 376 Wallbridge Loyalist Rd.\, Belleville\, Ontario\, K8N 5B9\, Canada
CATEGORIES:Campus rec,Student events
END:VEVENT
BEGIN:VEVENT
DTSTART;TZID=America/Toronto:20240918T120000
DTEND;TZID=America/Toronto:20240918T140000
DTSTAMP:20260422T121338
CREATED:20240909T160729Z
LAST-MODIFIED:20240916T165229Z
UID:9903-1726660800-1726668000@loyalistcollege.com
SUMMARY:Explore the Port Hope community
DESCRIPTION:Explore the beautiful Port Hope community with us! Meet at the front entrance of the 10 Pine Street building\, and don’t forget to wear comfortable shoes for a leisurely walk. Together\, we’ll visit the famous Salmon Ladder and take in some of the town’s most scenic spots. This is a great way to connect with fellow students\, discover local attractions\, and enjoy the fresh air! Best of all\, it’s completely free and open to everyone.
URL:https://loyalistcollege.com/event/explore-the-port-hope-community/
LOCATION:Loyalist College Port Hope – Great Hall\, 10 Pine Street South\, Port Hope\, ON\, Canada
CATEGORIES:Campus rec,Off-campus adventure
ATTACH;FMTTYPE=image/jpeg:https://loyalistcollege.com/app/uploads/2024/08/LC-Port-Hope-Aerial.jpg
END:VEVENT
BEGIN:VEVENT
DTSTART;TZID=America/Toronto:20240918T170000
DTEND;TZID=America/Toronto:20240918T190000
DTSTAMP:20260422T121338
CREATED:20240823T202312Z
LAST-MODIFIED:20240823T211516Z
UID:7089-1726678800-1726686000@loyalistcollege.com
SUMMARY:Take back the night
DESCRIPTION:Take Back the Night events bring together communities in a powerful and public way to both highlight the problem of sexual violence in all forms and support survivors in their healing process.
URL:https://loyalistcollege.com/event/take-back-the-night/
LOCATION:Residence commons
CATEGORIES:Residence programming,Student events
END:VEVENT
BEGIN:VEVENT
DTSTART;TZID=America/Toronto:20240911T200000
DTEND;TZID=America/Toronto:20240911T210000
DTSTAMP:20260422T121338
CREATED:20240823T221626Z
LAST-MODIFIED:20241121T183047Z
UID:7219-1726084800-1726088400@loyalistcollege.com
SUMMARY:Fitness centre - Women's only hour
DESCRIPTION:This dedicated time allows women to work out in a supportive\, comfortable environment\, free from the usual crowds. Enjoy a range of fitness equipment and classes tailored just for you\, and embrace a workout experience that prioritizes your needs and goals. Join us to focus on your fitness journey with confidence and community!
URL:https://loyalistcollege.com/event/fitnesswomens-only-hour/
LOCATION:Fitness Centre (Room 1H5)\, Kente\, 376 Wallbridge Loyalist Rd.\, Belleville\, Ontario\, K8N 5B9\, Canada
CATEGORIES:Campus rec,Student events
END:VEVENT
BEGIN:VEVENT
DTSTART;TZID=America/Toronto:20240919T120000
DTEND;TZID=America/Toronto:20240919T130000
DTSTAMP:20260422T121338
CREATED:20240823T202951Z
LAST-MODIFIED:20240823T203122Z
UID:7102-1726747200-1726750800@loyalistcollege.com
SUMMARY:Campus ice breakers - sexual violence prevention
DESCRIPTION:Join us for the “Ice Breaker: Sexual Violence Prevention” event\, designed to foster open discussions and awareness about preventing sexual violence. This event aims to empower participants with knowledge and tools for positive change. 
URL:https://loyalistcollege.com/event/campus-ice-breakers-sexual-violence-prevention-2/
LOCATION:Link lounge\, Kente\, 376 Wallbridge Loyalist Rd\, Belleville\, K8N 5B9\, Canada
CATEGORIES:Student events
END:VEVENT
BEGIN:VEVENT
DTSTART;TZID=America/Toronto:20240919T120000
DTEND;TZID=America/Toronto:20240919T130000
DTSTAMP:20260422T121338
CREATED:20240913T184725Z
LAST-MODIFIED:20240913T185138Z
UID:10709-1726747200-1726750800@loyalistcollege.com
SUMMARY:Celebrate Powley Day with the Indigenous Centre
DESCRIPTION:In celebration of the Métis Nation and Powley Day on Sept. 19th\, the Indigenous Centre will be hosting a video presentation from 12 – 1 pm\, along with some delicious corn soup. \nPowley Day commemorates the historic 2003 Supreme Court decision recognizing the Métis as a distinct Indigenous people\, paving the way for Métis self-government. It’s a time to reflect on this important victory and to welcome new and returning Métis students to Loyalist College. \nAll Loyalist College community members are welcome to attend! If you’d like to join us\, please email bbrant@loyalistcollege.com to sign up so we know how much soup to prepare.
URL:https://loyalistcollege.com/event/celebrate-powley-day-with-the-indigenous-centre/
LOCATION:Tsi Titewaya’taró:roks Centre (Room 1H6)\, Kente\, 376 Wallbridge Loyalist Rd.\, Belleville\, Ontario\, K8N 5B9\, Canada
CATEGORIES:Indigenous services,Student events
END:VEVENT
BEGIN:VEVENT
DTSTART;TZID=America/Toronto:20240912T170000
DTEND;TZID=America/Toronto:20240912T180000
DTSTAMP:20260422T121338
CREATED:20240828T142829Z
LAST-MODIFIED:20241015T153012Z
UID:7227-1726160400-1726164000@loyalistcollege.com
SUMMARY:Fitness classes
DESCRIPTION:Explore a diverse range of classes at our fitness centre\, designed to fit every interest and fitness level. From high-energy cardio sessions and strength training to relaxing yoga and dynamic workouts\, there’s something for everyone. Our expert instructors will guide you through each class\, ensuring a motivating and effective experience.
URL:https://loyalistcollege.com/event/fitness-classes/
LOCATION:Fitness Centre (Room 1H5)\, Kente\, 376 Wallbridge Loyalist Rd.\, Belleville\, Ontario\, K8N 5B9\, Canada
CATEGORIES:Campus rec,Student events
END:VEVENT
BEGIN:VEVENT
DTSTART;TZID=America/Toronto:20240919T190000
DTEND;TZID=America/Toronto:20240919T230000
DTSTAMP:20260422T121338
CREATED:20240823T203222Z
LAST-MODIFIED:20240912T202623Z
UID:7109-1726772400-1726786800@loyalistcollege.com
SUMMARY:Sexy bingo
DESCRIPTION:Prepare for an evening of education and entertainment with Sexy Bingo\, a fresh take on sex education. This event blends the thrill of bingo with insightful and engaging conversations about sexual health and wellness. Join us for a night that is both informative and enjoyable\, packed with laughter and lively discussions. 
URL:https://loyalistcollege.com/event/sexy-bingo/
LOCATION:Shark Tank Pub\, Kente\, 376 Wallbridge Loyalist Rd.\, Belleville\, Ontario\, K8N 5B9\, Canada
CATEGORIES:Student events
END:VEVENT
BEGIN:VEVENT
DTSTART;TZID=America/Toronto:20240913T180000
DTEND;TZID=America/Toronto:20240913T200000
DTSTAMP:20260422T121338
CREATED:20240823T221840Z
LAST-MODIFIED:20241015T153041Z
UID:7224-1726250400-1726257600@loyalistcollege.com
SUMMARY:Champion of the court
DESCRIPTION:Get ready for the ultimate showdown in Champion of the Court! Over the season\, compete in a variety of games and rack up points by playing and winning. Top performers will not only earn bragging rights but also exclusive swag to celebrate their victories. Show off your skills\, claim your spot\, and become the champion of the court.
URL:https://loyalistcollege.com/event/champion-of-the-court/
LOCATION:Sports pad\, 376 Wallbridge Loyalist Rd.\, Belleville\, Ontario\, K8N 5B9\, Canada
CATEGORIES:Campus rec,Student events
END:VEVENT
BEGIN:VEVENT
DTSTART;TZID=America/Toronto:20240921T070000
DTEND;TZID=America/Toronto:20240921T190000
DTSTAMP:20260422T121338
CREATED:20240823T203502Z
LAST-MODIFIED:20240824T205221Z
UID:7112-1726902000-1726945200@loyalistcollege.com
SUMMARY:One-day trip to Niagara Falls
DESCRIPTION:Join us for an exciting day trip to Niagara Falls\, exclusively for Loyalist College students! Experience the awe-inspiring beauty of the falls\, enjoy scenic views\, and make lasting memories with fellow students. Do not miss this chance for a day of adventure and fun!  \nBelleville Campus Sign up \nPort Hope Campus Sign up
URL:https://loyalistcollege.com/event/one-day-trip-to-niagara-falls/
LOCATION:Ontario
CATEGORIES:Off-campus adventure,Student events
ATTACH;FMTTYPE=image/jpeg:https://loyalistcollege.com/app/uploads/2024/08/LC_Niagara-falls-trip-event-scaled.jpg
END:VEVENT
BEGIN:VEVENT
DTSTART;TZID=America/Toronto:20240923T090000
DTEND;TZID=America/Toronto:20240927T120000
DTSTAMP:20260422T121338
CREATED:20240920T162840Z
LAST-MODIFIED:20240920T163316Z
UID:11372-1727082000-1727438400@loyalistcollege.com
SUMMARY:Truth and Reconciliation Week
DESCRIPTION:Please join us in remembering the lives of the lost children and honouring the survivors of Canada’s residential school system during Truth and Reconciliation Week. \nFrom Sept. 23 – 27 and on Orange Shirt Day\, Sept. 30\, the college’s Tsi Titewaya’taró:roks team will host a series of events and educational opportunities at Loyalist’s Belleville and Port Hope locations to promote understanding of the legacy of residential schools and the significance of Orange Shirt Day. \nLoyalist encourages all students\, faculty and staff to participate in these events and join the conversation. Learning and commemorating the truth of our history from First Nations\, Métis\, and Inuit knowledge keepers is an important part of the reconciliation process. \nView the schedule
URL:https://loyalistcollege.com/event/truth-and-reconciliation-week/
LOCATION:Ontario
CATEGORIES:Indigenous initiatives,Student events
ATTACH;FMTTYPE=image/jpeg:https://loyalistcollege.com/app/uploads/2024/08/LOYALIST-COLLEGE-Ano_wara-Learning-Circle-1-2-scaled.jpg
END:VEVENT
BEGIN:VEVENT
DTSTART;TZID=America/Toronto:20240909T170000
DTEND;TZID=America/Toronto:20240909T190000
DTSTAMP:20260422T121338
CREATED:20240828T153503Z
LAST-MODIFIED:20241015T152759Z
UID:8865-1725901200-1725908400@loyalistcollege.com
SUMMARY:Drop-in rec
DESCRIPTION:Join us for Drop-In campus rec on Monday nights! Whether you’re into basketball\, pickleball or just looking to try out a new game\, we’ve got something for everyone. Grab some friends or come solo and meet new people in a fun\, relaxed atmosphere.
URL:https://loyalistcollege.com/event/drop-in-rec/
LOCATION:Sports pad\, 376 Wallbridge Loyalist Rd.\, Belleville\, Ontario\, K8N 5B9\, Canada
CATEGORIES:Campus rec,Student events
END:VEVENT
BEGIN:VEVENT
DTSTART;TZID=America/Toronto:20240924T120000
DTEND;TZID=America/Toronto:20240924T130000
DTSTAMP:20260422T121338
CREATED:20240823T213536Z
LAST-MODIFIED:20240823T214534Z
UID:7182-1727179200-1727182800@loyalistcollege.com
SUMMARY:Campus ice breakers - Career Services
DESCRIPTION:At this event\, you’ll have the chance to connect with peers and explore career development resources. Engage in interactive activities while learning about career services available to you.
URL:https://loyalistcollege.com/event/campus-ice-breakers-career-services/
LOCATION:Link Lounge\, Kente Building\, 376 Wallbridge Loyalist Rd.\, Belleville\, Ontario\, K8N 5B9\, Canada
CATEGORIES:Career services,Orientation,Student events
END:VEVENT
BEGIN:VEVENT
DTSTART;TZID=America/Toronto:20240924T140000
DTEND;TZID=America/Toronto:20240924T170000
DTSTAMP:20260422T121338
CREATED:20240823T213750Z
LAST-MODIFIED:20240920T174521Z
UID:7185-1727186400-1727197200@loyalistcollege.com
SUMMARY:Apple party
DESCRIPTION:Celebrate the flavours of fall!\nGet creative and make your own apple crisp from scratch\, with all the ingredients provided. Enjoy the fun atmosphere and great music as you craft your perfect fall dessert! \n 
URL:https://loyalistcollege.com/event/apple-party/
LOCATION:Shark Tank Pub\, Kente\, 376 Wallbridge Loyalist Rd.\, Belleville\, Ontario\, K8N 5B9\, Canada
CATEGORIES:Student events
END:VEVENT
BEGIN:VEVENT
DTSTART;TZID=America/Toronto:20240910T200000
DTEND;TZID=America/Toronto:20240910T220000
DTSTAMP:20260422T121338
CREATED:20240823T220742Z
LAST-MODIFIED:20241015T152856Z
UID:7210-1725998400-1726005600@loyalistcollege.com
SUMMARY:Intramurals
DESCRIPTION:Our intramural programs offer a fun and inclusive way to stay active\, compete\, and connect with fellow students. With a range of sports and games to choose from\, there’s something for everyone\, whether you’re a seasoned athlete or just looking to enjoy some friendly competition. Get involved\, make new friends\, and show off your team spirit with Loyalist’s intramural leagues!
URL:https://loyalistcollege.com/event/late-night-campus-rec/
LOCATION:Outdoor Field\, 376 Wallbridge Loyalist Rd.\, Belleville\, Ontario\, K8N 5B9\, Canada
CATEGORIES:Campus rec,Student events
END:VEVENT
BEGIN:VEVENT
DTSTART;TZID=America/Toronto:20240925T100000
DTEND;TZID=America/Toronto:20240925T130000
DTSTAMP:20260422T121338
CREATED:20240823T213859Z
LAST-MODIFIED:20240904T201746Z
UID:7192-1727258400-1727269200@loyalistcollege.com
SUMMARY:Part-time career fair
DESCRIPTION:Don’t miss the Part-Time Career Fair\, an opportunity for students and job seekers looking to find flexible work options while gaining valuable experience. Join us to network\, discover new career paths\, and kickstart your part-time job search!  \nEmployer Registration
URL:https://loyalistcollege.com/event/part-time-career-fair/
LOCATION:Link Lounge\, Kente Building\, 376 Wallbridge Loyalist Rd.\, Belleville\, Ontario\, K8N 5B9\, Canada
CATEGORIES:Career services,Student events
END:VEVENT
BEGIN:VEVENT
DTSTART;TZID=America/Toronto:20240911T120000
DTEND;TZID=America/Toronto:20240911T130000
DTSTAMP:20260422T121338
CREATED:20240823T221239Z
LAST-MODIFIED:20241015T152929Z
UID:7214-1726056000-1726059600@loyalistcollege.com
SUMMARY:Wellness break rec
DESCRIPTION:Take advantage of the wellness break with campus rec! Get active with a variety of sports and games designed to help you de-stress and stay energized.
URL:https://loyalistcollege.com/event/wellness-break-rec/
LOCATION:Sports pad\, 376 Wallbridge Loyalist Rd.\, Belleville\, Ontario\, K8N 5B9\, Canada
CATEGORIES:Campus rec,Student events
END:VEVENT
BEGIN:VEVENT
DTSTART;TZID=America/Toronto:20240911T200000
DTEND;TZID=America/Toronto:20240911T210000
DTSTAMP:20260422T121338
CREATED:20240823T221626Z
LAST-MODIFIED:20241121T183047Z
UID:7219-1726084800-1726088400@loyalistcollege.com
SUMMARY:Fitness centre - Women's only hour
DESCRIPTION:This dedicated time allows women to work out in a supportive\, comfortable environment\, free from the usual crowds. Enjoy a range of fitness equipment and classes tailored just for you\, and embrace a workout experience that prioritizes your needs and goals. Join us to focus on your fitness journey with confidence and community!
URL:https://loyalistcollege.com/event/fitnesswomens-only-hour/
LOCATION:Fitness Centre (Room 1H5)\, Kente\, 376 Wallbridge Loyalist Rd.\, Belleville\, Ontario\, K8N 5B9\, Canada
CATEGORIES:Campus rec,Student events
END:VEVENT
END:VCALENDAR