BEGIN:VCALENDAR
VERSION:2.0
PRODID:-//Loyalist College - ECPv6.15.18//NONSGML v1.0//EN
CALSCALE:GREGORIAN
METHOD:PUBLISH
X-WR-CALNAME:Loyalist College
X-ORIGINAL-URL:https://loyalistcollege.com
X-WR-CALDESC:Events for Loyalist College
REFRESH-INTERVAL;VALUE=DURATION:PT1H
X-Robots-Tag:noindex
X-PUBLISHED-TTL:PT1H
BEGIN:VTIMEZONE
TZID:America/Toronto
BEGIN:DAYLIGHT
TZOFFSETFROM:-0500
TZOFFSETTO:-0400
TZNAME:EDT
DTSTART:20250309T070000
END:DAYLIGHT
BEGIN:STANDARD
TZOFFSETFROM:-0400
TZOFFSETTO:-0500
TZNAME:EST
DTSTART:20251102T060000
END:STANDARD
BEGIN:DAYLIGHT
TZOFFSETFROM:-0500
TZOFFSETTO:-0400
TZNAME:EDT
DTSTART:20260308T070000
END:DAYLIGHT
BEGIN:STANDARD
TZOFFSETFROM:-0400
TZOFFSETTO:-0500
TZNAME:EST
DTSTART:20261101T060000
END:STANDARD
BEGIN:DAYLIGHT
TZOFFSETFROM:-0500
TZOFFSETTO:-0400
TZNAME:EDT
DTSTART:20270314T070000
END:DAYLIGHT
BEGIN:STANDARD
TZOFFSETFROM:-0400
TZOFFSETTO:-0500
TZNAME:EST
DTSTART:20271107T060000
END:STANDARD
END:VTIMEZONE
BEGIN:VEVENT
DTSTART;TZID=America/Toronto:20260331T000000
DTEND;TZID=America/Toronto:20260331T000000
DTSTAMP:20260422T102920
CREATED:20260224T140957Z
LAST-MODIFIED:20260224T140957Z
UID:24099-1774915200-1774915200@loyalistcollege.com
SUMMARY:Off Campus Adventure - VOLT!
DESCRIPTION:Get ready for an adrenaline‑packed night at VOLT! in Bowmanville\, featuring go‑kart racing and axe-throwing. Challenge your friends to high‑speed laps\, then test your aim in the axe‑throwing arena. Spots are limited—don’t miss out!
URL:https://loyalistcollege.com/event/off-campus-adventure-volt/
LOCATION:Ontario
CATEGORIES:Student events
END:VEVENT
BEGIN:VEVENT
DTSTART;TZID=America/Toronto:20260331T110000
DTEND;TZID=America/Toronto:20260331T130000
DTSTAMP:20260422T102920
CREATED:20260224T140804Z
LAST-MODIFIED:20260225T173647Z
UID:24097-1774954800-1774962000@loyalistcollege.com
SUMMARY:DIY Tote Bags
DESCRIPTION:Design it. Paint it. Rock it. 👜✨ \nJoin us for a DIY Tote Bag event where you’ll create a custom bag that’s totally your style! Whether you go bold with bright colours\, add cute quotes\, or keep it minimal and chic\, your tote will be one-of-a-kind.
URL:https://loyalistcollege.com/event/diy-tote-bags-2/
LOCATION:Shark Tank Pub\, Kente\, 376 Wallbridge Loyalist Rd.\, Belleville\, Ontario\, K8N 5B9\, Canada
CATEGORIES:Student events
ATTACH;FMTTYPE=image/png:https://loyalistcollege.com/app/uploads/2025/01/LL_DIY-Totes_Student-Events.png
END:VEVENT
BEGIN:VEVENT
DTSTART;TZID=America/Toronto:20260401T113000
DTEND;TZID=America/Toronto:20260401T133000
DTSTAMP:20260422T102920
CREATED:20260331T195601Z
LAST-MODIFIED:20260331T195601Z
UID:24725-1775043000-1775050200@loyalistcollege.com
SUMMARY:Games Day
DESCRIPTION:Get ready to level up! Join fellow gamers for a fun afternoon of competition.
URL:https://loyalistcollege.com/event/games-day/
LOCATION:Shark Tank Pub\, Kente\, 376 Wallbridge Loyalist Rd.\, Belleville\, Ontario\, K8N 5B9\, Canada
CATEGORIES:Student events
END:VEVENT
BEGIN:VEVENT
DTSTART;TZID=America/Toronto:20260401T113000
DTEND;TZID=America/Toronto:20260401T133000
DTSTAMP:20260422T102920
CREATED:20260331T201834Z
LAST-MODIFIED:20260331T202727Z
UID:24727-1775043000-1775050200@loyalistcollege.com
SUMMARY:Grad Bash: Oh\, the Places You’ll Go!
DESCRIPTION:You’re nearly there—let’s celebrate your achievements and get ready for the exciting journey ahead! Join us at Grad Bash\, a fun and informative event where you’ll have the chance to connect\, learn about the perks of being a Loyalist Alumni\, and discover the unique benefits just for you. \nEnjoy food\, explore exclusive alumni discounts and services\, and take home some exciting prizes! \nPlease bring your Loyalist student card or have your student number ready. This event is exclusively for graduates. \n 
URL:https://loyalistcollege.com/event/grad-bash-oh-the-places-youll-go-2/
LOCATION:Link Lounge\, Kente Building\, 376 Wallbridge Loyalist Rd.\, Belleville\, Ontario\, K8N 5B9\, Canada
CATEGORIES:Student events
END:VEVENT
BEGIN:VEVENT
DTSTART;TZID=America/Toronto:20260121T120000
DTEND;TZID=America/Toronto:20260121T130000
DTSTAMP:20260422T102920
CREATED:20260116T185934Z
LAST-MODIFIED:20260116T185935Z
UID:22744-1768996800-1769000400@loyalistcollege.com
SUMMARY:Drop In Badminton 🏸
DESCRIPTION:Take a midweek break and join us for drop-in badminton every Wednesday from 12 PM to 1 PM in the gym! No experience needed! Grab a racket\, rally with friends\, and enjoy a fun\, active way to recharge your day.
URL:https://loyalistcollege.com/event/drop-in-badminton-%f0%9f%8f%b8-2/
LOCATION:Gym\, Kente\, 376 Wallbridge Loyalist Rd.\, Belleville\, Ontario\, K8N 5B9\, Canada
CATEGORIES:Campus rec,Student events
ATTACH;FMTTYPE=image/jpeg:https://loyalistcollege.com/app/uploads/2024/10/Campus-Rec-Badminton-scaled-e1767723445585.jpg
END:VEVENT
BEGIN:VEVENT
DTSTART;TZID=America/Toronto:20260402T200000
DTEND;TZID=America/Toronto:20260402T230000
DTSTAMP:20260422T102920
CREATED:20260401T140145Z
LAST-MODIFIED:20260401T140218Z
UID:24733-1775160000-1775170800@loyalistcollege.com
SUMMARY:Open Mic Night
DESCRIPTION:Whether you sing\, play an instrument\, perform poetry\, tell jokes\, or try stand-up comedy\, the stage is yours.
URL:https://loyalistcollege.com/event/open-mic-night/
LOCATION:Shark Tank Pub\, Kente\, 376 Wallbridge Loyalist Rd.\, Belleville\, Ontario\, K8N 5B9\, Canada
CATEGORIES:Student events
ATTACH;FMTTYPE=image/jpeg:https://loyalistcollege.com/app/uploads/2024/08/LC_Open-Mic-Event-scaled.jpg
END:VEVENT
BEGIN:VEVENT
DTSTART;TZID=America/Toronto:20260406T110000
DTEND;TZID=America/Toronto:20260406T130000
DTSTAMP:20260422T102920
CREATED:20260401T140626Z
LAST-MODIFIED:20260401T140813Z
UID:24735-1775473200-1775480400@loyalistcollege.com
SUMMARY:Free Grab & Go Student Government Lunch
DESCRIPTION:Stop by the Front Entrance to grab free lunch compliments of your Student Government!
URL:https://loyalistcollege.com/event/free-grab-go-student-government-lunch/
LOCATION:Parrott Centre Entrance\, 376 Wallbridge-Loyalist Road\, Belleville\, Ontario\, K8N 5B9\, Canada
CATEGORIES:Student events
END:VEVENT
BEGIN:VEVENT
DTSTART;TZID=America/Toronto:20260406T110000
DTEND;TZID=America/Toronto:20260406T130000
DTSTAMP:20260422T102920
CREATED:20260401T140626Z
LAST-MODIFIED:20260401T140813Z
UID:24735-1775473200-1775480400@loyalistcollege.com
SUMMARY:Free Grab & Go Student Government Lunch
DESCRIPTION:Stop by the Front Entrance to grab free lunch compliments of your Student Government!
URL:https://loyalistcollege.com/event/free-grab-go-student-government-lunch/
LOCATION:Parrott Centre Entrance\, 376 Wallbridge-Loyalist Road\, Belleville\, Ontario\, K8N 5B9\, Canada
CATEGORIES:Student events
END:VEVENT
BEGIN:VEVENT
DTSTART;TZID=America/Toronto:20260406T110000
DTEND;TZID=America/Toronto:20260406T130000
DTSTAMP:20260422T102920
CREATED:20260401T140626Z
LAST-MODIFIED:20260401T140813Z
UID:24735-1775473200-1775480400@loyalistcollege.com
SUMMARY:Free Grab & Go Student Government Lunch
DESCRIPTION:Stop by the Front Entrance to grab free lunch compliments of your Student Government!
URL:https://loyalistcollege.com/event/free-grab-go-student-government-lunch/
LOCATION:Parrott Centre Entrance\, 376 Wallbridge-Loyalist Road\, Belleville\, Ontario\, K8N 5B9\, Canada
CATEGORIES:Student events
END:VEVENT
BEGIN:VEVENT
DTSTART;TZID=America/Toronto:20260121T120000
DTEND;TZID=America/Toronto:20260121T130000
DTSTAMP:20260422T102920
CREATED:20260116T185934Z
LAST-MODIFIED:20260116T185935Z
UID:22744-1768996800-1769000400@loyalistcollege.com
SUMMARY:Drop In Badminton 🏸
DESCRIPTION:Take a midweek break and join us for drop-in badminton every Wednesday from 12 PM to 1 PM in the gym! No experience needed! Grab a racket\, rally with friends\, and enjoy a fun\, active way to recharge your day.
URL:https://loyalistcollege.com/event/drop-in-badminton-%f0%9f%8f%b8-2/
LOCATION:Gym\, Kente\, 376 Wallbridge Loyalist Rd.\, Belleville\, Ontario\, K8N 5B9\, Canada
CATEGORIES:Campus rec,Student events
ATTACH;FMTTYPE=image/jpeg:https://loyalistcollege.com/app/uploads/2024/10/Campus-Rec-Badminton-scaled-e1767723445585.jpg
END:VEVENT
BEGIN:VEVENT
DTSTART;TZID=America/Toronto:20260406T110000
DTEND;TZID=America/Toronto:20260406T130000
DTSTAMP:20260422T102920
CREATED:20260401T140626Z
LAST-MODIFIED:20260401T140813Z
UID:24735-1775473200-1775480400@loyalistcollege.com
SUMMARY:Free Grab & Go Student Government Lunch
DESCRIPTION:Stop by the Front Entrance to grab free lunch compliments of your Student Government!
URL:https://loyalistcollege.com/event/free-grab-go-student-government-lunch/
LOCATION:Parrott Centre Entrance\, 376 Wallbridge-Loyalist Road\, Belleville\, Ontario\, K8N 5B9\, Canada
CATEGORIES:Student events
END:VEVENT
BEGIN:VEVENT
DTSTART;TZID=America/Toronto:20260406T110000
DTEND;TZID=America/Toronto:20260406T130000
DTSTAMP:20260422T102920
CREATED:20260401T140626Z
LAST-MODIFIED:20260401T140813Z
UID:24735-1775473200-1775480400@loyalistcollege.com
SUMMARY:Free Grab & Go Student Government Lunch
DESCRIPTION:Stop by the Front Entrance to grab free lunch compliments of your Student Government!
URL:https://loyalistcollege.com/event/free-grab-go-student-government-lunch/
LOCATION:Parrott Centre Entrance\, 376 Wallbridge-Loyalist Road\, Belleville\, Ontario\, K8N 5B9\, Canada
CATEGORIES:Student events
END:VEVENT
BEGIN:VEVENT
DTSTART;TZID=America/Toronto:20260121T120000
DTEND;TZID=America/Toronto:20260121T130000
DTSTAMP:20260422T102920
CREATED:20260116T185934Z
LAST-MODIFIED:20260116T185935Z
UID:22744-1768996800-1769000400@loyalistcollege.com
SUMMARY:Drop In Badminton 🏸
DESCRIPTION:Take a midweek break and join us for drop-in badminton every Wednesday from 12 PM to 1 PM in the gym! No experience needed! Grab a racket\, rally with friends\, and enjoy a fun\, active way to recharge your day.
URL:https://loyalistcollege.com/event/drop-in-badminton-%f0%9f%8f%b8-2/
LOCATION:Gym\, Kente\, 376 Wallbridge Loyalist Rd.\, Belleville\, Ontario\, K8N 5B9\, Canada
CATEGORIES:Campus rec,Student events
ATTACH;FMTTYPE=image/jpeg:https://loyalistcollege.com/app/uploads/2024/10/Campus-Rec-Badminton-scaled-e1767723445585.jpg
END:VEVENT
BEGIN:VEVENT
DTSTART;TZID=America/Toronto:20260121T120000
DTEND;TZID=America/Toronto:20260121T130000
DTSTAMP:20260422T102920
CREATED:20260116T185934Z
LAST-MODIFIED:20260116T185935Z
UID:22744-1768996800-1769000400@loyalistcollege.com
SUMMARY:Drop In Badminton 🏸
DESCRIPTION:Take a midweek break and join us for drop-in badminton every Wednesday from 12 PM to 1 PM in the gym! No experience needed! Grab a racket\, rally with friends\, and enjoy a fun\, active way to recharge your day.
URL:https://loyalistcollege.com/event/drop-in-badminton-%f0%9f%8f%b8-2/
LOCATION:Gym\, Kente\, 376 Wallbridge Loyalist Rd.\, Belleville\, Ontario\, K8N 5B9\, Canada
CATEGORIES:Campus rec,Student events
ATTACH;FMTTYPE=image/jpeg:https://loyalistcollege.com/app/uploads/2024/10/Campus-Rec-Badminton-scaled-e1767723445585.jpg
END:VEVENT
BEGIN:VEVENT
DTSTART;TZID=America/Toronto:20260121T120000
DTEND;TZID=America/Toronto:20260121T130000
DTSTAMP:20260422T102920
CREATED:20260116T185934Z
LAST-MODIFIED:20260116T185935Z
UID:22744-1768996800-1769000400@loyalistcollege.com
SUMMARY:Drop In Badminton 🏸
DESCRIPTION:Take a midweek break and join us for drop-in badminton every Wednesday from 12 PM to 1 PM in the gym! No experience needed! Grab a racket\, rally with friends\, and enjoy a fun\, active way to recharge your day.
URL:https://loyalistcollege.com/event/drop-in-badminton-%f0%9f%8f%b8-2/
LOCATION:Gym\, Kente\, 376 Wallbridge Loyalist Rd.\, Belleville\, Ontario\, K8N 5B9\, Canada
CATEGORIES:Campus rec,Student events
ATTACH;FMTTYPE=image/jpeg:https://loyalistcollege.com/app/uploads/2024/10/Campus-Rec-Badminton-scaled-e1767723445585.jpg
END:VEVENT
BEGIN:VEVENT
DTSTART;TZID=America/Toronto:20260121T120000
DTEND;TZID=America/Toronto:20260121T130000
DTSTAMP:20260422T102921
CREATED:20260116T185934Z
LAST-MODIFIED:20260116T185935Z
UID:22744-1768996800-1769000400@loyalistcollege.com
SUMMARY:Drop In Badminton 🏸
DESCRIPTION:Take a midweek break and join us for drop-in badminton every Wednesday from 12 PM to 1 PM in the gym! No experience needed! Grab a racket\, rally with friends\, and enjoy a fun\, active way to recharge your day.
URL:https://loyalistcollege.com/event/drop-in-badminton-%f0%9f%8f%b8-2/
LOCATION:Gym\, Kente\, 376 Wallbridge Loyalist Rd.\, Belleville\, Ontario\, K8N 5B9\, Canada
CATEGORIES:Campus rec,Student events
ATTACH;FMTTYPE=image/jpeg:https://loyalistcollege.com/app/uploads/2024/10/Campus-Rec-Badminton-scaled-e1767723445585.jpg
END:VEVENT
BEGIN:VEVENT
DTSTART;TZID=America/Toronto:20260121T120000
DTEND;TZID=America/Toronto:20260121T130000
DTSTAMP:20260422T102921
CREATED:20260116T185934Z
LAST-MODIFIED:20260116T185935Z
UID:22744-1768996800-1769000400@loyalistcollege.com
SUMMARY:Drop In Badminton 🏸
DESCRIPTION:Take a midweek break and join us for drop-in badminton every Wednesday from 12 PM to 1 PM in the gym! No experience needed! Grab a racket\, rally with friends\, and enjoy a fun\, active way to recharge your day.
URL:https://loyalistcollege.com/event/drop-in-badminton-%f0%9f%8f%b8-2/
LOCATION:Gym\, Kente\, 376 Wallbridge Loyalist Rd.\, Belleville\, Ontario\, K8N 5B9\, Canada
CATEGORIES:Campus rec,Student events
ATTACH;FMTTYPE=image/jpeg:https://loyalistcollege.com/app/uploads/2024/10/Campus-Rec-Badminton-scaled-e1767723445585.jpg
END:VEVENT
BEGIN:VEVENT
DTSTART;TZID=America/Toronto:20260121T120000
DTEND;TZID=America/Toronto:20260121T130000
DTSTAMP:20260422T102921
CREATED:20260116T185934Z
LAST-MODIFIED:20260116T185935Z
UID:22744-1768996800-1769000400@loyalistcollege.com
SUMMARY:Drop In Badminton 🏸
DESCRIPTION:Take a midweek break and join us for drop-in badminton every Wednesday from 12 PM to 1 PM in the gym! No experience needed! Grab a racket\, rally with friends\, and enjoy a fun\, active way to recharge your day.
URL:https://loyalistcollege.com/event/drop-in-badminton-%f0%9f%8f%b8-2/
LOCATION:Gym\, Kente\, 376 Wallbridge Loyalist Rd.\, Belleville\, Ontario\, K8N 5B9\, Canada
CATEGORIES:Campus rec,Student events
ATTACH;FMTTYPE=image/jpeg:https://loyalistcollege.com/app/uploads/2024/10/Campus-Rec-Badminton-scaled-e1767723445585.jpg
END:VEVENT
BEGIN:VEVENT
DTSTART;TZID=America/Toronto:20260121T120000
DTEND;TZID=America/Toronto:20260121T130000
DTSTAMP:20260422T102921
CREATED:20260116T185934Z
LAST-MODIFIED:20260116T185935Z
UID:22744-1768996800-1769000400@loyalistcollege.com
SUMMARY:Drop In Badminton 🏸
DESCRIPTION:Take a midweek break and join us for drop-in badminton every Wednesday from 12 PM to 1 PM in the gym! No experience needed! Grab a racket\, rally with friends\, and enjoy a fun\, active way to recharge your day.
URL:https://loyalistcollege.com/event/drop-in-badminton-%f0%9f%8f%b8-2/
LOCATION:Gym\, Kente\, 376 Wallbridge Loyalist Rd.\, Belleville\, Ontario\, K8N 5B9\, Canada
CATEGORIES:Campus rec,Student events
ATTACH;FMTTYPE=image/jpeg:https://loyalistcollege.com/app/uploads/2024/10/Campus-Rec-Badminton-scaled-e1767723445585.jpg
END:VEVENT
BEGIN:VEVENT
DTSTART;TZID=America/Toronto:20260121T120000
DTEND;TZID=America/Toronto:20260121T130000
DTSTAMP:20260422T102921
CREATED:20260116T185934Z
LAST-MODIFIED:20260116T185935Z
UID:22744-1768996800-1769000400@loyalistcollege.com
SUMMARY:Drop In Badminton 🏸
DESCRIPTION:Take a midweek break and join us for drop-in badminton every Wednesday from 12 PM to 1 PM in the gym! No experience needed! Grab a racket\, rally with friends\, and enjoy a fun\, active way to recharge your day.
URL:https://loyalistcollege.com/event/drop-in-badminton-%f0%9f%8f%b8-2/
LOCATION:Gym\, Kente\, 376 Wallbridge Loyalist Rd.\, Belleville\, Ontario\, K8N 5B9\, Canada
CATEGORIES:Campus rec,Student events
ATTACH;FMTTYPE=image/jpeg:https://loyalistcollege.com/app/uploads/2024/10/Campus-Rec-Badminton-scaled-e1767723445585.jpg
END:VEVENT
BEGIN:VEVENT
DTSTART;TZID=America/Toronto:20260121T120000
DTEND;TZID=America/Toronto:20260121T130000
DTSTAMP:20260422T102921
CREATED:20260116T185934Z
LAST-MODIFIED:20260116T185935Z
UID:22744-1768996800-1769000400@loyalistcollege.com
SUMMARY:Drop In Badminton 🏸
DESCRIPTION:Take a midweek break and join us for drop-in badminton every Wednesday from 12 PM to 1 PM in the gym! No experience needed! Grab a racket\, rally with friends\, and enjoy a fun\, active way to recharge your day.
URL:https://loyalistcollege.com/event/drop-in-badminton-%f0%9f%8f%b8-2/
LOCATION:Gym\, Kente\, 376 Wallbridge Loyalist Rd.\, Belleville\, Ontario\, K8N 5B9\, Canada
CATEGORIES:Campus rec,Student events
ATTACH;FMTTYPE=image/jpeg:https://loyalistcollege.com/app/uploads/2024/10/Campus-Rec-Badminton-scaled-e1767723445585.jpg
END:VEVENT
BEGIN:VEVENT
DTSTART;TZID=America/Toronto:20260121T120000
DTEND;TZID=America/Toronto:20260121T130000
DTSTAMP:20260422T102921
CREATED:20260116T185934Z
LAST-MODIFIED:20260116T185935Z
UID:22744-1768996800-1769000400@loyalistcollege.com
SUMMARY:Drop In Badminton 🏸
DESCRIPTION:Take a midweek break and join us for drop-in badminton every Wednesday from 12 PM to 1 PM in the gym! No experience needed! Grab a racket\, rally with friends\, and enjoy a fun\, active way to recharge your day.
URL:https://loyalistcollege.com/event/drop-in-badminton-%f0%9f%8f%b8-2/
LOCATION:Gym\, Kente\, 376 Wallbridge Loyalist Rd.\, Belleville\, Ontario\, K8N 5B9\, Canada
CATEGORIES:Campus rec,Student events
ATTACH;FMTTYPE=image/jpeg:https://loyalistcollege.com/app/uploads/2024/10/Campus-Rec-Badminton-scaled-e1767723445585.jpg
END:VEVENT
BEGIN:VEVENT
DTSTART;TZID=America/Toronto:20260121T120000
DTEND;TZID=America/Toronto:20260121T130000
DTSTAMP:20260422T102921
CREATED:20260116T185934Z
LAST-MODIFIED:20260116T185935Z
UID:22744-1768996800-1769000400@loyalistcollege.com
SUMMARY:Drop In Badminton 🏸
DESCRIPTION:Take a midweek break and join us for drop-in badminton every Wednesday from 12 PM to 1 PM in the gym! No experience needed! Grab a racket\, rally with friends\, and enjoy a fun\, active way to recharge your day.
URL:https://loyalistcollege.com/event/drop-in-badminton-%f0%9f%8f%b8-2/
LOCATION:Gym\, Kente\, 376 Wallbridge Loyalist Rd.\, Belleville\, Ontario\, K8N 5B9\, Canada
CATEGORIES:Campus rec,Student events
ATTACH;FMTTYPE=image/jpeg:https://loyalistcollege.com/app/uploads/2024/10/Campus-Rec-Badminton-scaled-e1767723445585.jpg
END:VEVENT
BEGIN:VEVENT
DTSTART;TZID=America/Toronto:20260121T120000
DTEND;TZID=America/Toronto:20260121T130000
DTSTAMP:20260422T102921
CREATED:20260116T185934Z
LAST-MODIFIED:20260116T185935Z
UID:22744-1768996800-1769000400@loyalistcollege.com
SUMMARY:Drop In Badminton 🏸
DESCRIPTION:Take a midweek break and join us for drop-in badminton every Wednesday from 12 PM to 1 PM in the gym! No experience needed! Grab a racket\, rally with friends\, and enjoy a fun\, active way to recharge your day.
URL:https://loyalistcollege.com/event/drop-in-badminton-%f0%9f%8f%b8-2/
LOCATION:Gym\, Kente\, 376 Wallbridge Loyalist Rd.\, Belleville\, Ontario\, K8N 5B9\, Canada
CATEGORIES:Campus rec,Student events
ATTACH;FMTTYPE=image/jpeg:https://loyalistcollege.com/app/uploads/2024/10/Campus-Rec-Badminton-scaled-e1767723445585.jpg
END:VEVENT
BEGIN:VEVENT
DTSTART;TZID=America/Toronto:20260121T120000
DTEND;TZID=America/Toronto:20260121T130000
DTSTAMP:20260422T102921
CREATED:20260116T185934Z
LAST-MODIFIED:20260116T185935Z
UID:22744-1768996800-1769000400@loyalistcollege.com
SUMMARY:Drop In Badminton 🏸
DESCRIPTION:Take a midweek break and join us for drop-in badminton every Wednesday from 12 PM to 1 PM in the gym! No experience needed! Grab a racket\, rally with friends\, and enjoy a fun\, active way to recharge your day.
URL:https://loyalistcollege.com/event/drop-in-badminton-%f0%9f%8f%b8-2/
LOCATION:Gym\, Kente\, 376 Wallbridge Loyalist Rd.\, Belleville\, Ontario\, K8N 5B9\, Canada
CATEGORIES:Campus rec,Student events
ATTACH;FMTTYPE=image/jpeg:https://loyalistcollege.com/app/uploads/2024/10/Campus-Rec-Badminton-scaled-e1767723445585.jpg
END:VEVENT
BEGIN:VEVENT
DTSTART;TZID=America/Toronto:20260121T120000
DTEND;TZID=America/Toronto:20260121T130000
DTSTAMP:20260422T102921
CREATED:20260116T185934Z
LAST-MODIFIED:20260116T185935Z
UID:22744-1768996800-1769000400@loyalistcollege.com
SUMMARY:Drop In Badminton 🏸
DESCRIPTION:Take a midweek break and join us for drop-in badminton every Wednesday from 12 PM to 1 PM in the gym! No experience needed! Grab a racket\, rally with friends\, and enjoy a fun\, active way to recharge your day.
URL:https://loyalistcollege.com/event/drop-in-badminton-%f0%9f%8f%b8-2/
LOCATION:Gym\, Kente\, 376 Wallbridge Loyalist Rd.\, Belleville\, Ontario\, K8N 5B9\, Canada
CATEGORIES:Campus rec,Student events
ATTACH;FMTTYPE=image/jpeg:https://loyalistcollege.com/app/uploads/2024/10/Campus-Rec-Badminton-scaled-e1767723445585.jpg
END:VEVENT
BEGIN:VEVENT
DTSTART;TZID=America/Toronto:20260121T120000
DTEND;TZID=America/Toronto:20260121T130000
DTSTAMP:20260422T102921
CREATED:20260116T185934Z
LAST-MODIFIED:20260116T185935Z
UID:22744-1768996800-1769000400@loyalistcollege.com
SUMMARY:Drop In Badminton 🏸
DESCRIPTION:Take a midweek break and join us for drop-in badminton every Wednesday from 12 PM to 1 PM in the gym! No experience needed! Grab a racket\, rally with friends\, and enjoy a fun\, active way to recharge your day.
URL:https://loyalistcollege.com/event/drop-in-badminton-%f0%9f%8f%b8-2/
LOCATION:Gym\, Kente\, 376 Wallbridge Loyalist Rd.\, Belleville\, Ontario\, K8N 5B9\, Canada
CATEGORIES:Campus rec,Student events
ATTACH;FMTTYPE=image/jpeg:https://loyalistcollege.com/app/uploads/2024/10/Campus-Rec-Badminton-scaled-e1767723445585.jpg
END:VEVENT
BEGIN:VEVENT
DTSTART;TZID=America/Toronto:20260121T120000
DTEND;TZID=America/Toronto:20260121T130000
DTSTAMP:20260422T102921
CREATED:20260116T185934Z
LAST-MODIFIED:20260116T185935Z
UID:22744-1768996800-1769000400@loyalistcollege.com
SUMMARY:Drop In Badminton 🏸
DESCRIPTION:Take a midweek break and join us for drop-in badminton every Wednesday from 12 PM to 1 PM in the gym! No experience needed! Grab a racket\, rally with friends\, and enjoy a fun\, active way to recharge your day.
URL:https://loyalistcollege.com/event/drop-in-badminton-%f0%9f%8f%b8-2/
LOCATION:Gym\, Kente\, 376 Wallbridge Loyalist Rd.\, Belleville\, Ontario\, K8N 5B9\, Canada
CATEGORIES:Campus rec,Student events
ATTACH;FMTTYPE=image/jpeg:https://loyalistcollege.com/app/uploads/2024/10/Campus-Rec-Badminton-scaled-e1767723445585.jpg
END:VEVENT
BEGIN:VEVENT
DTSTART;TZID=America/Toronto:20260121T120000
DTEND;TZID=America/Toronto:20260121T130000
DTSTAMP:20260422T102921
CREATED:20260116T185934Z
LAST-MODIFIED:20260116T185935Z
UID:22744-1768996800-1769000400@loyalistcollege.com
SUMMARY:Drop In Badminton 🏸
DESCRIPTION:Take a midweek break and join us for drop-in badminton every Wednesday from 12 PM to 1 PM in the gym! No experience needed! Grab a racket\, rally with friends\, and enjoy a fun\, active way to recharge your day.
URL:https://loyalistcollege.com/event/drop-in-badminton-%f0%9f%8f%b8-2/
LOCATION:Gym\, Kente\, 376 Wallbridge Loyalist Rd.\, Belleville\, Ontario\, K8N 5B9\, Canada
CATEGORIES:Campus rec,Student events
ATTACH;FMTTYPE=image/jpeg:https://loyalistcollege.com/app/uploads/2024/10/Campus-Rec-Badminton-scaled-e1767723445585.jpg
END:VEVENT
BEGIN:VEVENT
DTSTART;TZID=America/Toronto:20260121T120000
DTEND;TZID=America/Toronto:20260121T130000
DTSTAMP:20260422T102921
CREATED:20260116T185934Z
LAST-MODIFIED:20260116T185935Z
UID:22744-1768996800-1769000400@loyalistcollege.com
SUMMARY:Drop In Badminton 🏸
DESCRIPTION:Take a midweek break and join us for drop-in badminton every Wednesday from 12 PM to 1 PM in the gym! No experience needed! Grab a racket\, rally with friends\, and enjoy a fun\, active way to recharge your day.
URL:https://loyalistcollege.com/event/drop-in-badminton-%f0%9f%8f%b8-2/
LOCATION:Gym\, Kente\, 376 Wallbridge Loyalist Rd.\, Belleville\, Ontario\, K8N 5B9\, Canada
CATEGORIES:Campus rec,Student events
ATTACH;FMTTYPE=image/jpeg:https://loyalistcollege.com/app/uploads/2024/10/Campus-Rec-Badminton-scaled-e1767723445585.jpg
END:VEVENT
END:VCALENDAR