BEGIN:VCALENDAR
VERSION:2.0
PRODID:-//Loyalist College - ECPv6.15.18//NONSGML v1.0//EN
CALSCALE:GREGORIAN
METHOD:PUBLISH
X-WR-CALNAME:Loyalist College
X-ORIGINAL-URL:https://loyalistcollege.com
X-WR-CALDESC:Events for Loyalist College
REFRESH-INTERVAL;VALUE=DURATION:PT1H
X-Robots-Tag:noindex
X-PUBLISHED-TTL:PT1H
BEGIN:VTIMEZONE
TZID:America/Toronto
BEGIN:DAYLIGHT
TZOFFSETFROM:-0500
TZOFFSETTO:-0400
TZNAME:EDT
DTSTART:20250309T070000
END:DAYLIGHT
BEGIN:STANDARD
TZOFFSETFROM:-0400
TZOFFSETTO:-0500
TZNAME:EST
DTSTART:20251102T060000
END:STANDARD
BEGIN:DAYLIGHT
TZOFFSETFROM:-0500
TZOFFSETTO:-0400
TZNAME:EDT
DTSTART:20260308T070000
END:DAYLIGHT
BEGIN:STANDARD
TZOFFSETFROM:-0400
TZOFFSETTO:-0500
TZNAME:EST
DTSTART:20261101T060000
END:STANDARD
BEGIN:DAYLIGHT
TZOFFSETFROM:-0500
TZOFFSETTO:-0400
TZNAME:EDT
DTSTART:20270314T070000
END:DAYLIGHT
BEGIN:STANDARD
TZOFFSETFROM:-0400
TZOFFSETTO:-0500
TZNAME:EST
DTSTART:20271107T060000
END:STANDARD
END:VTIMEZONE
BEGIN:VEVENT
DTSTART;TZID=America/Toronto:20260316T000000
DTEND;TZID=America/Toronto:20260318T160000
DTSTAMP:20260421T053244
CREATED:20260224T141141Z
LAST-MODIFIED:20260224T141141Z
UID:24103-1773619200-1773849600@loyalistcollege.com
SUMMARY:Student Gov't Online Voting
DESCRIPTION:Vote for your Student Government Leaders! Check your email for voting information.
URL:https://loyalistcollege.com/event/student-govt-online-voting/
LOCATION:Ontario
CATEGORIES:Student events
END:VEVENT
BEGIN:VEVENT
DTSTART;TZID=America/Toronto:20260317T110000
DTEND;TZID=America/Toronto:20260317T130000
DTSTAMP:20260421T053244
CREATED:20260220T201222Z
LAST-MODIFIED:20260225T173455Z
UID:24082-1773745200-1773752400@loyalistcollege.com
SUMMARY:Bracelet Making
DESCRIPTION:Join us to design your own custom bracelet! Mix\, match and create a piece that’s totally your style.
URL:https://loyalistcollege.com/event/bracelet-making-2/
LOCATION:Shark Tank Pub\, Kente\, 376 Wallbridge Loyalist Rd.\, Belleville\, Ontario\, K8N 5B9\, Canada
CATEGORIES:Student events
ATTACH;FMTTYPE=image/png:https://loyalistcollege.com/app/uploads/2025/04/Bracelet-making_Prepped-for-web.png
END:VEVENT
END:VCALENDAR