BEGIN:VCALENDAR
VERSION:2.0
PRODID:-//Loyalist College - ECPv6.15.18//NONSGML v1.0//EN
CALSCALE:GREGORIAN
METHOD:PUBLISH
X-WR-CALNAME:Loyalist College
X-ORIGINAL-URL:https://loyalistcollege.com
X-WR-CALDESC:Events for Loyalist College
REFRESH-INTERVAL;VALUE=DURATION:PT1H
X-Robots-Tag:noindex
X-PUBLISHED-TTL:PT1H
BEGIN:VTIMEZONE
TZID:America/Toronto
BEGIN:DAYLIGHT
TZOFFSETFROM:-0500
TZOFFSETTO:-0400
TZNAME:EDT
DTSTART:20250309T070000
END:DAYLIGHT
BEGIN:STANDARD
TZOFFSETFROM:-0400
TZOFFSETTO:-0500
TZNAME:EST
DTSTART:20251102T060000
END:STANDARD
BEGIN:DAYLIGHT
TZOFFSETFROM:-0500
TZOFFSETTO:-0400
TZNAME:EDT
DTSTART:20260308T070000
END:DAYLIGHT
BEGIN:STANDARD
TZOFFSETFROM:-0400
TZOFFSETTO:-0500
TZNAME:EST
DTSTART:20261101T060000
END:STANDARD
BEGIN:DAYLIGHT
TZOFFSETFROM:-0500
TZOFFSETTO:-0400
TZNAME:EDT
DTSTART:20270314T070000
END:DAYLIGHT
BEGIN:STANDARD
TZOFFSETFROM:-0400
TZOFFSETTO:-0500
TZNAME:EST
DTSTART:20271107T060000
END:STANDARD
END:VTIMEZONE
BEGIN:VEVENT
DTSTART;TZID=America/Toronto:20260217T110000
DTEND;TZID=America/Toronto:20260217T120000
DTSTAMP:20260421T053244
CREATED:20260122T152627Z
LAST-MODIFIED:20260122T152627Z
UID:22823-1771326000-1771329600@loyalistcollege.com
SUMMARY:Behind the Mask🎭
DESCRIPTION:Design a mask\, reveal your unseen side\, and connect in a fun\, judgment-free way.
URL:https://loyalistcollege.com/event/behind-the-mask%f0%9f%8e%ad/
LOCATION:Room 1N1
CATEGORIES:Student events
END:VEVENT
BEGIN:VEVENT
DTSTART;TZID=America/Toronto:20260217T110000
DTEND;TZID=America/Toronto:20260217T130000
DTSTAMP:20260421T053244
CREATED:20260116T203915Z
LAST-MODIFIED:20260116T211443Z
UID:22766-1771326000-1771333200@loyalistcollege.com
SUMMARY:Sharkie's Spa
DESCRIPTION:Relax\, refresh\, and recharge! Enjoy DIY manicures\, sheet mask facials\, and tasty refreshments\, the perfect recipe for ultimate tranquillity.
URL:https://loyalistcollege.com/event/sharkies-spa-3/
LOCATION:Ontario
CATEGORIES:Student events
ATTACH;FMTTYPE=image/jpeg:https://loyalistcollege.com/app/uploads/2024/08/Spa-Night-Web-scaled.jpg
END:VEVENT
BEGIN:VEVENT
DTSTART;TZID=America/Toronto:20260217T110000
DTEND;TZID=America/Toronto:20260217T130000
DTSTAMP:20260421T053244
CREATED:20260122T153159Z
LAST-MODIFIED:20260122T154717Z
UID:22826-1771326000-1771333200@loyalistcollege.com
SUMMARY:Free Grab & Go Student Gov't Lunch
DESCRIPTION:Fuel up for exams with a complimentary lunch!
URL:https://loyalistcollege.com/event/free-grab-go-student-govt-lunch/
LOCATION:Parrott Centre Entrance\, 376 Wallbridge-Loyalist Road\, Belleville\, Ontario\, K8N 5B9\, Canada
CATEGORIES:Student events,Student Government
END:VEVENT
END:VCALENDAR