BEGIN:VCALENDAR
VERSION:2.0
PRODID:-//Loyalist College - ECPv6.15.18//NONSGML v1.0//EN
CALSCALE:GREGORIAN
METHOD:PUBLISH
X-WR-CALNAME:Loyalist College
X-ORIGINAL-URL:https://loyalistcollege.com
X-WR-CALDESC:Events for Loyalist College
REFRESH-INTERVAL;VALUE=DURATION:PT1H
X-Robots-Tag:noindex
X-PUBLISHED-TTL:PT1H
BEGIN:VTIMEZONE
TZID:America/Toronto
BEGIN:DAYLIGHT
TZOFFSETFROM:-0500
TZOFFSETTO:-0400
TZNAME:EDT
DTSTART:20250309T070000
END:DAYLIGHT
BEGIN:STANDARD
TZOFFSETFROM:-0400
TZOFFSETTO:-0500
TZNAME:EST
DTSTART:20251102T060000
END:STANDARD
BEGIN:DAYLIGHT
TZOFFSETFROM:-0500
TZOFFSETTO:-0400
TZNAME:EDT
DTSTART:20260308T070000
END:DAYLIGHT
BEGIN:STANDARD
TZOFFSETFROM:-0400
TZOFFSETTO:-0500
TZNAME:EST
DTSTART:20261101T060000
END:STANDARD
BEGIN:DAYLIGHT
TZOFFSETFROM:-0500
TZOFFSETTO:-0400
TZNAME:EDT
DTSTART:20270314T070000
END:DAYLIGHT
BEGIN:STANDARD
TZOFFSETFROM:-0400
TZOFFSETTO:-0500
TZNAME:EST
DTSTART:20271107T060000
END:STANDARD
END:VTIMEZONE
BEGIN:VEVENT
DTSTART;TZID=America/Toronto:20260131T130000
DTEND;TZID=America/Toronto:20260131T170000
DTSTAMP:20260421T063525
CREATED:20250814T190558Z
LAST-MODIFIED:20250826T183016Z
UID:20175-1769864400-1769878800@loyalistcollege.com
SUMMARY:Loyalist Lancers Volleyball
DESCRIPTION:Women’s Volleyball vs Algonquin Wolves – 1:00 pm \nMen’s Volleyball vs Algonquin Wolves – 3:00 pm
URL:https://loyalistcollege.com/event/loyalist-lancers-volleyball-6/
LOCATION:Loyalist College Gymnasium\, 376 Wallbridge-Loyalist Rd.\, Belleville\, Ontario\, K8N5B9\, Canada
CATEGORIES:Loyalist Lancers,Student events
END:VEVENT
END:VCALENDAR