BEGIN:VCALENDAR
VERSION:2.0
PRODID:-//Loyalist College - ECPv6.15.18//NONSGML v1.0//EN
CALSCALE:GREGORIAN
METHOD:PUBLISH
X-WR-CALNAME:Loyalist College
X-ORIGINAL-URL:https://loyalistcollege.com
X-WR-CALDESC:Events for Loyalist College
REFRESH-INTERVAL;VALUE=DURATION:PT1H
X-Robots-Tag:noindex
X-PUBLISHED-TTL:PT1H
BEGIN:VTIMEZONE
TZID:America/Toronto
BEGIN:DAYLIGHT
TZOFFSETFROM:-0500
TZOFFSETTO:-0400
TZNAME:EDT
DTSTART:20250309T070000
END:DAYLIGHT
BEGIN:STANDARD
TZOFFSETFROM:-0400
TZOFFSETTO:-0500
TZNAME:EST
DTSTART:20251102T060000
END:STANDARD
BEGIN:DAYLIGHT
TZOFFSETFROM:-0500
TZOFFSETTO:-0400
TZNAME:EDT
DTSTART:20260308T070000
END:DAYLIGHT
BEGIN:STANDARD
TZOFFSETFROM:-0400
TZOFFSETTO:-0500
TZNAME:EST
DTSTART:20261101T060000
END:STANDARD
BEGIN:DAYLIGHT
TZOFFSETFROM:-0500
TZOFFSETTO:-0400
TZNAME:EDT
DTSTART:20270314T070000
END:DAYLIGHT
BEGIN:STANDARD
TZOFFSETFROM:-0400
TZOFFSETTO:-0500
TZNAME:EST
DTSTART:20271107T060000
END:STANDARD
END:VTIMEZONE
BEGIN:VEVENT
DTSTART;VALUE=DATE:20260126
DTEND;VALUE=DATE:20260131
DTSTAMP:20260421T063015
CREATED:20260105T201036Z
LAST-MODIFIED:20260105T201047Z
UID:22205-1769385600-1769817599@loyalistcollege.com
SUMMARY:Graduation Photo Appointments 🎓
DESCRIPTION:Book your appointment at www.bookmygrad.ca. Use “LKO” as the school code.
URL:https://loyalistcollege.com/event/graduation-photo-appointments/
LOCATION:Room 1H25
CATEGORIES:Student events
END:VEVENT
BEGIN:VEVENT
DTSTART;TZID=America/Toronto:20260129T180000
DTEND;TZID=America/Toronto:20260129T200000
DTSTAMP:20260421T063015
CREATED:20250814T190450Z
LAST-MODIFIED:20250826T183027Z
UID:20173-1769709600-1769716800@loyalistcollege.com
SUMMARY:Men's Basketball
DESCRIPTION:Loyalist Lancers vs Fleming Phoenix
URL:https://loyalistcollege.com/event/mens-basketball-2/
LOCATION:Loyalist College Gymnasium\, 376 Wallbridge-Loyalist Rd.\, Belleville\, Ontario\, K8N5B9\, Canada
CATEGORIES:Loyalist Lancers,Student events
END:VEVENT
BEGIN:VEVENT
DTSTART;TZID=America/Toronto:20260129T200000
DTEND;TZID=America/Toronto:20260129T230000
DTSTAMP:20260421T063015
CREATED:20260105T201455Z
LAST-MODIFIED:20260116T211159Z
UID:22215-1769716800-1769727600@loyalistcollege.com
SUMMARY:Rock Star Live 🎤
DESCRIPTION:Karaoke with a live band!
URL:https://loyalistcollege.com/event/rock-star-live-%f0%9f%8e%a4/
LOCATION:Shark Tank Pub\, Kente\, 376 Wallbridge Loyalist Rd.\, Belleville\, Ontario\, K8N 5B9\, Canada
CATEGORIES:Student events
ATTACH;FMTTYPE=image/jpeg:https://loyalistcollege.com/app/uploads/2024/12/Rock-Star-Live-scaled.jpg
END:VEVENT
END:VCALENDAR