BEGIN:VCALENDAR
VERSION:2.0
PRODID:-//Loyalist College - ECPv6.15.18//NONSGML v1.0//EN
CALSCALE:GREGORIAN
METHOD:PUBLISH
X-WR-CALNAME:Loyalist College
X-ORIGINAL-URL:https://loyalistcollege.com
X-WR-CALDESC:Events for Loyalist College
REFRESH-INTERVAL;VALUE=DURATION:PT1H
X-Robots-Tag:noindex
X-PUBLISHED-TTL:PT1H
BEGIN:VTIMEZONE
TZID:America/Toronto
BEGIN:DAYLIGHT
TZOFFSETFROM:-0500
TZOFFSETTO:-0400
TZNAME:EDT
DTSTART:20230312T070000
END:DAYLIGHT
BEGIN:STANDARD
TZOFFSETFROM:-0400
TZOFFSETTO:-0500
TZNAME:EST
DTSTART:20231105T060000
END:STANDARD
BEGIN:DAYLIGHT
TZOFFSETFROM:-0500
TZOFFSETTO:-0400
TZNAME:EDT
DTSTART:20240310T070000
END:DAYLIGHT
BEGIN:STANDARD
TZOFFSETFROM:-0400
TZOFFSETTO:-0500
TZNAME:EST
DTSTART:20241103T060000
END:STANDARD
BEGIN:DAYLIGHT
TZOFFSETFROM:-0500
TZOFFSETTO:-0400
TZNAME:EDT
DTSTART:20250309T070000
END:DAYLIGHT
BEGIN:STANDARD
TZOFFSETFROM:-0400
TZOFFSETTO:-0500
TZNAME:EST
DTSTART:20251102T060000
END:STANDARD
END:VTIMEZONE
BEGIN:VEVENT
DTSTART;TZID=America/Toronto:20241121T193000
DTEND;TZID=America/Toronto:20241122T010000
DTSTAMP:20260420T051439
CREATED:20241022T130423Z
LAST-MODIFIED:20241122T141956Z
UID:13280-1732217400-1732237200@loyalistcollege.com
SUMMARY:Drag Show & Gay Bar Night
DESCRIPTION:Get ready for an unforgettable night at our Drag Show & Gay Bar Night in the pub! Join us for an evening filled with fabulous performances and incredible talent as drag queens take the stage to entertain and inspire. Dance to upbeat music and celebrate love and acceptance in a fun and welcoming atmosphere.
URL:https://loyalistcollege.com/event/drag-show-gay-bar-night/
LOCATION:Shark Tank Pub\, Kente\, 376 Wallbridge Loyalist Rd.\, Belleville\, Ontario\, K8N 5B9\, Canada
CATEGORIES:Student events
ATTACH;FMTTYPE=image/jpeg:https://loyalistcollege.com/app/uploads/2024/10/Drag-Show-scaled.jpg
END:VEVENT
END:VCALENDAR