BEGIN:VCALENDAR
VERSION:2.0
PRODID:-//Loyalist College - ECPv6.15.18//NONSGML v1.0//EN
CALSCALE:GREGORIAN
METHOD:PUBLISH
X-WR-CALNAME:Loyalist College
X-ORIGINAL-URL:https://loyalistcollege.com
X-WR-CALDESC:Events for Loyalist College
REFRESH-INTERVAL;VALUE=DURATION:PT1H
X-Robots-Tag:noindex
X-PUBLISHED-TTL:PT1H
BEGIN:VTIMEZONE
TZID:America/Toronto
BEGIN:DAYLIGHT
TZOFFSETFROM:-0500
TZOFFSETTO:-0400
TZNAME:EDT
DTSTART:20230312T070000
END:DAYLIGHT
BEGIN:STANDARD
TZOFFSETFROM:-0400
TZOFFSETTO:-0500
TZNAME:EST
DTSTART:20231105T060000
END:STANDARD
BEGIN:DAYLIGHT
TZOFFSETFROM:-0500
TZOFFSETTO:-0400
TZNAME:EDT
DTSTART:20240310T070000
END:DAYLIGHT
BEGIN:STANDARD
TZOFFSETFROM:-0400
TZOFFSETTO:-0500
TZNAME:EST
DTSTART:20241103T060000
END:STANDARD
BEGIN:DAYLIGHT
TZOFFSETFROM:-0500
TZOFFSETTO:-0400
TZNAME:EDT
DTSTART:20250309T070000
END:DAYLIGHT
BEGIN:STANDARD
TZOFFSETFROM:-0400
TZOFFSETTO:-0500
TZNAME:EST
DTSTART:20251102T060000
END:STANDARD
END:VTIMEZONE
BEGIN:VEVENT
DTSTART;TZID=America/Toronto:20241119T120000
DTEND;TZID=America/Toronto:20241119T130000
DTSTAMP:20260422T074407
CREATED:20241021T152705Z
LAST-MODIFIED:20241021T152705Z
UID:13273-1732017600-1732021200@loyalistcollege.com
SUMMARY:Campus Ice Breakers: Study Skills
DESCRIPTION:Don’t miss our Campus Ice Breakers on Study Skills! Discover techniques for effective studying\, time management\, and staying organized throughout your academic journey. This is the perfect opportunity to share your own strategies and learn from others as you work to enhance your study habits.
URL:https://loyalistcollege.com/event/campus-ice-breakers-study-skills/
LOCATION:Shark Tank Pub\, Kente\, 376 Wallbridge Loyalist Rd.\, Belleville\, Ontario\, K8N 5B9\, Canada
CATEGORIES:Student events
END:VEVENT
BEGIN:VEVENT
DTSTART;TZID=America/Toronto:20241119T140000
DTEND;TZID=America/Toronto:20241119T170000
DTSTAMP:20260422T074407
CREATED:20241021T152233Z
LAST-MODIFIED:20241025T182349Z
UID:13269-1732024800-1732035600@loyalistcollege.com
SUMMARY:Club Pub: Art Showcase
DESCRIPTION:Join us for a Club Pub Art Show\, a collaboration between the Pride Club and the Art Club! Celebrate creativity and diversity as we showcase a stunning array of artworks from talented students. This event is a great opportunity to connect with fellow art lovers\, support our community\, and appreciate the beauty of art.
URL:https://loyalistcollege.com/event/club-pub-art-show/
LOCATION:Shark Tank Pub\, Kente\, 376 Wallbridge Loyalist Rd.\, Belleville\, Ontario\, K8N 5B9\, Canada
CATEGORIES:Student events
END:VEVENT
BEGIN:VEVENT
DTSTART;TZID=America/Toronto:20241119T140000
DTEND;TZID=America/Toronto:20241119T170000
DTSTAMP:20260422T074407
CREATED:20241031T135649Z
LAST-MODIFIED:20241101T184845Z
UID:13467-1732024800-1732035600@loyalistcollege.com
SUMMARY:Free Winter Wardrobe event - Belleville Campus
DESCRIPTION:The Free Winter Wardrobe event is a chance for community members in need to pick up donated winter gear\, including jackets\, hats\, gloves\, and more. Drop by the Shark Tank on Tuesday\, November 19 if you are in need of any winter gear for the upcoming season!
URL:https://loyalistcollege.com/event/clothing-swap-belleville-campus/
LOCATION:Shark Tank Pub\, Kente\, 376 Wallbridge Loyalist Rd.\, Belleville\, Ontario\, K8N 5B9\, Canada
CATEGORIES:Student events
END:VEVENT
BEGIN:VEVENT
DTSTART;TZID=America/Toronto:20241105T160000
DTEND;TZID=America/Toronto:20241105T180000
DTSTAMP:20260422T074407
CREATED:20241015T154210Z
LAST-MODIFIED:20241121T182940Z
UID:13106-1730822400-1730829600@loyalistcollege.com
SUMMARY:Drop-in rec
DESCRIPTION:Looking for a flexible way to stay active? Drop-in rec at Loyalist College offers a relaxed\, no-pressure environment where you can participate in a variety of activities at your own pace. Whether you’re interested in shooting hoops\, playing badminton\, or just getting some exercise\, drop by when it suits your schedule. No commitment—just fun and fitness whenever you’re ready!
URL:https://loyalistcollege.com/event/drop-in-rec-2/
LOCATION:Sports Dome\, 284 Wallbridge Loyalist Road\, Belleville
CATEGORIES:Campus rec
END:VEVENT
END:VCALENDAR