BEGIN:VCALENDAR
VERSION:2.0
PRODID:-//Loyalist College - ECPv6.15.18//NONSGML v1.0//EN
CALSCALE:GREGORIAN
METHOD:PUBLISH
X-ORIGINAL-URL:https://loyalistcollege.com
X-WR-CALDESC:Events for Loyalist College
REFRESH-INTERVAL;VALUE=DURATION:PT1H
X-Robots-Tag:noindex
X-PUBLISHED-TTL:PT1H
BEGIN:VTIMEZONE
TZID:America/Toronto
BEGIN:DAYLIGHT
TZOFFSETFROM:-0500
TZOFFSETTO:-0400
TZNAME:EDT
DTSTART:20230312T070000
END:DAYLIGHT
BEGIN:STANDARD
TZOFFSETFROM:-0400
TZOFFSETTO:-0500
TZNAME:EST
DTSTART:20231105T060000
END:STANDARD
BEGIN:DAYLIGHT
TZOFFSETFROM:-0500
TZOFFSETTO:-0400
TZNAME:EDT
DTSTART:20240310T070000
END:DAYLIGHT
BEGIN:STANDARD
TZOFFSETFROM:-0400
TZOFFSETTO:-0500
TZNAME:EST
DTSTART:20241103T060000
END:STANDARD
BEGIN:DAYLIGHT
TZOFFSETFROM:-0500
TZOFFSETTO:-0400
TZNAME:EDT
DTSTART:20250309T070000
END:DAYLIGHT
BEGIN:STANDARD
TZOFFSETFROM:-0400
TZOFFSETTO:-0500
TZNAME:EST
DTSTART:20251102T060000
END:STANDARD
END:VTIMEZONE
BEGIN:VEVENT
DTSTART;TZID=America/Toronto:20240910T113000
DTEND;TZID=America/Toronto:20240910T133000
DTSTAMP:20260421T193646
CREATED:20240823T195433Z
LAST-MODIFIED:20240906T204343Z
UID:7058-1725967800-1725975000@loyalistcollege.com
SUMMARY:Engagement fair
DESCRIPTION:Join us for an Engagement Fair in collaboration with the Port Hope Chamber of Commerce. Explore both internal services and community partners. Lunch will be provided for students.
URL:https://loyalistcollege.com/event/engagement-fair/
LOCATION:Loyalist College Port Hope – Great Hall\, 10 Pine Street South\, Port Hope\, ON\, Canada
CATEGORIES:Community,Student events
END:VEVENT
BEGIN:VEVENT
DTSTART;TZID=America/Toronto:20240910T140000
DTEND;TZID=America/Toronto:20240910T170000
DTSTAMP:20260421T193646
CREATED:20240823T205805Z
LAST-MODIFIED:20240823T212713Z
UID:7133-1725976800-1725987600@loyalistcollege.com
SUMMARY:Club fair
DESCRIPTION:Discover your passion and get involved at the Club and Student Activity Fair! Explore a wide range of clubs\, organizations\, and activities that Loyalist has to offer. This fair is the perfect opportunity to connect with like-minded students\, learn about different groups\, and find out how you can join in. 
URL:https://loyalistcollege.com/event/club-fair/
LOCATION:Shark Tank Pub\, Kente\, 376 Wallbridge Loyalist Rd.\, Belleville\, Ontario\, K8N 5B9\, Canada
CATEGORIES:Student events
END:VEVENT
BEGIN:VEVENT
DTSTART;TZID=America/Toronto:20240910T140000
DTEND;TZID=America/Toronto:20240910T170000
DTSTAMP:20260421T193646
CREATED:20240823T211855Z
LAST-MODIFIED:20240823T212652Z
UID:7138-1725976800-1725987600@loyalistcollege.com
SUMMARY:Bouquets and bubbly
DESCRIPTION:Unleash your creativity and learn the art of bouquet making with expert guidance from Designs by Alexis Rose. In this fun\, hands-on workshop\, you’ll craft your own beautiful floral arrangements while sipping on some bubbly. 
URL:https://loyalistcollege.com/event/bouquets-and-bubbly/
LOCATION:Shark Tank Pub\, Kente\, 376 Wallbridge Loyalist Rd.\, Belleville\, Ontario\, K8N 5B9\, Canada
CATEGORIES:Creative workshops,Student events
END:VEVENT
BEGIN:VEVENT
DTSTART;TZID=America/Toronto:20240910T200000
DTEND;TZID=America/Toronto:20240910T220000
DTSTAMP:20260421T193646
CREATED:20240823T220742Z
LAST-MODIFIED:20241015T152856Z
UID:7210-1725998400-1726005600@loyalistcollege.com
SUMMARY:Intramurals
DESCRIPTION:Our intramural programs offer a fun and inclusive way to stay active\, compete\, and connect with fellow students. With a range of sports and games to choose from\, there’s something for everyone\, whether you’re a seasoned athlete or just looking to enjoy some friendly competition. Get involved\, make new friends\, and show off your team spirit with Loyalist’s intramural leagues!
URL:https://loyalistcollege.com/event/late-night-campus-rec/
LOCATION:Outdoor Field\, 376 Wallbridge Loyalist Rd.\, Belleville\, Ontario\, K8N 5B9\, Canada
CATEGORIES:Campus rec,Student events
END:VEVENT
END:VCALENDAR