BEGIN:VCALENDAR
VERSION:2.0
PRODID:-//Loyalist College - ECPv6.15.18//NONSGML v1.0//EN
CALSCALE:GREGORIAN
METHOD:PUBLISH
X-WR-CALNAME:Loyalist College
X-ORIGINAL-URL:https://loyalistcollege.com
X-WR-CALDESC:Events for Loyalist College
REFRESH-INTERVAL;VALUE=DURATION:PT1H
X-Robots-Tag:noindex
X-PUBLISHED-TTL:PT1H
BEGIN:VTIMEZONE
TZID:America/Toronto
BEGIN:DAYLIGHT
TZOFFSETFROM:-0500
TZOFFSETTO:-0400
TZNAME:EDT
DTSTART:20230312T070000
END:DAYLIGHT
BEGIN:STANDARD
TZOFFSETFROM:-0400
TZOFFSETTO:-0500
TZNAME:EST
DTSTART:20231105T060000
END:STANDARD
BEGIN:DAYLIGHT
TZOFFSETFROM:-0500
TZOFFSETTO:-0400
TZNAME:EDT
DTSTART:20240310T070000
END:DAYLIGHT
BEGIN:STANDARD
TZOFFSETFROM:-0400
TZOFFSETTO:-0500
TZNAME:EST
DTSTART:20241103T060000
END:STANDARD
BEGIN:DAYLIGHT
TZOFFSETFROM:-0500
TZOFFSETTO:-0400
TZNAME:EDT
DTSTART:20250309T070000
END:DAYLIGHT
BEGIN:STANDARD
TZOFFSETFROM:-0400
TZOFFSETTO:-0500
TZNAME:EST
DTSTART:20251102T060000
END:STANDARD
END:VTIMEZONE
BEGIN:VEVENT
DTSTART;TZID=America/Toronto:20240903T210000
DTEND;TZID=America/Toronto:20240904T010000
DTSTAMP:20260422T091046
CREATED:20240823T185641Z
LAST-MODIFIED:20240830T133755Z
UID:6973-1725397200-1725411600@loyalistcollege.com
SUMMARY:Tiki pub night
DESCRIPTION:Escape to the tropics without leaving campus at our Tiki-themed pub night! Head to the Shark Tank Pub for a night of island-inspired drinks\, music\, and dancing. It’s a great way to meet new friends and get into the orientation spirit.
URL:https://loyalistcollege.com/event/tiki-pub-night/
LOCATION:Shark Tank Pub\, Kente\, 376 Wallbridge Loyalist Rd.\, Belleville\, Ontario\, K8N 5B9\, Canada
CATEGORIES:Orientation,Student events
END:VEVENT
BEGIN:VEVENT
DTSTART;TZID=America/Toronto:20240904T110000
DTEND;TZID=America/Toronto:20240904T130000
DTSTAMP:20260422T091046
CREATED:20240823T185840Z
LAST-MODIFIED:20240823T185840Z
UID:6975-1725447600-1725454800@loyalistcollege.com
SUMMARY:Sharkie social
DESCRIPTION:Get ready for a fun afternoon at the Sharkie social in the Shark tank pub! It’s the perfect spot to relax\, hang out\, and enjoy some good company. Plus\, we’ve got free freezies and pop to keep you cool. Don’t miss out—come join the fun!
URL:https://loyalistcollege.com/event/sharkie-social/
LOCATION:Shark Tank Pub\, Kente\, 376 Wallbridge Loyalist Rd.\, Belleville\, Ontario\, K8N 5B9\, Canada
CATEGORIES:Orientation,Student events
END:VEVENT
BEGIN:VEVENT
DTSTART;TZID=America/Toronto:20240904T120000
DTEND;TZID=America/Toronto:20240904T130000
DTSTAMP:20260422T091046
CREATED:20240823T190443Z
LAST-MODIFIED:20240823T190443Z
UID:6977-1725451200-1725454800@loyalistcollege.com
SUMMARY:Land the job workshop
DESCRIPTION:Are you looking for a job? We can help! \nJoin us for a fun and informative Career Centre workshop. Learn how to write a cover letter and resume\, important interview skills\, employer expectations\, and how to avoid job scams. \nRegister to attend by logging into the MyCareer Portal and selecting the event in the “Events and Workshops” section. 
URL:https://loyalistcollege.com/event/land-the-job-workshop/
LOCATION:Link lounge\, Kente\, 376 Wallbridge Loyalist Rd\, Belleville\, K8N 5B9\, Canada
CATEGORIES:Career services,Student events
END:VEVENT
BEGIN:VEVENT
DTSTART;TZID=America/Toronto:20240904T120000
DTEND;TZID=America/Toronto:20240904T150000
DTSTAMP:20260422T091046
CREATED:20240824T213255Z
LAST-MODIFIED:20240824T213255Z
UID:7778-1725451200-1725462000@loyalistcollege.com
SUMMARY:Official welcome and student social
DESCRIPTION:Get your Loyalist College red hoodie\, enjoy a free lunch\, play games\, and get assistance with your Loyalist Student ID card.
URL:https://loyalistcollege.com/event/official-welcome-and-student-social/
LOCATION:Loyalist College Port Hope – Great Hall\, 10 Pine Street South\, Port Hope\, ON\, Canada
CATEGORIES:Orientation,Student events
END:VEVENT
BEGIN:VEVENT
DTSTART;TZID=America/Toronto:20240904T130000
DTEND;TZID=America/Toronto:20240904T160000
DTSTAMP:20260422T091046
CREATED:20240823T192305Z
LAST-MODIFIED:20240823T204549Z
UID:6980-1725454800-1725465600@loyalistcollege.com
SUMMARY:SIN clinic
DESCRIPTION:Apply for your Social Insurance Number (SIN) on campus with a Service Canada Representative. Register through the myCareer Portal under Events and Workshops. Don’t forget to bring your passport (any country) and study permit.
URL:https://loyalistcollege.com/event/sin-clinic/
LOCATION:Room 2H3\, Kente\, 376 Wallbridge Loyalist Rd.\, Belleville\, Ontario\, K8N 5B9\, Canada
CATEGORIES:Career services,International students,Student events
END:VEVENT
BEGIN:VEVENT
DTSTART;TZID=America/Toronto:20240904T160000
DTEND;TZID=America/Toronto:20240904T180000
DTSTAMP:20260422T091046
CREATED:20240830T131326Z
LAST-MODIFIED:20240830T131326Z
UID:9017-1725465600-1725472800@loyalistcollege.com
SUMMARY:Pickleball
DESCRIPTION:Swing by the Sports Pad for a pickleball session during Orientation Week. Whether you’re a seasoned player or trying it out for the first time\, it’s a great way to meet new people and enjoy the game. We’ve got all the gear covered—just bring yourself and get ready to play.
URL:https://loyalistcollege.com/event/pickleball/
LOCATION:Sports pad\, 376 Wallbridge Loyalist Rd.\, Belleville\, Ontario\, K8N 5B9\, Canada
CATEGORIES:Campus rec,Orientation,Student events
END:VEVENT
BEGIN:VEVENT
DTSTART;TZID=America/Toronto:20240904T180000
DTEND;TZID=America/Toronto:20240904T210000
DTSTAMP:20260422T091046
CREATED:20240823T193136Z
LAST-MODIFIED:20240823T211954Z
UID:6996-1725472800-1725483600@loyalistcollege.com
SUMMARY:Your Creative Junction Workshop: DIY trucker hats
DESCRIPTION:Get ready to personalize your style at the DIY trucker hats workshop! Guided by the talented team at Your Creative Junction\, you’ll have the chance to design and create your very own unique trucker hat.
URL:https://loyalistcollege.com/event/your-creative-junction-workshop-diy-trucker-hats/
LOCATION:Shark Tank Pub\, Kente\, 376 Wallbridge Loyalist Rd.\, Belleville\, Ontario\, K8N 5B9\, Canada
CATEGORIES:Creative workshops,Orientation,Student events
END:VEVENT
BEGIN:VEVENT
DTSTART;TZID=America/Toronto:20240904T193000
DTEND;TZID=America/Toronto:20240904T213000
DTSTAMP:20260422T091046
CREATED:20240823T194716Z
LAST-MODIFIED:20240829T183858Z
UID:7050-1725478200-1725485400@loyalistcollege.com
SUMMARY:Outdoor movie night
DESCRIPTION:Experience the thrill of the new Twister movie under the stars at our outdoor screening! Bring your friends\, a cozy blanket\, and get ready for a fun night of cinema and suspense in the fresh air.
URL:https://loyalistcollege.com/event/outdoor-movie-night/
LOCATION:Shark tank patio\, Kente\, 376 Wallbridge-Loyalist Rd.\, BELLEVILLE\, Ontario\, K8N5B9\, Canada
CATEGORIES:Orientation,Student events
END:VEVENT
END:VCALENDAR