BEGIN:VCALENDAR
VERSION:2.0
PRODID:-//Loyalist College - ECPv6.15.18//NONSGML v1.0//EN
CALSCALE:GREGORIAN
METHOD:PUBLISH
X-WR-CALNAME:Loyalist College
X-ORIGINAL-URL:https://loyalistcollege.com
X-WR-CALDESC:Events for Loyalist College
REFRESH-INTERVAL;VALUE=DURATION:PT1H
X-Robots-Tag:noindex
X-PUBLISHED-TTL:PT1H
BEGIN:VTIMEZONE
TZID:America/Toronto
BEGIN:DAYLIGHT
TZOFFSETFROM:-0500
TZOFFSETTO:-0400
TZNAME:EDT
DTSTART:20240310T070000
END:DAYLIGHT
BEGIN:STANDARD
TZOFFSETFROM:-0400
TZOFFSETTO:-0500
TZNAME:EST
DTSTART:20241103T060000
END:STANDARD
BEGIN:DAYLIGHT
TZOFFSETFROM:-0500
TZOFFSETTO:-0400
TZNAME:EDT
DTSTART:20250309T070000
END:DAYLIGHT
BEGIN:STANDARD
TZOFFSETFROM:-0400
TZOFFSETTO:-0500
TZNAME:EST
DTSTART:20251102T060000
END:STANDARD
BEGIN:DAYLIGHT
TZOFFSETFROM:-0500
TZOFFSETTO:-0400
TZNAME:EDT
DTSTART:20260308T070000
END:DAYLIGHT
BEGIN:STANDARD
TZOFFSETFROM:-0400
TZOFFSETTO:-0500
TZNAME:EST
DTSTART:20261101T060000
END:STANDARD
END:VTIMEZONE
BEGIN:VEVENT
DTSTART;TZID=America/Toronto:20250311T110000
DTEND;TZID=America/Toronto:20250311T112000
DTSTAMP:20260421T064338
CREATED:20250227T162911Z
LAST-MODIFIED:20250227T162911Z
UID:16864-1741690800-1741692000@loyalistcollege.com
SUMMARY:What’s in a Name Workshop
DESCRIPTION:Explore the significance of names in shaping identity and personal narrative in this engaging workshop. Through creative activities and discussion\, reflect on your own name and learn how to foster respect for names in diverse settings. No registration required—first come\, first served with a maximum of 7 participants per workshop.
URL:https://loyalistcollege.com/event/whats-in-a-name-workshop-3/
LOCATION:Room 2H13
CATEGORIES:Creative workshops,Student events
END:VEVENT
BEGIN:VEVENT
DTSTART;TZID=America/Toronto:20250311T113000
DTEND;TZID=America/Toronto:20250311T115000
DTSTAMP:20260421T064338
CREATED:20250227T163417Z
LAST-MODIFIED:20250227T163417Z
UID:16868-1741692600-1741693800@loyalistcollege.com
SUMMARY:What’s in a Name Workshop
DESCRIPTION:Explore the significance of names in shaping identity and personal narrative in this engaging workshop. Through creative activities and discussion\, reflect on your own name and learn how to foster respect for names in diverse settings. No registration required—first come\, first served with a maximum of 7 participants per workshop.
URL:https://loyalistcollege.com/event/whats-in-a-name-workshop-4/
LOCATION:Room 2H13
CATEGORIES:Creative workshops,Student events
END:VEVENT
END:VCALENDAR