BEGIN:VCALENDAR
VERSION:2.0
PRODID:-//Loyalist College - ECPv6.15.18//NONSGML v1.0//EN
CALSCALE:GREGORIAN
METHOD:PUBLISH
X-ORIGINAL-URL:https://loyalistcollege.com
X-WR-CALDESC:Events for Loyalist College
REFRESH-INTERVAL;VALUE=DURATION:PT1H
X-Robots-Tag:noindex
X-PUBLISHED-TTL:PT1H
BEGIN:VTIMEZONE
TZID:America/Toronto
BEGIN:DAYLIGHT
TZOFFSETFROM:-0500
TZOFFSETTO:-0400
TZNAME:EDT
DTSTART:20250309T070000
END:DAYLIGHT
BEGIN:STANDARD
TZOFFSETFROM:-0400
TZOFFSETTO:-0500
TZNAME:EST
DTSTART:20251102T060000
END:STANDARD
BEGIN:DAYLIGHT
TZOFFSETFROM:-0500
TZOFFSETTO:-0400
TZNAME:EDT
DTSTART:20260308T070000
END:DAYLIGHT
BEGIN:STANDARD
TZOFFSETFROM:-0400
TZOFFSETTO:-0500
TZNAME:EST
DTSTART:20261101T060000
END:STANDARD
BEGIN:DAYLIGHT
TZOFFSETFROM:-0500
TZOFFSETTO:-0400
TZNAME:EDT
DTSTART:20270314T070000
END:DAYLIGHT
BEGIN:STANDARD
TZOFFSETFROM:-0400
TZOFFSETTO:-0500
TZNAME:EST
DTSTART:20271107T060000
END:STANDARD
END:VTIMEZONE
BEGIN:VEVENT
DTSTART;TZID=America/Toronto:20260124T090000
DTEND;TZID=America/Toronto:20260124T120000
DTSTAMP:20260422T182402
CREATED:20260105T200701Z
LAST-MODIFIED:20260116T210955Z
UID:22200-1769245200-1769256000@loyalistcollege.com
SUMMARY:Winter Open House 🚪
DESCRIPTION:Join us for Open House on Saturday\, Jan. 24\, 2026 from 9 a.m. – 12 p.m. to learn about our programs\, student services\, funding options and much more. There’s nothing like checking out campus in person to see if it’s right for you! \nAt Open House\, you’ll be able to:\n\n\nMeet and speak with faculty and students.\nExplore full-time\, in-class programs as well as online and distance courses.\nTour campus\, including residence.\nCheck out program-specific labs and innovative student spaces.\nFind out about our full range of student services.\nDiscover university and college pathways.\nLearn about funding options and financial assistance.\nGet a taste of student life.\nAnd much more!\n\nWe can’t wait to show you around campus and give you the inside scoop on what makes Loyalist a great choice for your post-secondary studies.
URL:https://loyalistcollege.com/event/winter-open-house-%f0%9f%9a%aa/
LOCATION:Loyalist College\, 376 Wallbridge Loyalist Rd.\, Belleville\, Ontario\, Canada
CATEGORIES:Community,General
ATTACH;FMTTYPE=image/png:https://loyalistcollege.com/app/uploads/2025/09/LC-Open-house-Event_IMG_001.png
END:VEVENT
BEGIN:VEVENT
DTSTART;VALUE=DATE:20260216
DTEND;VALUE=DATE:20260217
DTSTAMP:20260422T182402
CREATED:20260128T164913Z
LAST-MODIFIED:20260128T165011Z
UID:23050-1771200000-1771286399@loyalistcollege.com
SUMMARY:Family Day
DESCRIPTION:
URL:https://loyalistcollege.com/event/family-day/
LOCATION:Ontario
CATEGORIES:General,Student events
END:VEVENT
BEGIN:VEVENT
DTSTART;VALUE=DATE:20260223
DTEND;VALUE=DATE:20260228
DTSTAMP:20260422T182402
CREATED:20260122T154939Z
LAST-MODIFIED:20260122T154939Z
UID:22842-1771804800-1772236799@loyalistcollege.com
SUMMARY:Study Week
DESCRIPTION:
URL:https://loyalistcollege.com/event/study-week-3/
LOCATION:Ontario
CATEGORIES:General
END:VEVENT
BEGIN:VEVENT
DTSTART;TZID=America/Toronto:20260411T090000
DTEND;TZID=America/Toronto:20260411T120000
DTSTAMP:20260422T182402
CREATED:20260226T164313Z
LAST-MODIFIED:20260226T193611Z
UID:24218-1775898000-1775908800@loyalistcollege.com
SUMMARY:Spring Open House 🚪
DESCRIPTION:Join us for Open House on Saturday\, April 11\, 2026 from 9 a.m. – 12 p.m. to learn about our programs\, student services\, funding options and much more. There’s nothing like checking out campus in person to see if it’s right for you! \nPre-register for Open House for a chance to win a $1\,000 tuition credit!*\nPre-register today \nAt Open House\, you’ll be able to:\n\n\nMeet and speak with faculty and students.\nExplore full-time\, in-class programs as well as online and distance courses.\nTour campus\, including residence.\nCheck out program-specific labs and innovative student spaces.\nFind out about our full range of student services.\nDiscover university and college pathways.\nLearn about funding options and financial assistance.\nGet a taste of student life.\nAnd much more!\n\nWe can’t wait to show you around campus and give you the inside scoop on what makes Loyalist a great choice for your post-secondary studies. \n\n*Only pre-registered guests who attend the April 11\, 2026 Open House are eligible to participate in this draw. 
URL:https://loyalistcollege.com/event/spring-open-house/
LOCATION:Loyalist College\, 376 Wallbridge Loyalist Rd.\, Belleville\, Ontario\, Canada
CATEGORIES:Community,General
ATTACH;FMTTYPE=image/png:https://loyalistcollege.com/app/uploads/2025/09/LC-Open-house-Event_IMG_001.png
END:VEVENT
END:VCALENDAR