BEGIN:VCALENDAR
VERSION:2.0
PRODID:-//Loyalist College - ECPv6.15.18//NONSGML v1.0//EN
CALSCALE:GREGORIAN
METHOD:PUBLISH
X-ORIGINAL-URL:https://loyalistcollege.com
X-WR-CALDESC:Events for Loyalist College
REFRESH-INTERVAL;VALUE=DURATION:PT1H
X-Robots-Tag:noindex
X-PUBLISHED-TTL:PT1H
BEGIN:VTIMEZONE
TZID:America/Toronto
BEGIN:DAYLIGHT
TZOFFSETFROM:-0500
TZOFFSETTO:-0400
TZNAME:EDT
DTSTART:20240310T070000
END:DAYLIGHT
BEGIN:STANDARD
TZOFFSETFROM:-0400
TZOFFSETTO:-0500
TZNAME:EST
DTSTART:20241103T060000
END:STANDARD
BEGIN:DAYLIGHT
TZOFFSETFROM:-0500
TZOFFSETTO:-0400
TZNAME:EDT
DTSTART:20250309T070000
END:DAYLIGHT
BEGIN:STANDARD
TZOFFSETFROM:-0400
TZOFFSETTO:-0500
TZNAME:EST
DTSTART:20251102T060000
END:STANDARD
BEGIN:DAYLIGHT
TZOFFSETFROM:-0500
TZOFFSETTO:-0400
TZNAME:EDT
DTSTART:20260308T070000
END:DAYLIGHT
BEGIN:STANDARD
TZOFFSETFROM:-0400
TZOFFSETTO:-0500
TZNAME:EST
DTSTART:20261101T060000
END:STANDARD
END:VTIMEZONE
BEGIN:VEVENT
DTSTART;TZID=America/Toronto:20251208T150000
DTEND;TZID=America/Toronto:20251208T190000
DTSTAMP:20260421T104331
CREATED:20251120T195526Z
LAST-MODIFIED:20251128T144155Z
UID:21743-1765206000-1765220400@loyalistcollege.com
SUMMARY:Free Application Day
DESCRIPTION:Join us for Application Day at our Belleville campus (Link Lounge) on December 8 from 3 to 7 pm. \n  \nApply for FREE on site\, save the $150 application fee\, and get one-on-one support from Loyalist College’s application experts. Our team will guide you through the process and answer any questions you may have. Free applications are only for those starting in January 2026. \n  \nBe sure to bring your high school transcript so an admissions advisor can review your eligibility on the spot. \n  \nWe hope to connect with you soon! \n  \n*The free application offer is available to new domestic applicants and new international students living in Canada with a valid study permit\, applying for January 2026. \n  \n\n\n\n\n\n\n\n\n\n\n\nClick here to register for App Day!\n\n \n  \nPrograms with a January 2026 start date: \n\n911 and Public Safety Communications\nCivil Engineering Technician\nBusiness – Accounting\nCommunity and Justice Services\nConstruction Engineering Technician\nCustoms Border Services\nElectrical Engineering Technician\nHeating\, Refrigeration and Air Conditioning Technician\nHuman Resources Management (Online)\nPolice Foundations\nPre-Health Sciences Pathway to Advanced Diplomas and Degrees\nSocial Service Worker\nWelding Techniques
URL:https://loyalistcollege.com/event/free-application-day-3/
LOCATION:Link Lounge\, Kente Building\, 376 Wallbridge Loyalist Rd.\, Belleville\, Ontario\, K8N 5B9\, Canada
CATEGORIES:Community,General
ATTACH;FMTTYPE=image/jpeg:https://loyalistcollege.com/app/uploads/2025/07/App-Day-Cover-Photo-scaled.jpg
END:VEVENT
END:VCALENDAR