BEGIN:VCALENDAR
VERSION:2.0
PRODID:-//Loyalist College - ECPv6.15.18//NONSGML v1.0//EN
CALSCALE:GREGORIAN
METHOD:PUBLISH
X-WR-CALNAME:Loyalist College
X-ORIGINAL-URL:https://loyalistcollege.com
X-WR-CALDESC:Events for Loyalist College
REFRESH-INTERVAL;VALUE=DURATION:PT1H
X-Robots-Tag:noindex
X-PUBLISHED-TTL:PT1H
BEGIN:VTIMEZONE
TZID:America/Toronto
BEGIN:DAYLIGHT
TZOFFSETFROM:-0500
TZOFFSETTO:-0400
TZNAME:EDT
DTSTART:20250309T070000
END:DAYLIGHT
BEGIN:STANDARD
TZOFFSETFROM:-0400
TZOFFSETTO:-0500
TZNAME:EST
DTSTART:20251102T060000
END:STANDARD
BEGIN:DAYLIGHT
TZOFFSETFROM:-0500
TZOFFSETTO:-0400
TZNAME:EDT
DTSTART:20260308T070000
END:DAYLIGHT
BEGIN:STANDARD
TZOFFSETFROM:-0400
TZOFFSETTO:-0500
TZNAME:EST
DTSTART:20261101T060000
END:STANDARD
BEGIN:DAYLIGHT
TZOFFSETFROM:-0500
TZOFFSETTO:-0400
TZNAME:EDT
DTSTART:20270314T070000
END:DAYLIGHT
BEGIN:STANDARD
TZOFFSETFROM:-0400
TZOFFSETTO:-0500
TZNAME:EST
DTSTART:20271107T060000
END:STANDARD
END:VTIMEZONE
BEGIN:VEVENT
DTSTART;TZID=America/Toronto:20260427T110000
DTEND;TZID=America/Toronto:20260427T140000
DTSTAMP:20260423T161921
CREATED:20260423T201252Z
LAST-MODIFIED:20260423T201303Z
UID:25149-1777287600-1777298400@loyalistcollege.com
SUMMARY:Spring Orientation Day
DESCRIPTION:Orientation day is your chance to meet your classmates for the first time\, get to know campus and have some fun! \n\n11 am – 12 pm: Official Welcome (Gym)\n12 pm – 2 pm: Academic orientation (Assigned rooms)\n11 am – 1 pm: Sharkie Social (Shark Tank Pub) 
URL:https://loyalistcollege.com/event/spring-orientation-day-2/
CATEGORIES:Orientation,Student events
ATTACH;FMTTYPE=image/jpeg:https://loyalistcollege.com/app/uploads/2025/06/Orientation_Highlights_IMG_1-scaled.jpg
END:VEVENT
END:VCALENDAR